BEGIN:VCALENDAR
VERSION:2.0
PRODID:-//Bergen Community College - ECPv6.15.15//NONSGML v1.0//EN
CALSCALE:GREGORIAN
METHOD:PUBLISH
X-WR-CALNAME:Bergen Community College
X-ORIGINAL-URL:https://bergen.edu
X-WR-CALDESC:Events for Bergen Community College
REFRESH-INTERVAL;VALUE=DURATION:PT1H
X-Robots-Tag:noindex
X-PUBLISHED-TTL:PT1H
BEGIN:VTIMEZONE
TZID:America/New_York
BEGIN:DAYLIGHT
TZOFFSETFROM:-0500
TZOFFSETTO:-0400
TZNAME:EDT
DTSTART:20190310T070000
END:DAYLIGHT
BEGIN:STANDARD
TZOFFSETFROM:-0400
TZOFFSETTO:-0500
TZNAME:EST
DTSTART:20191103T060000
END:STANDARD
BEGIN:DAYLIGHT
TZOFFSETFROM:-0500
TZOFFSETTO:-0400
TZNAME:EDT
DTSTART:20200308T070000
END:DAYLIGHT
BEGIN:STANDARD
TZOFFSETFROM:-0400
TZOFFSETTO:-0500
TZNAME:EST
DTSTART:20201101T060000
END:STANDARD
BEGIN:DAYLIGHT
TZOFFSETFROM:-0500
TZOFFSETTO:-0400
TZNAME:EDT
DTSTART:20210314T070000
END:DAYLIGHT
BEGIN:STANDARD
TZOFFSETFROM:-0400
TZOFFSETTO:-0500
TZNAME:EST
DTSTART:20211107T060000
END:STANDARD
END:VTIMEZONE
BEGIN:VEVENT
DTSTART;VALUE=DATE:20200806
DTEND;VALUE=DATE:20200807
DTSTAMP:20260424T002254
CREATED:20200603T202421Z
LAST-MODIFIED:20200605T184839Z
UID:15732-1596672000-1596758399@bergen.edu
SUMMARY:Summer 2 and Summer U End
DESCRIPTION:
URL:https://bergen.edu/event/summer-2-and-u-end/
CATEGORIES:Academic Calendar
END:VEVENT
BEGIN:VEVENT
DTSTART;TZID=America/New_York:20200806T120000
DTEND;TZID=America/New_York:20200806T124500
DTSTAMP:20260424T002254
CREATED:20200730T172118Z
LAST-MODIFIED:20200730T172123Z
UID:16460-1596715200-1596717900@bergen.edu
SUMMARY:Home Workout Session with Master Phil
DESCRIPTION:Keep the COVID “15” off\, maintain a healthy weight during quarantine\, elevate your mood\, and become stronger – all without leaving your home. No equipment beyond common household items needed. Develop your strength and improve your fitness levels every Thursday at noon! Join Master Phil as he leads the class through a 30-minute session of body weight exercises designed to address participants of all levels with beginner and advanced movements. We look forward to seeing you every Thursday for our Live Sessions! For this week’s workout\, please find a carpeted area at home or bring a floor mat or towel.
URL:https://bergen.edu/event/home-workout-session-with-master-phil-8/
LOCATION:Virtual Campus
CATEGORIES:Virtual Life
ATTACH;FMTTYPE=image/jpeg:https://bergen.edu/wp-content/uploads/Fitness-Friday-with-Master-Phil.jpg
ORGANIZER;CN="Virtual Life":MAILTO:virtuallife@bergen.edu
END:VEVENT
BEGIN:VEVENT
DTSTART;TZID=America/New_York:20200806T200000
DTEND;TZID=America/New_York:20200806T204500
DTSTAMP:20260424T002254
CREATED:20200730T171721Z
LAST-MODIFIED:20200730T171733Z
UID:16457-1596744000-1596746700@bergen.edu
SUMMARY:'Zoom'ba Class
DESCRIPTION:As we flatten the curve\, we wanted to invite you to Zoomba (aka Zumba on Zoom). This virtual dance/workout class will be led by Ana Parra Vera who is not only an analytics rockstar at UC Davis MSBA\, but also a certified Zumba instructor. We hope to combat the effects of social isolation\, and relieve some stress while connecting in a fun way. As with all health activities\, please make sure you are in good health and cleared with your doctor or healthcare professional for these activities\, and you self-monitor and adjust movements as needed for your safety. You can join just for the sessions you’d like\, and stay for as long as you want. Once you RSVP on the Google Form\, you’ll get the standing Zoom room.
URL:https://bergen.edu/event/zoomba-class-25/
LOCATION:Virtual Campus
CATEGORIES:Virtual Life
ATTACH;FMTTYPE=image/jpeg:https://bergen.edu/wp-content/uploads/Zumba.jpg
ORGANIZER;CN="Virtual Life":MAILTO:virtuallife@bergen.edu
END:VEVENT
END:VCALENDAR