BEGIN:VCALENDAR
VERSION:2.0
PRODID:-//Bergen Community College - ECPv6.15.15//NONSGML v1.0//EN
CALSCALE:GREGORIAN
METHOD:PUBLISH
X-WR-CALNAME:Bergen Community College
X-ORIGINAL-URL:https://bergen.edu
X-WR-CALDESC:Events for Bergen Community College
REFRESH-INTERVAL;VALUE=DURATION:PT1H
X-Robots-Tag:noindex
X-PUBLISHED-TTL:PT1H
BEGIN:VTIMEZONE
TZID:America/New_York
BEGIN:DAYLIGHT
TZOFFSETFROM:-0500
TZOFFSETTO:-0400
TZNAME:EDT
DTSTART:20210314T070000
END:DAYLIGHT
BEGIN:STANDARD
TZOFFSETFROM:-0400
TZOFFSETTO:-0500
TZNAME:EST
DTSTART:20211107T060000
END:STANDARD
BEGIN:DAYLIGHT
TZOFFSETFROM:-0500
TZOFFSETTO:-0400
TZNAME:EDT
DTSTART:20220313T070000
END:DAYLIGHT
BEGIN:STANDARD
TZOFFSETFROM:-0400
TZOFFSETTO:-0500
TZNAME:EST
DTSTART:20221106T060000
END:STANDARD
BEGIN:DAYLIGHT
TZOFFSETFROM:-0500
TZOFFSETTO:-0400
TZNAME:EDT
DTSTART:20230312T070000
END:DAYLIGHT
BEGIN:STANDARD
TZOFFSETFROM:-0400
TZOFFSETTO:-0500
TZNAME:EST
DTSTART:20231105T060000
END:STANDARD
END:VTIMEZONE
BEGIN:VEVENT
DTSTART;TZID=America/New_York:20220804T080000
DTEND;TZID=America/New_York:20220804T170000
DTSTAMP:20260421T184429
CREATED:20220216T171204Z
LAST-MODIFIED:20220216T171204Z
UID:21472-1659600000-1659632400@bergen.edu
SUMMARY:Summer U & Summer 2 ends
DESCRIPTION:
URL:https://bergen.edu/event/summer-u-summer-2-ends-2/
CATEGORIES:Academic Calendar
END:VEVENT
BEGIN:VEVENT
DTSTART;TZID=America/New_York:20220804T150000
DTEND;TZID=America/New_York:20220804T160000
DTSTAMP:20260421T184429
CREATED:20220727T125727Z
LAST-MODIFIED:20220801T203640Z
UID:22732-1659625200-1659628800@bergen.edu
SUMMARY:Paramus Campus Tour
DESCRIPTION:Join us for a student led campus tour of our main campus in Paramus. Tours last approximately 1 hour and you can check in at the Information Desk at the Pitkin Education Center. \nRSVP HERE
URL:https://bergen.edu/event/paramus-campus-tour-14/
LOCATION:Pitkin Educational Center
CATEGORIES:Admissions
ORGANIZER;CN="Admissions Department":MAILTO:admissions@bergen.edu
END:VEVENT
END:VCALENDAR