BEGIN:VCALENDAR
VERSION:2.0
PRODID:-//Bergen Community College - ECPv6.15.15//NONSGML v1.0//EN
CALSCALE:GREGORIAN
METHOD:PUBLISH
X-ORIGINAL-URL:https://bergen.edu
X-WR-CALDESC:Events for Bergen Community College
REFRESH-INTERVAL;VALUE=DURATION:PT1H
X-Robots-Tag:noindex
X-PUBLISHED-TTL:PT1H
BEGIN:VTIMEZONE
TZID:America/New_York
BEGIN:DAYLIGHT
TZOFFSETFROM:-0500
TZOFFSETTO:-0400
TZNAME:EDT
DTSTART:20220313T070000
END:DAYLIGHT
BEGIN:STANDARD
TZOFFSETFROM:-0400
TZOFFSETTO:-0500
TZNAME:EST
DTSTART:20221106T060000
END:STANDARD
BEGIN:DAYLIGHT
TZOFFSETFROM:-0500
TZOFFSETTO:-0400
TZNAME:EDT
DTSTART:20230312T070000
END:DAYLIGHT
BEGIN:STANDARD
TZOFFSETFROM:-0400
TZOFFSETTO:-0500
TZNAME:EST
DTSTART:20231105T060000
END:STANDARD
BEGIN:DAYLIGHT
TZOFFSETFROM:-0500
TZOFFSETTO:-0400
TZNAME:EDT
DTSTART:20240310T070000
END:DAYLIGHT
BEGIN:STANDARD
TZOFFSETFROM:-0400
TZOFFSETTO:-0500
TZNAME:EST
DTSTART:20241103T060000
END:STANDARD
END:VTIMEZONE
BEGIN:VEVENT
DTSTART;TZID=America/New_York:20230911T120000
DTEND;TZID=America/New_York:20230911T150000
DTSTAMP:20260420T032257
CREATED:20230911T133012Z
LAST-MODIFIED:20230912T132130Z
UID:26725-1694433600-1694444400@bergen.edu
SUMMARY:9/11 Day of Service and Remembrance
DESCRIPTION:President Eric M. Friedman will open the event with remarks before The Tunnel to Towers foundation presents retired NYPD detective Terrence McGhee who will provide the keynote address. \nThe American Red Cross NJ volunteers will then speak about their organization\, services and how to get involved. They will also provide information to our students on how to start a Red Cross Club at the college. \nFollowing the events\, a 9/11 Museum documentary webinar will continue throughout the day in the Student Center.
URL:https://bergen.edu/event/9-11-day-of-service-and-remembrance/
LOCATION:Pitkin Educational Center
ORGANIZER;CN="Student Life":MAILTO:studentlife@bergen.edu
END:VEVENT
END:VCALENDAR