BEGIN:VCALENDAR
VERSION:2.0
PRODID:-//Bergen Community College - ECPv6.15.15//NONSGML v1.0//EN
CALSCALE:GREGORIAN
METHOD:PUBLISH
X-WR-CALNAME:Bergen Community College
X-ORIGINAL-URL:https://bergen.edu
X-WR-CALDESC:Events for Bergen Community College
REFRESH-INTERVAL;VALUE=DURATION:PT1H
X-Robots-Tag:noindex
X-PUBLISHED-TTL:PT1H
BEGIN:VTIMEZONE
TZID:America/New_York
BEGIN:DAYLIGHT
TZOFFSETFROM:-0500
TZOFFSETTO:-0400
TZNAME:EDT
DTSTART:20220313T070000
END:DAYLIGHT
BEGIN:STANDARD
TZOFFSETFROM:-0400
TZOFFSETTO:-0500
TZNAME:EST
DTSTART:20221106T060000
END:STANDARD
BEGIN:DAYLIGHT
TZOFFSETFROM:-0500
TZOFFSETTO:-0400
TZNAME:EDT
DTSTART:20230312T070000
END:DAYLIGHT
BEGIN:STANDARD
TZOFFSETFROM:-0400
TZOFFSETTO:-0500
TZNAME:EST
DTSTART:20231105T060000
END:STANDARD
BEGIN:DAYLIGHT
TZOFFSETFROM:-0500
TZOFFSETTO:-0400
TZNAME:EDT
DTSTART:20240310T070000
END:DAYLIGHT
BEGIN:STANDARD
TZOFFSETFROM:-0400
TZOFFSETTO:-0500
TZNAME:EST
DTSTART:20241103T060000
END:STANDARD
END:VTIMEZONE
BEGIN:VEVENT
DTSTART;TZID=America/New_York:20230920T150000
DTEND;TZID=America/New_York:20230920T163000
DTSTAMP:20260420T001538
CREATED:20230823T152602Z
LAST-MODIFIED:20230823T152602Z
UID:26582-1695222000-1695227400@bergen.edu
SUMMARY:Campus Tour & Information Session
DESCRIPTION:Join us for a student-led campus tour followed by an Admissions Information Session. Tours and information sessions will last approximately 1.5 hours. Please check in at the Information Desk in the Pitkin Education Center. \nREGISTER HERE
URL:https://bergen.edu/event/campus-tour-information-session-16/
LOCATION:Pitkin Educational Center
CATEGORIES:Admissions
ORGANIZER;CN="Admissions Department":MAILTO:admissions@bergen.edu
END:VEVENT
BEGIN:VEVENT
DTSTART;TZID=America/New_York:20230920T193000
DTEND;TZID=America/New_York:20230920T210000
DTSTAMP:20260420T001538
CREATED:20231012T121219Z
LAST-MODIFIED:20231012T121219Z
UID:27045-1695238200-1695243600@bergen.edu
SUMMARY:Off the Grid: Passionate Abstractions – Gorky’s Dream Garden
DESCRIPTION:“Off the Grid: Passionate Abstractions – Gorky’s Dream Garden”\n \nSeptember 20th at 7:30pm in the Ciccone Theater  \n“Gorky’s Dream Garden\,” a hybrid opera written and composed by Michelle Ekizian\, will feature performances by musicians\, artists\, and dancers including 2023 Faculty mini grant recipient and organizer of the event\, Lynn Needle\, who will spotlight the life of Arshile Gorky and the Armenian Genocide. The event will pay tribute to Gorky\, a founding father of American abstract expressionism and a child survivor of the 1915 Armenian Genocide\, on the eve of Armenia Independence Day (September 21). \nThe theatrical event will take place Wednesday\, September 20 at 7:30 p.m. in the Anna Maria Ciccone Theatre at Bergen’s main campus (400 Paramus Road\, Paramus\, New Jersey). General admission tickets are $10 ($5 for students) and available at tickets.bergen.edu or by calling (201) 447-7428.
URL:https://bergen.edu/event/off-the-grid-passionate-abstractions-gorkys-dream-garden/
LOCATION:Ciccone Theatre
CATEGORIES:Center For Peace, Justice, Reconciliation
ATTACH;FMTTYPE=image/jpeg:https://bergen.edu/wp-content/uploads/Gorky-Dream-Garden-Publicity-flyer-scaled.jpg
ORGANIZER;CN="Center For Peace%2C Justice%2C Reconciliation":MAILTO:cpjr@bergen.edu
END:VEVENT
END:VCALENDAR