BEGIN:VCALENDAR
VERSION:2.0
PRODID:-//Bergen Community College - ECPv6.15.15//NONSGML v1.0//EN
CALSCALE:GREGORIAN
METHOD:PUBLISH
X-ORIGINAL-URL:https://bergen.edu
X-WR-CALDESC:Events for Bergen Community College
REFRESH-INTERVAL;VALUE=DURATION:PT1H
X-Robots-Tag:noindex
X-PUBLISHED-TTL:PT1H
BEGIN:VTIMEZONE
TZID:America/New_York
BEGIN:DAYLIGHT
TZOFFSETFROM:-0500
TZOFFSETTO:-0400
TZNAME:EDT
DTSTART:20220313T070000
END:DAYLIGHT
BEGIN:STANDARD
TZOFFSETFROM:-0400
TZOFFSETTO:-0500
TZNAME:EST
DTSTART:20221106T060000
END:STANDARD
BEGIN:DAYLIGHT
TZOFFSETFROM:-0500
TZOFFSETTO:-0400
TZNAME:EDT
DTSTART:20230312T070000
END:DAYLIGHT
BEGIN:STANDARD
TZOFFSETFROM:-0400
TZOFFSETTO:-0500
TZNAME:EST
DTSTART:20231105T060000
END:STANDARD
BEGIN:DAYLIGHT
TZOFFSETFROM:-0500
TZOFFSETTO:-0400
TZNAME:EDT
DTSTART:20240310T070000
END:DAYLIGHT
BEGIN:STANDARD
TZOFFSETFROM:-0400
TZOFFSETTO:-0500
TZNAME:EST
DTSTART:20241103T060000
END:STANDARD
END:VTIMEZONE
BEGIN:VEVENT
DTSTART;TZID=America/New_York:20231009T120000
DTEND;TZID=America/New_York:20231009T120000
DTSTAMP:20260420T093747
CREATED:20230927T154052Z
LAST-MODIFIED:20230927T154052Z
UID:26900-1696852800-1696852800@bergen.edu
SUMMARY:Latino Heritage Month - Porta Rock - Student Center
DESCRIPTION:Porta Rock is a known writer\, poet\, and activist who is using his talent to transmit messages and lessons of identity and social protest to the masses.
URL:https://bergen.edu/event/latino-heritage-month-porta-rock-student-center/
LOCATION:Pitkin Educational Center
ORGANIZER;CN="Student Life":MAILTO:studentlife@bergen.edu
END:VEVENT
BEGIN:VEVENT
DTSTART;TZID=America/New_York:20231009T123000
DTEND;TZID=America/New_York:20231009T140000
DTSTAMP:20260420T093747
CREATED:20230927T153926Z
LAST-MODIFIED:20230927T153926Z
UID:26903-1696854600-1696860000@bergen.edu
SUMMARY:Poetry Afternoon with Porta Rock
DESCRIPTION:Poetry Afternoon with Porta Rock \nOctober 9th at 12:30 p.m.\nStudent Center Lounge \nJoin us for a captivating afternoon with Yari “Porta Rock” Pares- the writer\, poet\, and activist extraordinaire! Porta Rock crafts words like spells\, weaving tales that awaken our social conscience and ignite the fires of identity within us all. For more information\, contact cvinas@bergen.edu.
URL:https://bergen.edu/event/poetry-afternoon-with-porta-rock/
LOCATION:Pitkin Educational Center
ORGANIZER;CN="Office of Multicultural Services and Activities":MAILTO:multiculturalservices@bergen.edu
END:VEVENT
END:VCALENDAR