BEGIN:VCALENDAR
VERSION:2.0
PRODID:-//Bergen Community College - ECPv6.15.15//NONSGML v1.0//EN
CALSCALE:GREGORIAN
METHOD:PUBLISH
X-ORIGINAL-URL:https://bergen.edu
X-WR-CALDESC:Events for Bergen Community College
REFRESH-INTERVAL;VALUE=DURATION:PT1H
X-Robots-Tag:noindex
X-PUBLISHED-TTL:PT1H
BEGIN:VTIMEZONE
TZID:America/New_York
BEGIN:DAYLIGHT
TZOFFSETFROM:-0500
TZOFFSETTO:-0400
TZNAME:EDT
DTSTART:20220313T070000
END:DAYLIGHT
BEGIN:STANDARD
TZOFFSETFROM:-0400
TZOFFSETTO:-0500
TZNAME:EST
DTSTART:20221106T060000
END:STANDARD
BEGIN:DAYLIGHT
TZOFFSETFROM:-0500
TZOFFSETTO:-0400
TZNAME:EDT
DTSTART:20230312T070000
END:DAYLIGHT
BEGIN:STANDARD
TZOFFSETFROM:-0400
TZOFFSETTO:-0500
TZNAME:EST
DTSTART:20231105T060000
END:STANDARD
BEGIN:DAYLIGHT
TZOFFSETFROM:-0500
TZOFFSETTO:-0400
TZNAME:EDT
DTSTART:20240310T070000
END:DAYLIGHT
BEGIN:STANDARD
TZOFFSETFROM:-0400
TZOFFSETTO:-0500
TZNAME:EST
DTSTART:20241103T060000
END:STANDARD
BEGIN:DAYLIGHT
TZOFFSETFROM:-0500
TZOFFSETTO:-0400
TZNAME:EDT
DTSTART:20250309T070000
END:DAYLIGHT
BEGIN:STANDARD
TZOFFSETFROM:-0400
TZOFFSETTO:-0500
TZNAME:EST
DTSTART:20251102T060000
END:STANDARD
END:VTIMEZONE
BEGIN:VEVENT
DTSTART;TZID=America/New_York:20231026T080000
DTEND;TZID=America/New_York:20240126T170000
DTSTAMP:20260420T093321
CREATED:20231024T160148Z
LAST-MODIFIED:20231024T160148Z
UID:27132-1698307200-1706288400@bergen.edu
SUMMARY:Teaneck Pride Photography Exhibition: “This Is Who I Am/ This Is Who We Are"
DESCRIPTION:Teaneck Pride Photography Exhibition\, “This Is Who I Am/ This Is Who We Are” Opens in Ender Hall at Bergen Community College \nExhibition will run from October 26\, 2023 through January 26\, 2024 and coincide with the Bergenstages production of The Laramie Project. \nPhotography by Teaneck photographer Danielle Richards \nCurated by Tim Blunk and Rev. Dr. Michelle White \n\nExhibition made possible by a generous grant from the Puffin Foundation Ltd. and private donations.
URL:https://bergen.edu/event/teaneck-pride-photography-exhibition-this-is-who-i-am-this-is-who-we-are/
LOCATION:Ender Hall
ORGANIZER;CN="Gallery Bergen":MAILTO:tblunk@bergen.edu
END:VEVENT
BEGIN:VEVENT
DTSTART;TZID=America/New_York:20231108T100000
DTEND;TZID=America/New_York:20231108T140000
DTSTAMP:20260420T093321
CREATED:20230928T180905Z
LAST-MODIFIED:20230928T180905Z
UID:26915-1699437600-1699452000@bergen.edu
SUMMARY:Fall 2023 Career Fair
DESCRIPTION:Bergen Community College’s Fall 2023 Career Fair on Wednesday\, November 8th from 10:00am-2:00p.m. in the Student Center is open to all Bergen students and alumni! You do not need to register in order to attend\, but you can get a head start by researching the attending employers on Handshake! We advise that participants dress professionally and bring copies of their resumes to distribute. Contact careercenter@bergen.edu with any questions about this event.
URL:https://bergen.edu/event/fall-2023-career-fair/
LOCATION:Pitkin Educational Center
END:VEVENT
BEGIN:VEVENT
DTSTART;TZID=America/New_York:20231108T120000
DTEND;TZID=America/New_York:20231108T130000
DTSTAMP:20260420T093321
CREATED:20231030T151354Z
LAST-MODIFIED:20231030T151354Z
UID:27180-1699444800-1699448400@bergen.edu
SUMMARY:Bergen Bistro - 11/8/2023
DESCRIPTION:The Bergen Bistro is a student dining laboratory where students prepare and serve a four-course meal for $12 per person. The Bergen Bistro is open on Wednesdays and Thursdays at 12 p.m. in room C-210 at the main campus. To request a reservation or to place a take-out order\, please complete the reservation form using the following link: https://forms.gle/fHo5gE78KBPXLowX8. \nFor further information\, please contact Rebekah de Jesus at rdejesus@bergen.edu. \nMenu for 11/8/23 – Mushroom Bisque\, Bergen Bistro House Salad\, Smothered Turkey Wings\, Oven Fried Flounder\, Nashville Hot Cauliflower Steaks – Wild Rice Medley and Sautéed Green Beans accompany all entrées. Dessert: Paula’s Apple Cake – Mocktail: Grape Sangria
URL:https://bergen.edu/event/bergen-bistro-11-8-2023/
LOCATION:Pitkin Educational Center
CATEGORIES:Bergen Bistro
ORGANIZER;CN="Bergen Bistro":MAILTO:rdrakeford@bergen.edu
END:VEVENT
END:VCALENDAR