BEGIN:VCALENDAR
VERSION:2.0
PRODID:-//Bergen Community College - ECPv6.15.15//NONSGML v1.0//EN
CALSCALE:GREGORIAN
METHOD:PUBLISH
X-ORIGINAL-URL:https://bergen.edu
X-WR-CALDESC:Events for Bergen Community College
REFRESH-INTERVAL;VALUE=DURATION:PT1H
X-Robots-Tag:noindex
X-PUBLISHED-TTL:PT1H
BEGIN:VTIMEZONE
TZID:America/New_York
BEGIN:DAYLIGHT
TZOFFSETFROM:-0500
TZOFFSETTO:-0400
TZNAME:EDT
DTSTART:20220313T070000
END:DAYLIGHT
BEGIN:STANDARD
TZOFFSETFROM:-0400
TZOFFSETTO:-0500
TZNAME:EST
DTSTART:20221106T060000
END:STANDARD
BEGIN:DAYLIGHT
TZOFFSETFROM:-0500
TZOFFSETTO:-0400
TZNAME:EDT
DTSTART:20230312T070000
END:DAYLIGHT
BEGIN:STANDARD
TZOFFSETFROM:-0400
TZOFFSETTO:-0500
TZNAME:EST
DTSTART:20231105T060000
END:STANDARD
BEGIN:DAYLIGHT
TZOFFSETFROM:-0500
TZOFFSETTO:-0400
TZNAME:EDT
DTSTART:20240310T070000
END:DAYLIGHT
BEGIN:STANDARD
TZOFFSETFROM:-0400
TZOFFSETTO:-0500
TZNAME:EST
DTSTART:20241103T060000
END:STANDARD
BEGIN:DAYLIGHT
TZOFFSETFROM:-0500
TZOFFSETTO:-0400
TZNAME:EDT
DTSTART:20250309T070000
END:DAYLIGHT
BEGIN:STANDARD
TZOFFSETFROM:-0400
TZOFFSETTO:-0500
TZNAME:EST
DTSTART:20251102T060000
END:STANDARD
END:VTIMEZONE
BEGIN:VEVENT
DTSTART;TZID=America/New_York:20231026T080000
DTEND;TZID=America/New_York:20240126T170000
DTSTAMP:20260423T130800
CREATED:20231024T160148Z
LAST-MODIFIED:20231024T160148Z
UID:27132-1698307200-1706288400@bergen.edu
SUMMARY:Teaneck Pride Photography Exhibition: “This Is Who I Am/ This Is Who We Are"
DESCRIPTION:Teaneck Pride Photography Exhibition\, “This Is Who I Am/ This Is Who We Are” Opens in Ender Hall at Bergen Community College \nExhibition will run from October 26\, 2023 through January 26\, 2024 and coincide with the Bergenstages production of The Laramie Project. \nPhotography by Teaneck photographer Danielle Richards \nCurated by Tim Blunk and Rev. Dr. Michelle White \n\nExhibition made possible by a generous grant from the Puffin Foundation Ltd. and private donations.
URL:https://bergen.edu/event/teaneck-pride-photography-exhibition-this-is-who-i-am-this-is-who-we-are/
LOCATION:Ender Hall
ORGANIZER;CN="Gallery Bergen":MAILTO:tblunk@bergen.edu
END:VEVENT
BEGIN:VEVENT
DTSTART;TZID=America/New_York:20231213T150000
DTEND;TZID=America/New_York:20231213T163000
DTSTAMP:20260423T130800
CREATED:20231116T143552Z
LAST-MODIFIED:20231116T143552Z
UID:27344-1702479600-1702485000@bergen.edu
SUMMARY:Campus Tour & Information Session **Offered fully in Spanish**
DESCRIPTION:Join us for a student-led campus tour followed by an Admissions Information Session. Tours and information sessions will last approximately 1.5 hours. Please check in at the Information Desk in the Pitkin Education Center. \nCampus tour and information session will be given fully in Spanish. \nREGISTER HERE \n 
URL:https://bergen.edu/event/campus-tour-information-session-offered-fully-in-spanish-2/
LOCATION:Pitkin Educational Center
CATEGORIES:Admissions,Info Session
ORGANIZER;CN="Admissions Department":MAILTO:admissions@bergen.edu
END:VEVENT
BEGIN:VEVENT
DTSTART;TZID=America/New_York:20231213T190000
DTEND;TZID=America/New_York:20231213T210000
DTSTAMP:20260423T130800
CREATED:20231129T184750Z
LAST-MODIFIED:20231129T185529Z
UID:27467-1702494000-1702501200@bergen.edu
SUMMARY:Bergen Rocks!
DESCRIPTION:The Bergen Institute for the Creative Arts (BICA) and the BCC Music Program present: \nThe Bergensounds Winter Student Concert Series\nBergen Rocks! \nFeaturing the BCC Pop/Rock Ensemble \nWednesday\, December 13 at 7:00 pm \nDebonair Music Hall\, Teaneck \nDirected by Dr. Andy Krikun
URL:https://bergen.edu/event/bergen-rocks/
LOCATION:Debonair Music Hall\, 1409 Queen Anne Road\, Teaneck\, New Jersey\, 07666\, United States
END:VEVENT
END:VCALENDAR