BEGIN:VCALENDAR
VERSION:2.0
PRODID:-//Bergen Community College - ECPv6.15.15//NONSGML v1.0//EN
CALSCALE:GREGORIAN
METHOD:PUBLISH
X-ORIGINAL-URL:https://bergen.edu
X-WR-CALDESC:Events for Bergen Community College
REFRESH-INTERVAL;VALUE=DURATION:PT1H
X-Robots-Tag:noindex
X-PUBLISHED-TTL:PT1H
BEGIN:VTIMEZONE
TZID:America/New_York
BEGIN:DAYLIGHT
TZOFFSETFROM:-0500
TZOFFSETTO:-0400
TZNAME:EDT
DTSTART:20240310T070000
END:DAYLIGHT
BEGIN:STANDARD
TZOFFSETFROM:-0400
TZOFFSETTO:-0500
TZNAME:EST
DTSTART:20241103T060000
END:STANDARD
BEGIN:DAYLIGHT
TZOFFSETFROM:-0500
TZOFFSETTO:-0400
TZNAME:EDT
DTSTART:20250309T070000
END:DAYLIGHT
BEGIN:STANDARD
TZOFFSETFROM:-0400
TZOFFSETTO:-0500
TZNAME:EST
DTSTART:20251102T060000
END:STANDARD
BEGIN:DAYLIGHT
TZOFFSETFROM:-0500
TZOFFSETTO:-0400
TZNAME:EDT
DTSTART:20260308T070000
END:DAYLIGHT
BEGIN:STANDARD
TZOFFSETFROM:-0400
TZOFFSETTO:-0500
TZNAME:EST
DTSTART:20261101T060000
END:STANDARD
END:VTIMEZONE
BEGIN:VEVENT
DTSTART;TZID=America/New_York:20250606T080000
DTEND;TZID=America/New_York:20250606T170000
DTSTAMP:20260423T185206
CREATED:20250530T153759Z
LAST-MODIFIED:20250530T160023Z
UID:98826-1749196800-1749229200@bergen.edu
SUMMARY:33rd Annual Beacon Conference at Bergen Community College
DESCRIPTION:Bergen Community College will host the 33rd annual Beacon Conference on Friday\, June 6. The Beacon Conference will feature student scholars from various two-year institutions across the Mid-Atlantic Region of the United States. The conference awards the opportunity to community college scholars to conduct and present meaningful research\, and network with peers and faculty from other institutions. \nCheck-in begins at 8:00 a.m.\, followed by poster sessions beginning at 9:00 a.m. Learn more about the Beacon Conference and view the event program at beaconconference.org.
URL:https://bergen.edu/event/33rd-annual-beacon-conference-at-bergen-community-college/
LOCATION:Technology Education Center
CATEGORIES:Home
ATTACH;FMTTYPE=image/jpeg:https://bergen.edu/wp-content/uploads/Beacon-Conference-at-Bergen-Community-College-Event-Calendar-Graphic.jpg
END:VEVENT
END:VCALENDAR