BEGIN:VCALENDAR
VERSION:2.0
PRODID:-//Bergen Community College - ECPv6.15.15//NONSGML v1.0//EN
CALSCALE:GREGORIAN
METHOD:PUBLISH
X-WR-CALNAME:Bergen Community College
X-ORIGINAL-URL:https://bergen.edu
X-WR-CALDESC:Events for Bergen Community College
REFRESH-INTERVAL;VALUE=DURATION:PT1H
X-Robots-Tag:noindex
X-PUBLISHED-TTL:PT1H
BEGIN:VTIMEZONE
TZID:America/New_York
BEGIN:DAYLIGHT
TZOFFSETFROM:-0500
TZOFFSETTO:-0400
TZNAME:EDT
DTSTART:20240310T070000
END:DAYLIGHT
BEGIN:STANDARD
TZOFFSETFROM:-0400
TZOFFSETTO:-0500
TZNAME:EST
DTSTART:20241103T060000
END:STANDARD
BEGIN:DAYLIGHT
TZOFFSETFROM:-0500
TZOFFSETTO:-0400
TZNAME:EDT
DTSTART:20250309T070000
END:DAYLIGHT
BEGIN:STANDARD
TZOFFSETFROM:-0400
TZOFFSETTO:-0500
TZNAME:EST
DTSTART:20251102T060000
END:STANDARD
BEGIN:DAYLIGHT
TZOFFSETFROM:-0500
TZOFFSETTO:-0400
TZNAME:EDT
DTSTART:20260308T070000
END:DAYLIGHT
BEGIN:STANDARD
TZOFFSETFROM:-0400
TZOFFSETTO:-0500
TZNAME:EST
DTSTART:20261101T060000
END:STANDARD
END:VTIMEZONE
BEGIN:VEVENT
DTSTART;VALUE=DATE:20250619
DTEND;VALUE=DATE:20250620
DTSTAMP:20260422T110539
CREATED:20240221T170010Z
LAST-MODIFIED:20241213T212507Z
UID:28440-1750291200-1750377599@bergen.edu
SUMMARY:Juneteenth Holiday
DESCRIPTION:College Closed
URL:https://bergen.edu/event/juneteenth-holiday/
CATEGORIES:Academic Calendar,Home
ATTACH;FMTTYPE=image/jpeg:https://bergen.edu/wp-content/uploads/GenEvent-fedholiday-1224.jpg
END:VEVENT
BEGIN:VEVENT
DTSTART;TZID=America/New_York:20250619T193000
DTEND;TZID=America/New_York:20250619T213000
DTSTAMP:20260422T110539
CREATED:20250516T144836Z
LAST-MODIFIED:20250516T144905Z
UID:92129-1750361400-1750368600@bergen.edu
SUMMARY:Doubt\, A Parable
DESCRIPTION:Examine how people deal with feelings of uncertainty and skepticism in the Bergen Alumni Theatre’s dramatic production of “Doubt\, A Parable.” Set in 1960s America where political and social change dominate the scene\, two characters with polarizing beliefs strongly disagree and experience the manifestation of doubt. \nA progressive young priest is called into question by a school principal with traditional beliefs. As the two scrutinize each other\, their feud threatens irrevocable consequences for everyone involved. \nThe alumni performers are Christine Dunning\, ‘18\, Ray Parente\, ‘20\, and Jordyn Grier-Parham\, ‘24\, alongside Bergen student Francesca Muffoletto. \nDirected by theatre professor Jim Bumgardner and featuring Bergen alumni\, this alumni play is not one to miss! Get your tickets at tickets.bergen.edu.
URL:https://bergen.edu/event/doubt-a-parable-4/
LOCATION:Ender Hall Lab Theatre
CATEGORIES:Home,Student Productions,Theatres at Bergen
ATTACH;FMTTYPE=image/png:https://bergen.edu/wp-content/uploads/DoubtAParable-Monitor-WS.png
ORGANIZER;CN="Theatres at Bergen":MAILTO:cicconetheatre@bergen.edu
END:VEVENT
END:VCALENDAR