BEGIN:VCALENDAR
VERSION:2.0
PRODID:-//Bergen Community College - ECPv6.15.15//NONSGML v1.0//EN
CALSCALE:GREGORIAN
METHOD:PUBLISH
X-ORIGINAL-URL:https://bergen.edu
X-WR-CALDESC:Events for Bergen Community College
REFRESH-INTERVAL;VALUE=DURATION:PT1H
X-Robots-Tag:noindex
X-PUBLISHED-TTL:PT1H
BEGIN:VTIMEZONE
TZID:America/New_York
BEGIN:DAYLIGHT
TZOFFSETFROM:-0500
TZOFFSETTO:-0400
TZNAME:EDT
DTSTART:20250309T070000
END:DAYLIGHT
BEGIN:STANDARD
TZOFFSETFROM:-0400
TZOFFSETTO:-0500
TZNAME:EST
DTSTART:20251102T060000
END:STANDARD
BEGIN:DAYLIGHT
TZOFFSETFROM:-0500
TZOFFSETTO:-0400
TZNAME:EDT
DTSTART:20260308T070000
END:DAYLIGHT
BEGIN:STANDARD
TZOFFSETFROM:-0400
TZOFFSETTO:-0500
TZNAME:EST
DTSTART:20261101T060000
END:STANDARD
BEGIN:DAYLIGHT
TZOFFSETFROM:-0500
TZOFFSETTO:-0400
TZNAME:EDT
DTSTART:20270314T070000
END:DAYLIGHT
BEGIN:STANDARD
TZOFFSETFROM:-0400
TZOFFSETTO:-0500
TZNAME:EST
DTSTART:20271107T060000
END:STANDARD
END:VTIMEZONE
BEGIN:VEVENT
DTSTART;TZID=America/New_York:20260416T150000
DTEND;TZID=America/New_York:20260416T180000
DTSTAMP:20260423T002728
CREATED:20260304T190105Z
LAST-MODIFIED:20260304T190204Z
UID:144002-1776351600-1776362400@bergen.edu
SUMMARY:2026 Spring Open House
DESCRIPTION:Discover your path to success and join us at Bergen Community College’s upcoming Spring Open House. \nExplore our 120+ diverse program offerings\, meet faculty and staff\, tour campus\, and learn about financial aid and tuition-free college opportunities. Gain insight into campus life by meeting current students and connecting with student support services. \nVisit our Paramus Campus on Thursday\, April 16 from 3:00 to 6:00 p.m. to explore the opportunities awaiting you at Bergen. \nStart your future at one of New Jersey’s top community colleges! RSVP for the Open House at openhouse.bergen.edu. 
URL:https://bergen.edu/event/spring-2026-open-house/
LOCATION:Pitkin Educational Center
CATEGORIES:Admissions,Home,Info Session
ATTACH;FMTTYPE=image/jpeg:https://bergen.edu/wp-content/uploads/Adm-SprOpenHouse-CalImage-1000x563-0226.jpg
END:VEVENT
END:VCALENDAR