BEGIN:VCALENDAR
VERSION:2.0
PRODID:-//Bergen Community College - ECPv6.15.15//NONSGML v1.0//EN
CALSCALE:GREGORIAN
METHOD:PUBLISH
X-ORIGINAL-URL:https://bergen.edu
X-WR-CALDESC:Events for Bergen Community College
REFRESH-INTERVAL;VALUE=DURATION:PT1H
X-Robots-Tag:noindex
X-PUBLISHED-TTL:PT1H
BEGIN:VTIMEZONE
TZID:America/New_York
BEGIN:DAYLIGHT
TZOFFSETFROM:-0500
TZOFFSETTO:-0400
TZNAME:EDT
DTSTART:20250309T070000
END:DAYLIGHT
BEGIN:STANDARD
TZOFFSETFROM:-0400
TZOFFSETTO:-0500
TZNAME:EST
DTSTART:20251102T060000
END:STANDARD
BEGIN:DAYLIGHT
TZOFFSETFROM:-0500
TZOFFSETTO:-0400
TZNAME:EDT
DTSTART:20260308T070000
END:DAYLIGHT
BEGIN:STANDARD
TZOFFSETFROM:-0400
TZOFFSETTO:-0500
TZNAME:EST
DTSTART:20261101T060000
END:STANDARD
BEGIN:DAYLIGHT
TZOFFSETFROM:-0500
TZOFFSETTO:-0400
TZNAME:EDT
DTSTART:20270314T070000
END:DAYLIGHT
BEGIN:STANDARD
TZOFFSETFROM:-0400
TZOFFSETTO:-0500
TZNAME:EST
DTSTART:20271107T060000
END:STANDARD
END:VTIMEZONE
BEGIN:VEVENT
DTSTART;TZID=America/New_York:20260425T100000
DTEND;TZID=America/New_York:20260425T113000
DTSTAMP:20260422T212555
CREATED:20260204T162945Z
LAST-MODIFIED:20260204T162945Z
UID:143783-1777111200-1777116600@bergen.edu
SUMMARY:¡Explora Tu Futuro! Spanish Campus Tour at Bergen Community College
DESCRIPTION:¡Acompáñanos para una experiencia en el campus! \nJoin us for an exciting\, 1-hour student-led tour of Bergen Community College’s Paramus campus\, followed by an Admissions Information Session and Q&A — all offered entirely in Spanish. \nRegister here to attend.
URL:https://bergen.edu/event/explora-tu-futuro-spanish-campus-tour-at-bergen-community-college-11/
LOCATION:Pitkin Educational Center
CATEGORIES:Admissions,Home,Info Session
ATTACH;FMTTYPE=image/jpeg:https://bergen.edu/wp-content/uploads/GenEvent-admissions-1224.jpg
ORGANIZER;CN="Admissions Department":MAILTO:admissions@bergen.edu
END:VEVENT
BEGIN:VEVENT
DTSTART;TZID=America/New_York:20260428T153000
DTEND;TZID=America/New_York:20260428T170000
DTSTAMP:20260422T212555
CREATED:20260203T180030Z
LAST-MODIFIED:20260203T180030Z
UID:143770-1777390200-1777395600@bergen.edu
SUMMARY:Explore Bergen: Admissions Information Session and Campus Tour
DESCRIPTION:Join us for an informative and welcoming Admissions Information Session and Q&A\, where you’ll learn about Bergen Community College’s academic programs\, application process\, financial aid opportunities\, and student support services. After the session\, enjoy a one-hour student-led walking tour of our beautiful Paramus campus. \nStart your future on the right foot\, and choose Bergen! \nRegister here to attend!.
URL:https://bergen.edu/event/explore-bergen-admissions-information-session-and-campus-tour-20/
LOCATION:Pitkin Educational Center
CATEGORIES:Admissions,Home,Info Session
ATTACH;FMTTYPE=image/jpeg:https://bergen.edu/wp-content/uploads/GenEvent-admissions-1224.jpg
ORGANIZER;CN="Admissions Department":MAILTO:admissions@bergen.edu
END:VEVENT
END:VCALENDAR