BEGIN:VCALENDAR
VERSION:2.0
PRODID:-//Bergen Community College - ECPv6.15.15//NONSGML v1.0//EN
CALSCALE:GREGORIAN
METHOD:PUBLISH
X-WR-CALNAME:Bergen Community College
X-ORIGINAL-URL:https://bergen.edu
X-WR-CALDESC:Events for Bergen Community College
REFRESH-INTERVAL;VALUE=DURATION:PT1H
X-Robots-Tag:noindex
X-PUBLISHED-TTL:PT1H
BEGIN:VTIMEZONE
TZID:America/New_York
BEGIN:DAYLIGHT
TZOFFSETFROM:-0500
TZOFFSETTO:-0400
TZNAME:EDT
DTSTART:20220313T070000
END:DAYLIGHT
BEGIN:STANDARD
TZOFFSETFROM:-0400
TZOFFSETTO:-0500
TZNAME:EST
DTSTART:20221106T060000
END:STANDARD
BEGIN:DAYLIGHT
TZOFFSETFROM:-0500
TZOFFSETTO:-0400
TZNAME:EDT
DTSTART:20230312T070000
END:DAYLIGHT
BEGIN:STANDARD
TZOFFSETFROM:-0400
TZOFFSETTO:-0500
TZNAME:EST
DTSTART:20231105T060000
END:STANDARD
BEGIN:DAYLIGHT
TZOFFSETFROM:-0500
TZOFFSETTO:-0400
TZNAME:EDT
DTSTART:20240310T070000
END:DAYLIGHT
BEGIN:STANDARD
TZOFFSETFROM:-0400
TZOFFSETTO:-0500
TZNAME:EST
DTSTART:20241103T060000
END:STANDARD
END:VTIMEZONE
BEGIN:VEVENT
DTSTART;TZID=America/New_York:20230419T140000
DTEND;TZID=America/New_York:20230419T160000
DTSTAMP:20260424T205944
CREATED:20230321T184839Z
LAST-MODIFIED:20230321T184839Z
UID:25009-1681912800-1681920000@bergen.edu
SUMMARY:FAFSA Workshop - On Campus
DESCRIPTION:Come meet our Financial Aid Advisors who will assist you with filing your FAFSA and answer your questions regarding the Financial Aid process. \nREGISTER HERE
URL:https://bergen.edu/event/fafsa-workshop-on-campus-3/
LOCATION:Pitkin Educational Center
CATEGORIES:Admissions,Financial Aid,Info Session
ORGANIZER;CN="Financial Aid Department":MAILTO:financial.aid@bergen.edu
END:VEVENT
END:VCALENDAR