BEGIN:VCALENDAR
VERSION:2.0
PRODID:-//Bergen Community College - ECPv6.15.15//NONSGML v1.0//EN
CALSCALE:GREGORIAN
METHOD:PUBLISH
X-WR-CALNAME:Bergen Community College
X-ORIGINAL-URL:https://bergen.edu
X-WR-CALDESC:Events for Bergen Community College
REFRESH-INTERVAL;VALUE=DURATION:PT1H
X-Robots-Tag:noindex
X-PUBLISHED-TTL:PT1H
BEGIN:VTIMEZONE
TZID:America/New_York
BEGIN:DAYLIGHT
TZOFFSETFROM:-0500
TZOFFSETTO:-0400
TZNAME:EDT
DTSTART:20240310T070000
END:DAYLIGHT
BEGIN:STANDARD
TZOFFSETFROM:-0400
TZOFFSETTO:-0500
TZNAME:EST
DTSTART:20241103T060000
END:STANDARD
BEGIN:DAYLIGHT
TZOFFSETFROM:-0500
TZOFFSETTO:-0400
TZNAME:EDT
DTSTART:20250309T070000
END:DAYLIGHT
BEGIN:STANDARD
TZOFFSETFROM:-0400
TZOFFSETTO:-0500
TZNAME:EST
DTSTART:20251102T060000
END:STANDARD
BEGIN:DAYLIGHT
TZOFFSETFROM:-0500
TZOFFSETTO:-0400
TZNAME:EDT
DTSTART:20260308T070000
END:DAYLIGHT
BEGIN:STANDARD
TZOFFSETFROM:-0400
TZOFFSETTO:-0500
TZNAME:EST
DTSTART:20261101T060000
END:STANDARD
END:VTIMEZONE
BEGIN:VEVENT
DTSTART;TZID=America/New_York:20250923T120000
DTEND;TZID=America/New_York:20250923T120000
DTSTAMP:20260423T202617
CREATED:20250911T182402Z
LAST-MODIFIED:20250911T182402Z
UID:142608-1758628800-1758628800@bergen.edu
SUMMARY:“Empowerment through Education\, Social Justice & Leadership” with Keynote Speaker Dr. Ana Irazaba de Sanchez
DESCRIPTION:Listen to the keynote address to learn about how education\, social justice\, and leadership can lead to empowerment. Meet keynote speaker Dr. Ana Irazaba de Sanchez in TEC-128.
URL:https://bergen.edu/event/empowerment-through-education-social-justice-leadership-with-keynote-speaker-dr-ana-irazaba-de-sanchez/
LOCATION:Technology Education Center
CATEGORIES:Heritage Month,Home
ATTACH;FMTTYPE=image/png:https://bergen.edu/wp-content/uploads/image.png
ORGANIZER;CN="Office of Multicultural Services and Activities":MAILTO:multiculturalservices@bergen.edu
END:VEVENT
BEGIN:VEVENT
DTSTART;TZID=America/New_York:20250923T123000
DTEND;TZID=America/New_York:20250923T133000
DTSTAMP:20260423T202617
CREATED:20250912T165637Z
LAST-MODIFIED:20250912T165637Z
UID:142616-1758630600-1758634200@bergen.edu
SUMMARY:Loneliness
DESCRIPTION:Professor Jessica Peacock is hosting a mental health workshop that explores the emotional and psychological aspects of loneliness\, and offers a supportive space for participants to share and reflect. The session provides practical skills and coping strategies to recognize\, understand\, and manage feelings of loneliness\, while fostering connection and resilience. \nThe mental health workshop will start at 12:30 p.m. in the Pitkin Education Center\, room S-132.
URL:https://bergen.edu/event/loneliness/
LOCATION:Pitkin Educational Center
CATEGORIES:Home
ATTACH;FMTTYPE=image/png:https://bergen.edu/wp-content/uploads/CounselingWellnessWorkshopSeries-MonitorWS.png
END:VEVENT
END:VCALENDAR