BEGIN:VCALENDAR
VERSION:2.0
PRODID:-//Bergen Community College - ECPv6.15.15//NONSGML v1.0//EN
CALSCALE:GREGORIAN
METHOD:PUBLISH
X-WR-CALNAME:Bergen Community College
X-ORIGINAL-URL:https://bergen.edu
X-WR-CALDESC:Events for Bergen Community College
REFRESH-INTERVAL;VALUE=DURATION:PT1H
X-Robots-Tag:noindex
X-PUBLISHED-TTL:PT1H
BEGIN:VTIMEZONE
TZID:America/New_York
BEGIN:DAYLIGHT
TZOFFSETFROM:-0500
TZOFFSETTO:-0400
TZNAME:EDT
DTSTART:20240310T070000
END:DAYLIGHT
BEGIN:STANDARD
TZOFFSETFROM:-0400
TZOFFSETTO:-0500
TZNAME:EST
DTSTART:20241103T060000
END:STANDARD
BEGIN:DAYLIGHT
TZOFFSETFROM:-0500
TZOFFSETTO:-0400
TZNAME:EDT
DTSTART:20250309T070000
END:DAYLIGHT
BEGIN:STANDARD
TZOFFSETFROM:-0400
TZOFFSETTO:-0500
TZNAME:EST
DTSTART:20251102T060000
END:STANDARD
BEGIN:DAYLIGHT
TZOFFSETFROM:-0500
TZOFFSETTO:-0400
TZNAME:EDT
DTSTART:20260308T070000
END:DAYLIGHT
BEGIN:STANDARD
TZOFFSETFROM:-0400
TZOFFSETTO:-0500
TZNAME:EST
DTSTART:20261101T060000
END:STANDARD
END:VTIMEZONE
BEGIN:VEVENT
DTSTART;TZID=America/New_York:20250925T110000
DTEND;TZID=America/New_York:20250925T110000
DTSTAMP:20260419T115722
CREATED:20250611T125502Z
LAST-MODIFIED:20250611T125612Z
UID:104018-1758798000-1758798000@bergen.edu
SUMMARY:Listen to the Black Chick Sing\, A Ritual
DESCRIPTION:You’re invited to the reading of “Listen to the Black Chick Sing\, A Ritual” by Dr. Thomas O’Neill on September 25 at 11:00 a.m.  \nThe story follows Black Chick who is a wife\, mother\, and lawyer searching for answers to her personal pain and inner rage. After discovering her Native American roots\, Black Chick goes on a personal journey that leads deep within herself and the Arizona desert to engage in the warrior’s ritual of the Sundance. Witness the tale of a woman navigating her newfound roots to find the inner peace she has always yearned for. \nThe reading will feature Omkari Williams\, an activist and author presenting her book “Micro Activism.” \nAdmission is free\, but reservations are encouraged at tickets.bergen.edu. 
URL:https://bergen.edu/event/listen-to-the-black-chick-sing-a-ritual/
LOCATION:Ciccone Theatre
CATEGORIES:Center For Peace, Justice, Reconciliation,Home,Theatres at Bergen
ATTACH;FMTTYPE=image/jpeg:https://bergen.edu/wp-content/uploads/OmkariWilliamsMonitorWS-0525.jpg
ORGANIZER;CN="Theatres at Bergen":MAILTO:cicconetheatre@bergen.edu
END:VEVENT
BEGIN:VEVENT
DTSTART;TZID=America/New_York:20250925T160000
DTEND;TZID=America/New_York:20250925T173000
DTSTAMP:20260419T115722
CREATED:20250818T121808Z
LAST-MODIFIED:20250818T121808Z
UID:124857-1758816000-1758821400@bergen.edu
SUMMARY:Explore Bergen: Admissions Information Session and Campus Tour
DESCRIPTION:Join us for an informative Admissions Information Session and Q&A\, where you will learn about Bergen Community College’s academic programs\, application process\, financial aid opportunities\, and student support services. Following the session\, enjoy a one-hour\, student-led walking tour of our beautiful Paramus campus. \nRegister here.
URL:https://bergen.edu/event/explore-bergen-admissions-information-session-and-campus-tour-3/
LOCATION:Pitkin Educational Center
CATEGORIES:Admissions,Home,Info Session
ATTACH;FMTTYPE=image/jpeg:https://bergen.edu/wp-content/uploads/GenEvent-admissions-1224.jpg
ORGANIZER;CN="Admissions Department":MAILTO:admissions@bergen.edu
END:VEVENT
END:VCALENDAR