BEGIN:VCALENDAR
VERSION:2.0
PRODID:-//Bergen Community College - ECPv6.15.15//NONSGML v1.0//EN
CALSCALE:GREGORIAN
METHOD:PUBLISH
X-ORIGINAL-URL:https://bergen.edu
X-WR-CALDESC:Events for Bergen Community College
REFRESH-INTERVAL;VALUE=DURATION:PT1H
X-Robots-Tag:noindex
X-PUBLISHED-TTL:PT1H
BEGIN:VTIMEZONE
TZID:America/New_York
BEGIN:DAYLIGHT
TZOFFSETFROM:-0500
TZOFFSETTO:-0400
TZNAME:EDT
DTSTART:20240310T070000
END:DAYLIGHT
BEGIN:STANDARD
TZOFFSETFROM:-0400
TZOFFSETTO:-0500
TZNAME:EST
DTSTART:20241103T060000
END:STANDARD
BEGIN:DAYLIGHT
TZOFFSETFROM:-0500
TZOFFSETTO:-0400
TZNAME:EDT
DTSTART:20250309T070000
END:DAYLIGHT
BEGIN:STANDARD
TZOFFSETFROM:-0400
TZOFFSETTO:-0500
TZNAME:EST
DTSTART:20251102T060000
END:STANDARD
BEGIN:DAYLIGHT
TZOFFSETFROM:-0500
TZOFFSETTO:-0400
TZNAME:EDT
DTSTART:20260308T070000
END:DAYLIGHT
BEGIN:STANDARD
TZOFFSETFROM:-0400
TZOFFSETTO:-0500
TZNAME:EST
DTSTART:20261101T060000
END:STANDARD
END:VTIMEZONE
BEGIN:VEVENT
DTSTART;TZID=America/New_York:20251005T193000
DTEND;TZID=America/New_York:20251005T193000
DTSTAMP:20260423T124938
CREATED:20250917T190347Z
LAST-MODIFIED:20250917T190520Z
UID:142664-1759692600-1759692600@bergen.edu
SUMMARY:"The Kite Runner" Playreading
DESCRIPTION:The Bergen Alumni Theatre presents a playreading of Khaled Hosseini’s bestselling novel\, The Kite Runner. Hear this haunting tale of a friendship that spans cultures and continents on Sunday\, October 5 at 7:30 p.m. in the Anna Maria Ciccone Theatre. \nThe playreading is being hosted during Banned Books Week.
URL:https://bergen.edu/event/the-kite-runner-playreading/
LOCATION:Ciccone Theatre
CATEGORIES:Home,Student Productions,Theatres at Bergen
ATTACH;FMTTYPE=image/png:https://bergen.edu/wp-content/uploads/BannedBooksWeek2025-Monitor-WS.png
ORGANIZER;CN="Theatres at Bergen":MAILTO:cicconetheatre@bergen.edu
END:VEVENT
END:VCALENDAR