BEGIN:VCALENDAR
VERSION:2.0
PRODID:-//Bergen Community College - ECPv6.15.15//NONSGML v1.0//EN
CALSCALE:GREGORIAN
METHOD:PUBLISH
X-ORIGINAL-URL:https://bergen.edu
X-WR-CALDESC:Events for Bergen Community College
REFRESH-INTERVAL;VALUE=DURATION:PT1H
X-Robots-Tag:noindex
X-PUBLISHED-TTL:PT1H
BEGIN:VTIMEZONE
TZID:America/New_York
BEGIN:DAYLIGHT
TZOFFSETFROM:-0500
TZOFFSETTO:-0400
TZNAME:EDT
DTSTART:20240310T070000
END:DAYLIGHT
BEGIN:STANDARD
TZOFFSETFROM:-0400
TZOFFSETTO:-0500
TZNAME:EST
DTSTART:20241103T060000
END:STANDARD
BEGIN:DAYLIGHT
TZOFFSETFROM:-0500
TZOFFSETTO:-0400
TZNAME:EDT
DTSTART:20250309T070000
END:DAYLIGHT
BEGIN:STANDARD
TZOFFSETFROM:-0400
TZOFFSETTO:-0500
TZNAME:EST
DTSTART:20251102T060000
END:STANDARD
BEGIN:DAYLIGHT
TZOFFSETFROM:-0500
TZOFFSETTO:-0400
TZNAME:EDT
DTSTART:20260308T070000
END:DAYLIGHT
BEGIN:STANDARD
TZOFFSETFROM:-0400
TZOFFSETTO:-0500
TZNAME:EST
DTSTART:20261101T060000
END:STANDARD
END:VTIMEZONE
BEGIN:VEVENT
DTSTART;TZID=America/New_York:20251007T123000
DTEND;TZID=America/New_York:20251007T123000
DTSTAMP:20260423T125024
CREATED:20250917T190702Z
LAST-MODIFIED:20250917T190702Z
UID:142666-1759840200-1759840200@bergen.edu
SUMMARY:"Hunterdon"
DESCRIPTION:Back by popular demand\, experience the verbatim theatre encore performance of Hunterdon! This play is inspired by transcripts of real banned book debates that took place in Hunterdon County\, New Jersey during the 2021-22 school year. \nWitness the captured moments of real words\, real conflicts\, and urgent questions being brought to the stage. Stop by the Student Center on Tuesday\, October 7 at 12:30 p.m. to watch. \nThe play is being hosted during Banned Books Week.
URL:https://bergen.edu/event/hunterdon/
LOCATION:Pitkin Educational Center
CATEGORIES:Home,Student Productions,Theatres at Bergen
ATTACH;FMTTYPE=image/png:https://bergen.edu/wp-content/uploads/BannedBooksWeek2025-Monitor-WS.png
ORGANIZER;CN="Theatres at Bergen":MAILTO:cicconetheatre@bergen.edu
END:VEVENT
BEGIN:VEVENT
DTSTART;TZID=America/New_York:20251007T123000
DTEND;TZID=America/New_York:20251007T133000
DTSTAMP:20260423T125024
CREATED:20251001T181433Z
LAST-MODIFIED:20251001T181433Z
UID:142755-1759840200-1759843800@bergen.edu
SUMMARY:OCD in Real Life: What Every Student Should Know
DESCRIPTION:Obsessive-compulsive disorder (OCD) could be affecting someone you know. The Office of Personal Counseling is hosting a discussion in S-132 on what students should know about OCD\, and how to support someone with OCD.
URL:https://bergen.edu/event/ocd-in-real-life-what-every-student-should-know/
LOCATION:Pitkin Educational Center
CATEGORIES:Home
ATTACH;FMTTYPE=image/png:https://bergen.edu/wp-content/uploads/CounselingWellnessWorkshopSeries-MonitorWS.png
END:VEVENT
END:VCALENDAR