BEGIN:VCALENDAR
VERSION:2.0
PRODID:-//Bergen Community College - ECPv6.15.15//NONSGML v1.0//EN
CALSCALE:GREGORIAN
METHOD:PUBLISH
X-ORIGINAL-URL:https://bergen.edu
X-WR-CALDESC:Events for Bergen Community College
REFRESH-INTERVAL;VALUE=DURATION:PT1H
X-Robots-Tag:noindex
X-PUBLISHED-TTL:PT1H
BEGIN:VTIMEZONE
TZID:America/New_York
BEGIN:DAYLIGHT
TZOFFSETFROM:-0500
TZOFFSETTO:-0400
TZNAME:EDT
DTSTART:20240310T070000
END:DAYLIGHT
BEGIN:STANDARD
TZOFFSETFROM:-0400
TZOFFSETTO:-0500
TZNAME:EST
DTSTART:20241103T060000
END:STANDARD
BEGIN:DAYLIGHT
TZOFFSETFROM:-0500
TZOFFSETTO:-0400
TZNAME:EDT
DTSTART:20250309T070000
END:DAYLIGHT
BEGIN:STANDARD
TZOFFSETFROM:-0400
TZOFFSETTO:-0500
TZNAME:EST
DTSTART:20251102T060000
END:STANDARD
BEGIN:DAYLIGHT
TZOFFSETFROM:-0500
TZOFFSETTO:-0400
TZNAME:EDT
DTSTART:20260308T070000
END:DAYLIGHT
BEGIN:STANDARD
TZOFFSETFROM:-0400
TZOFFSETTO:-0500
TZNAME:EST
DTSTART:20261101T060000
END:STANDARD
END:VTIMEZONE
BEGIN:VEVENT
DTSTART;TZID=America/New_York:20251203T123000
DTEND;TZID=America/New_York:20251203T133000
DTSTAMP:20260426T000419
CREATED:20251125T191546Z
LAST-MODIFIED:20251125T193948Z
UID:143235-1764765000-1764768600@bergen.edu
SUMMARY:Dealing with the Blues
DESCRIPTION:The “Dealing with the Blues” presentation is offered by Raysa Creque. Participants will gain an understanding of the Holiday Blues and be able to identify triggers. The presenter will discuss signs\, symptoms\, coping strategies\, and ways to seek help. The event will take place in S-110.
URL:https://bergen.edu/event/dealing-with-the-blues/
LOCATION:Pitkin Educational Center
CATEGORIES:Home
ATTACH;FMTTYPE=image/png:https://bergen.edu/wp-content/uploads/CounselingWellnessWorkshopSeries-MonitorWS.png
END:VEVENT
BEGIN:VEVENT
DTSTART;TZID=America/New_York:20251203T150000
DTEND;TZID=America/New_York:20251203T163000
DTSTAMP:20260426T000419
CREATED:20250820T175808Z
LAST-MODIFIED:20250820T175808Z
UID:127069-1764774000-1764779400@bergen.edu
SUMMARY:¡Explora Tu Futuro! Spanish Campus Tour at Bergen Community College
DESCRIPTION:¡Acompáñanos para una experiencia en el campus! \nJoin us for an exciting\, 1-hour student-led tour of Bergen Community College’s Paramus campus\, followed by an Admissions Information Session and Q&A — all offered entirely in Spanish. \nDiscover what it’s like to be a student at Bergen and get all your questions answered! \nRegister here.
URL:https://bergen.edu/event/explora-tu-futuro-spanish-campus-tour-at-bergen-community-college-6/
LOCATION:Pitkin Educational Center
CATEGORIES:Admissions,Home,Info Session
ATTACH;FMTTYPE=image/jpeg:https://bergen.edu/wp-content/uploads/GenEvent-admissions-1224.jpg
ORGANIZER;CN="Admissions Department":MAILTO:admissions@bergen.edu
END:VEVENT
BEGIN:VEVENT
DTSTART;TZID=America/New_York:20251203T173000
DTEND;TZID=America/New_York:20251203T203000
DTSTAMP:20260426T000419
CREATED:20250922T132529Z
LAST-MODIFIED:20250922T132529Z
UID:142678-1764783000-1764793800@bergen.edu
SUMMARY:Bergen Community College Foundation Scholarship Gala
DESCRIPTION:Join Us for the Inaugural Bergen Community College Foundation Scholarship Gala! \nThis elegant event will celebrate and support Bergen Community College students by providing life-changing educational opportunities and scholarships. Guests will enjoy a sophisticated cocktail reception\, gourmet desserts\, and inspiring stories shared by current students\, successful alumni\, board members\, and esteemed community leaders. \nThe Gala will begin at 5:30 p.m. on December 3 at The Venetian (546 River Dr.\, Garfield\, NJ 07026). \nSupport a Bergen student’s education by donating here.
URL:https://bergen.edu/event/bergen-community-college-foundation-scholarship-gala/
CATEGORIES:Bergen Community College Foundation,Home
ATTACH;FMTTYPE=image/jpeg:https://bergen.edu/wp-content/uploads/BCCF-Gala2025-EventCal-1000x563-0725.jpg
ORGANIZER;CN="Bergen Community College Foundation":MAILTO:bccfoundation@bergen.edu
END:VEVENT
END:VCALENDAR