BEGIN:VCALENDAR
VERSION:2.0
PRODID:-//Bergen Community College - ECPv6.15.15//NONSGML v1.0//EN
CALSCALE:GREGORIAN
METHOD:PUBLISH
X-WR-CALNAME:Bergen Community College
X-ORIGINAL-URL:https://bergen.edu
X-WR-CALDESC:Events for Bergen Community College
REFRESH-INTERVAL;VALUE=DURATION:PT1H
X-Robots-Tag:noindex
X-PUBLISHED-TTL:PT1H
BEGIN:VTIMEZONE
TZID:America/New_York
BEGIN:DAYLIGHT
TZOFFSETFROM:-0500
TZOFFSETTO:-0400
TZNAME:EDT
DTSTART:20250309T070000
END:DAYLIGHT
BEGIN:STANDARD
TZOFFSETFROM:-0400
TZOFFSETTO:-0500
TZNAME:EST
DTSTART:20251102T060000
END:STANDARD
BEGIN:DAYLIGHT
TZOFFSETFROM:-0500
TZOFFSETTO:-0400
TZNAME:EDT
DTSTART:20260308T070000
END:DAYLIGHT
BEGIN:STANDARD
TZOFFSETFROM:-0400
TZOFFSETTO:-0500
TZNAME:EST
DTSTART:20261101T060000
END:STANDARD
BEGIN:DAYLIGHT
TZOFFSETFROM:-0500
TZOFFSETTO:-0400
TZNAME:EDT
DTSTART:20270314T070000
END:DAYLIGHT
BEGIN:STANDARD
TZOFFSETFROM:-0400
TZOFFSETTO:-0500
TZNAME:EST
DTSTART:20271107T060000
END:STANDARD
END:VTIMEZONE
BEGIN:VEVENT
DTSTART;VALUE=DATE:20260316
DTEND;VALUE=DATE:20260317
DTSTAMP:20260420T080557
CREATED:20250211T183529Z
LAST-MODIFIED:20250211T183529Z
UID:69842-1773619200-1773705599@bergen.edu
SUMMARY:Flex 2 Starts
DESCRIPTION:Flex 2 Starts
URL:https://bergen.edu/event/flex-2-starts-6/
CATEGORIES:Academic Calendar,Home
ATTACH;FMTTYPE=image/jpeg:https://bergen.edu/wp-content/uploads/GenEvent-academiccalendar-1224.jpg
END:VEVENT
BEGIN:VEVENT
DTSTART;TZID=America/New_York:20260316T120000
DTEND;TZID=America/New_York:20260316T170000
DTSTAMP:20260420T080557
CREATED:20260311T133156Z
LAST-MODIFIED:20260311T133156Z
UID:144053-1773662400-1773680400@bergen.edu
SUMMARY:Professional Day
DESCRIPTION:Connect with professional artists\, filmmakers\, and designers to learn about getting started in the creative arts field. Guest presenters include painter Melissa Brown\, designer Jed Empleo\, tattoo artist Joanna Shetsen\, and filmmakers Dan Shapiro and Alex Topaller. \nRefreshments will be provided at the networking event\, which will take place in the West Hall Recital Room (W226A).
URL:https://bergen.edu/event/professional-day/
LOCATION:West Hall
CATEGORIES:Gallery Bergen,Home
ATTACH;FMTTYPE=image/jpeg:https://bergen.edu/wp-content/uploads/GenEvent-galllerybergen-1224.jpg
END:VEVENT
END:VCALENDAR