BEGIN:VCALENDAR
VERSION:2.0
PRODID:-//Bergen Community College - ECPv6.15.15//NONSGML v1.0//EN
CALSCALE:GREGORIAN
METHOD:PUBLISH
X-ORIGINAL-URL:https://bergen.edu
X-WR-CALDESC:Events for Bergen Community College
REFRESH-INTERVAL;VALUE=DURATION:PT1H
X-Robots-Tag:noindex
X-PUBLISHED-TTL:PT1H
BEGIN:VTIMEZONE
TZID:America/New_York
BEGIN:DAYLIGHT
TZOFFSETFROM:-0500
TZOFFSETTO:-0400
TZNAME:EDT
DTSTART:20250309T070000
END:DAYLIGHT
BEGIN:STANDARD
TZOFFSETFROM:-0400
TZOFFSETTO:-0500
TZNAME:EST
DTSTART:20251102T060000
END:STANDARD
BEGIN:DAYLIGHT
TZOFFSETFROM:-0500
TZOFFSETTO:-0400
TZNAME:EDT
DTSTART:20260308T070000
END:DAYLIGHT
BEGIN:STANDARD
TZOFFSETFROM:-0400
TZOFFSETTO:-0500
TZNAME:EST
DTSTART:20261101T060000
END:STANDARD
BEGIN:DAYLIGHT
TZOFFSETFROM:-0500
TZOFFSETTO:-0400
TZNAME:EDT
DTSTART:20270314T070000
END:DAYLIGHT
BEGIN:STANDARD
TZOFFSETFROM:-0400
TZOFFSETTO:-0500
TZNAME:EST
DTSTART:20271107T060000
END:STANDARD
END:VTIMEZONE
BEGIN:VEVENT
DTSTART;TZID=America/New_York:20260402T190000
DTEND;TZID=America/New_York:20260402T190000
DTSTAMP:20260422T155205
CREATED:20260217T192748Z
LAST-MODIFIED:20260217T192748Z
UID:143908-1775156400-1775156400@bergen.edu
SUMMARY:“New York In Motion” - A Documentary by Professor Graham Elliott and Roswitha Rodrigues
DESCRIPTION:Visual arts professor and illustrator Graham Elliott will present his documentary “New York In Motion” at Bergen Community College. \n“New York In Motion” explores the world of the motion design industry in one of the largest media-based cities in the world\, New York City. The documentary was created by Professor Elliott and Roswitha Rodrigues\, a professor at the School of Visual Arts in New York. \n“New York In Motion” will screen in Bergen’s A-104 theatre at 7:00 p.m. on Thursday\, April 2.
URL:https://bergen.edu/event/new-york-in-motion-a-documentary-by-professor-graham-elliott-and-roswitha-rodrigues/
LOCATION:Pitkin Educational Center
CATEGORIES:Gallery Bergen,Home
ATTACH;FMTTYPE=image/jpeg:https://bergen.edu/wp-content/uploads/GenEvent-galllerybergen-1224.jpg
ORGANIZER;CN="Gallery Bergen":MAILTO:tblunk@bergen.edu
END:VEVENT
END:VCALENDAR