BEGIN:VCALENDAR
VERSION:2.0
PRODID:-//Bergen Community College - ECPv6.15.15//NONSGML v1.0//EN
CALSCALE:GREGORIAN
METHOD:PUBLISH
X-ORIGINAL-URL:https://bergen.edu
X-WR-CALDESC:Events for Bergen Community College
REFRESH-INTERVAL;VALUE=DURATION:PT1H
X-Robots-Tag:noindex
X-PUBLISHED-TTL:PT1H
BEGIN:VTIMEZONE
TZID:America/New_York
BEGIN:DAYLIGHT
TZOFFSETFROM:-0500
TZOFFSETTO:-0400
TZNAME:EDT
DTSTART:20250309T070000
END:DAYLIGHT
BEGIN:STANDARD
TZOFFSETFROM:-0400
TZOFFSETTO:-0500
TZNAME:EST
DTSTART:20251102T060000
END:STANDARD
BEGIN:DAYLIGHT
TZOFFSETFROM:-0500
TZOFFSETTO:-0400
TZNAME:EDT
DTSTART:20260308T070000
END:DAYLIGHT
BEGIN:STANDARD
TZOFFSETFROM:-0400
TZOFFSETTO:-0500
TZNAME:EST
DTSTART:20261101T060000
END:STANDARD
BEGIN:DAYLIGHT
TZOFFSETFROM:-0500
TZOFFSETTO:-0400
TZNAME:EDT
DTSTART:20270314T070000
END:DAYLIGHT
BEGIN:STANDARD
TZOFFSETFROM:-0400
TZOFFSETTO:-0500
TZNAME:EST
DTSTART:20271107T060000
END:STANDARD
END:VTIMEZONE
BEGIN:VEVENT
DTSTART;TZID=America/New_York:20260430T180000
DTEND;TZID=America/New_York:20260430T193000
DTSTAMP:20260423T013452
CREATED:20260318T185829Z
LAST-MODIFIED:20260318T185829Z
UID:144121-1777572000-1777577400@bergen.edu
SUMMARY:Pathways to Excellence - Panel Discussion
DESCRIPTION:Are you ready to take your academic journey to the next level? \nJoin us for the “Pathways to Excellence” panel discussion with NJ STARS and Phi Theta Kappa (PTK) Honors Society students. Advance your future by connecting with current students and asking them questions to better navigate your college experience. \nThe discussion begins at 6:00 p.m. in the Moses Family and Training Center (TEC-128). \nRegister here to attend. 
URL:https://bergen.edu/event/pathways-to-excellence-panel-discussion/
LOCATION:Technology Education Center
CATEGORIES:Home,Info Session
ATTACH;FMTTYPE=image/png:https://bergen.edu/wp-content/uploads/Pathways-to-Excellence_EventCalendarGraphic.png
END:VEVENT
BEGIN:VEVENT
DTSTART;TZID=America/New_York:20260501T120000
DTEND;TZID=America/New_York:20260501T140000
DTSTAMP:20260423T013452
CREATED:20260416T154711Z
LAST-MODIFIED:20260416T154711Z
UID:144333-1777636800-1777644000@bergen.edu
SUMMARY:American Language Program Recognition Ceremony
DESCRIPTION:Congratulations on completing the American Language Program at Bergen! Now it’s time to celebrate your success. \nAttend the recognition ceremony in TEC-128 to get your completion certificate and enjoy a free lunch. ALP graduates can register here.
URL:https://bergen.edu/event/american-language-program-recognition-ceremony/
LOCATION:Technology Education Center
CATEGORIES:Home
ATTACH;FMTTYPE=image/jpeg:https://bergen.edu/wp-content/uploads/GenEvent-admissions-1224.jpg
END:VEVENT
BEGIN:VEVENT
DTSTART;TZID=America/New_York:20260501T193000
DTEND;TZID=America/New_York:20260501T193000
DTSTAMP:20260423T013452
CREATED:20260410T150244Z
LAST-MODIFIED:20260410T150319Z
UID:144286-1777663800-1777663800@bergen.edu
SUMMARY:The Director's Lab: 2026 One-Act Play Festival
DESCRIPTION:Bergen’s student directors are taking their stories to the stage! The One-Act Play Festival features a diverse lineup of short\, engaging performances to showcase the creativity of Bergen’s budding talent. \nAudiences can expect a wide variety of thought-provoking stories\, from drama to comedy. \nGet your tickets at tickets.bergen.edu. 
URL:https://bergen.edu/event/the-directors-lab-2026-one-act-play-festival/
LOCATION:Ender Hall Lab Theatre
CATEGORIES:Home,Student Productions,Theatres at Bergen
ATTACH;FMTTYPE=image/jpeg:https://bergen.edu/wp-content/uploads/BiCA-DirectorsLab-MonitorWS.jpg
ORGANIZER;CN="Theatres at Bergen":MAILTO:cicconetheatre@bergen.edu
END:VEVENT
BEGIN:VEVENT
DTSTART;TZID=America/New_York:20260501T200000
DTEND;TZID=America/New_York:20260501T220000
DTSTAMP:20260423T013452
CREATED:20260311T115615Z
LAST-MODIFIED:20260311T115615Z
UID:144048-1777665600-1777672800@bergen.edu
SUMMARY:Public Viewing Night - Spring 2026
DESCRIPTION:Got an interest in astronomy? Stop by the Spring 2026 Public Viewing Nights at the Emil Buehler Trust Observatory. \nSee different stars and systems right here at Bergen! \nView the Spring Public Viewing Nights schedule here. \nA Public Viewing Night will be cancelled in the event of rain or clouds. For more information\, please email Sean McLearie at smclearie@bergen.edu.
URL:https://bergen.edu/event/public-viewing-night-spring-2026-8/
LOCATION:Technology Education Center
CATEGORIES:Home,STEM
ATTACH;FMTTYPE=image/png:https://bergen.edu/wp-content/uploads/PublicViewingNights-EventCal.png
ORGANIZER;CN="Division of Mathematics%2C Science and Technology":MAILTO:shaan@bergen.edu
END:VEVENT
BEGIN:VEVENT
DTSTART;TZID=America/New_York:20260502T193000
DTEND;TZID=America/New_York:20260502T193000
DTSTAMP:20260423T013452
CREATED:20260410T150402Z
LAST-MODIFIED:20260410T150402Z
UID:144288-1777750200-1777750200@bergen.edu
SUMMARY:The Director's Lab: 2026 One-Act Play Festival
DESCRIPTION:Bergen’s student directors are taking their stories to the stage! The One-Act Play Festival features a diverse lineup of short\, engaging performances to showcase the creativity of Bergen’s budding talent. \nAudiences can expect a wide variety of thought-provoking stories\, from drama to comedy. \nGet your tickets at tickets.bergen.edu. 
URL:https://bergen.edu/event/the-directors-lab-2026-one-act-play-festival-2/
LOCATION:Ender Hall Lab Theatre
CATEGORIES:Home,Student Productions,Theatres at Bergen
ATTACH;FMTTYPE=image/jpeg:https://bergen.edu/wp-content/uploads/BiCA-DirectorsLab-MonitorWS.jpg
ORGANIZER;CN="Theatres at Bergen":MAILTO:cicconetheatre@bergen.edu
END:VEVENT
BEGIN:VEVENT
DTSTART;VALUE=DATE:20260505
DTEND;VALUE=DATE:20260506
DTSTAMP:20260423T013452
CREATED:20250211T183716Z
LAST-MODIFIED:20250211T183716Z
UID:69844-1777939200-1778025599@bergen.edu
SUMMARY:Spring 2 Ends
DESCRIPTION:Spring 2 Ends
URL:https://bergen.edu/event/spring-2-ends-2/
CATEGORIES:Academic Calendar,Home
ATTACH;FMTTYPE=image/jpeg:https://bergen.edu/wp-content/uploads/GenEvent-academiccalendar-1224.jpg
END:VEVENT
BEGIN:VEVENT
DTSTART;VALUE=DATE:20260506
DTEND;VALUE=DATE:20260507
DTSTAMP:20260423T013452
CREATED:20250211T183916Z
LAST-MODIFIED:20260105T142214Z
UID:69845-1778025600-1778111999@bergen.edu
SUMMARY:Spring 1 and Flex 2 End
DESCRIPTION:Spring 1 and Flex 2 End (Class meets on a Monday schedule).
URL:https://bergen.edu/event/spring-1-and-flex-2-end/
CATEGORIES:Academic Calendar,Home
ATTACH;FMTTYPE=image/jpeg:https://bergen.edu/wp-content/uploads/GenEvent-academiccalendar-1224.jpg
END:VEVENT
BEGIN:VEVENT
DTSTART;TZID=America/New_York:20260508T200000
DTEND;TZID=America/New_York:20260508T220000
DTSTAMP:20260423T013452
CREATED:20260311T115630Z
LAST-MODIFIED:20260311T115630Z
UID:144049-1778270400-1778277600@bergen.edu
SUMMARY:Public Viewing Night - Spring 2026
DESCRIPTION:Got an interest in astronomy? Stop by the Spring 2026 Public Viewing Nights at the Emil Buehler Trust Observatory. \nSee different stars and systems right here at Bergen! \nView the Spring Public Viewing Nights schedule here. \nA Public Viewing Night will be cancelled in the event of rain or clouds. For more information\, please email Sean McLearie at smclearie@bergen.edu.
URL:https://bergen.edu/event/public-viewing-night-spring-2026-9/
LOCATION:Technology Education Center
CATEGORIES:Home,STEM
ATTACH;FMTTYPE=image/png:https://bergen.edu/wp-content/uploads/PublicViewingNights-EventCal.png
ORGANIZER;CN="Division of Mathematics%2C Science and Technology":MAILTO:shaan@bergen.edu
END:VEVENT
BEGIN:VEVENT
DTSTART;VALUE=DATE:20260518
DTEND;VALUE=DATE:20260519
DTSTAMP:20260423T013452
CREATED:20250211T184427Z
LAST-MODIFIED:20250211T184427Z
UID:69847-1779062400-1779148799@bergen.edu
SUMMARY:Summer 1 and Summer U Start
DESCRIPTION:Summer 1 and Summer U Start
URL:https://bergen.edu/event/summer-1-and-summer-u-start/
CATEGORIES:Academic Calendar,Home
ATTACH;FMTTYPE=image/jpeg:https://bergen.edu/wp-content/uploads/GenEvent-academiccalendar-1224.jpg
END:VEVENT
BEGIN:VEVENT
DTSTART;TZID=America/New_York:20260521T180000
DTEND;TZID=America/New_York:20260521T220000
DTSTAMP:20260423T013452
CREATED:20260410T185601Z
LAST-MODIFIED:20260410T185601Z
UID:144295-1779386400-1779400800@bergen.edu
SUMMARY:Ignite the Future: Bergen Institute for the Creative Arts Gala
DESCRIPTION:You’re invited to an evening of artistic celebration at the Ignite the Future: Bergen Institute for the Creative Arts Gala. \nExperience boundless imagination and creativity as Bergen’s students showcase their works in visual arts\, fashion\, music\, theatre\, and culinary arts.  \nPerformances begin at 7:00 p.m. in the Anna Maria Ciccone Theatre on Thursday\, May 21. \nAttendees can enjoy pre-event appetizers at 6:00 p.m.\, and an Afterglow Dessert Reception after the show. \nGet your tickets at tickets.bergen.edu. 
URL:https://bergen.edu/event/ignite-the-future-bergen-institute-for-the-creative-arts-gala/
LOCATION:Ciccone Theatre
CATEGORIES:Home,Theatres at Bergen
ATTACH;FMTTYPE=image/jpeg:https://bergen.edu/wp-content/uploads/BICA-GalaMonitorWS-0126.jpg
ORGANIZER;CN="Theatres at Bergen":MAILTO:cicconetheatre@bergen.edu
END:VEVENT
BEGIN:VEVENT
DTSTART;TZID=America/New_York:20260522T200000
DTEND;TZID=America/New_York:20260522T220000
DTSTAMP:20260423T013452
CREATED:20260311T115655Z
LAST-MODIFIED:20260311T115655Z
UID:144051-1779480000-1779487200@bergen.edu
SUMMARY:Public Viewing Night - Spring 2026
DESCRIPTION:Got an interest in astronomy? Stop by the Spring 2026 Public Viewing Nights at the Emil Buehler Trust Observatory. \nSee different stars and systems right here at Bergen! \nView the Spring Public Viewing Nights schedule here. \nA Public Viewing Night will be cancelled in the event of rain or clouds. For more information\, please email Sean McLearie at smclearie@bergen.edu.
URL:https://bergen.edu/event/public-viewing-night-spring-2026-11/
LOCATION:Technology Education Center
CATEGORIES:Home,STEM
ATTACH;FMTTYPE=image/png:https://bergen.edu/wp-content/uploads/PublicViewingNights-EventCal.png
ORGANIZER;CN="Division of Mathematics%2C Science and Technology":MAILTO:shaan@bergen.edu
END:VEVENT
BEGIN:VEVENT
DTSTART;VALUE=DATE:20260525
DTEND;VALUE=DATE:20260526
DTSTAMP:20260423T013452
CREATED:20250211T184527Z
LAST-MODIFIED:20250211T184527Z
UID:69848-1779667200-1779753599@bergen.edu
SUMMARY:Memorial Day (College Closed)
DESCRIPTION:College Closed
URL:https://bergen.edu/event/memorial-day-college-closed-5/
CATEGORIES:Academic Calendar,Home
ATTACH;FMTTYPE=image/jpeg:https://bergen.edu/wp-content/uploads/GenEvent-fedholiday-1224.jpg
END:VEVENT
BEGIN:VEVENT
DTSTART;TZID=America/New_York:20260529T200000
DTEND;TZID=America/New_York:20260529T220000
DTSTAMP:20260423T013452
CREATED:20260311T115706Z
LAST-MODIFIED:20260311T115706Z
UID:144052-1780084800-1780092000@bergen.edu
SUMMARY:Public Viewing Night - Spring 2026
DESCRIPTION:Got an interest in astronomy? Stop by the Spring 2026 Public Viewing Nights at the Emil Buehler Trust Observatory. \nSee different stars and systems right here at Bergen! \nView the Spring Public Viewing Nights schedule here. \nA Public Viewing Night will be cancelled in the event of rain or clouds. For more information\, please email Sean McLearie at smclearie@bergen.edu.
URL:https://bergen.edu/event/public-viewing-night-spring-2026-12/
LOCATION:Technology Education Center
CATEGORIES:Home,STEM
ATTACH;FMTTYPE=image/png:https://bergen.edu/wp-content/uploads/PublicViewingNights-EventCal.png
ORGANIZER;CN="Division of Mathematics%2C Science and Technology":MAILTO:shaan@bergen.edu
END:VEVENT
BEGIN:VEVENT
DTSTART;VALUE=DATE:20260622
DTEND;VALUE=DATE:20260623
DTSTAMP:20260423T013452
CREATED:20250211T184611Z
LAST-MODIFIED:20250211T184611Z
UID:69849-1782086400-1782172799@bergen.edu
SUMMARY:Juneteenth Observation (College Closed)
DESCRIPTION:College Closed
URL:https://bergen.edu/event/juneteenth-observation-college-closed/
CATEGORIES:Academic Calendar,Home
ATTACH;FMTTYPE=image/jpeg:https://bergen.edu/wp-content/uploads/GenEvent-fedholiday-1224.jpg
END:VEVENT
BEGIN:VEVENT
DTSTART;VALUE=DATE:20260629
DTEND;VALUE=DATE:20260630
DTSTAMP:20260423T013452
CREATED:20250211T184645Z
LAST-MODIFIED:20250211T184645Z
UID:69850-1782691200-1782777599@bergen.edu
SUMMARY:Summer 1 Ends
DESCRIPTION:Summer 1 Ends
URL:https://bergen.edu/event/summer-1-ends-6/
CATEGORIES:Academic Calendar,Home
ATTACH;FMTTYPE=image/jpeg:https://bergen.edu/wp-content/uploads/GenEvent-academiccalendar-1224.jpg
END:VEVENT
BEGIN:VEVENT
DTSTART;VALUE=DATE:20260701
DTEND;VALUE=DATE:20260702
DTSTAMP:20260423T013452
CREATED:20250211T184722Z
LAST-MODIFIED:20250211T184722Z
UID:69851-1782864000-1782950399@bergen.edu
SUMMARY:Summer 2 Starts
DESCRIPTION:Summer 2 Starts
URL:https://bergen.edu/event/summer-2-starts/
CATEGORIES:Academic Calendar,Home
ATTACH;FMTTYPE=image/jpeg:https://bergen.edu/wp-content/uploads/GenEvent-academiccalendar-1224.jpg
END:VEVENT
BEGIN:VEVENT
DTSTART;VALUE=DATE:20260706
DTEND;VALUE=DATE:20260707
DTSTAMP:20260423T013452
CREATED:20250211T184805Z
LAST-MODIFIED:20250211T184805Z
UID:69852-1783296000-1783382399@bergen.edu
SUMMARY:July 4 Observation (College Closed)
DESCRIPTION:College Closed
URL:https://bergen.edu/event/july-4-observation-college-closed/
CATEGORIES:Academic Calendar,Home
ATTACH;FMTTYPE=image/jpeg:https://bergen.edu/wp-content/uploads/GenEvent-fedholiday-1224.jpg
END:VEVENT
BEGIN:VEVENT
DTSTART;VALUE=DATE:20260810
DTEND;VALUE=DATE:20260811
DTSTAMP:20260423T013452
CREATED:20250211T184845Z
LAST-MODIFIED:20250211T184845Z
UID:69853-1786320000-1786406399@bergen.edu
SUMMARY:Summer U Ends
DESCRIPTION:Summer U Ends
URL:https://bergen.edu/event/summer-u-ends-3/
CATEGORIES:Academic Calendar,Home
ATTACH;FMTTYPE=image/jpeg:https://bergen.edu/wp-content/uploads/GenEvent-academiccalendar-1224.jpg
END:VEVENT
BEGIN:VEVENT
DTSTART;VALUE=DATE:20260811
DTEND;VALUE=DATE:20260812
DTSTAMP:20260423T013452
CREATED:20250211T184919Z
LAST-MODIFIED:20250211T184919Z
UID:69854-1786406400-1786492799@bergen.edu
SUMMARY:Summer 2 Ends
DESCRIPTION:Summer 2 Ends
URL:https://bergen.edu/event/summer-2-ends-3/
CATEGORIES:Academic Calendar,Home
ATTACH;FMTTYPE=image/jpeg:https://bergen.edu/wp-content/uploads/GenEvent-academiccalendar-1224.jpg
END:VEVENT
BEGIN:VEVENT
DTSTART;VALUE=DATE:20260812
DTEND;VALUE=DATE:20260813
DTSTAMP:20260423T013452
CREATED:20250211T185245Z
LAST-MODIFIED:20250211T185245Z
UID:69856-1786492800-1786579199@bergen.edu
SUMMARY:Summer 3 Starts
DESCRIPTION:Summer 3 Starts
URL:https://bergen.edu/event/summer-3-starts-3/
CATEGORIES:Academic Calendar,Home
ATTACH;FMTTYPE=image/jpeg:https://bergen.edu/wp-content/uploads/GenEvent-academiccalendar-1224.jpg
END:VEVENT
BEGIN:VEVENT
DTSTART;VALUE=DATE:20260826
DTEND;VALUE=DATE:20260827
DTSTAMP:20260423T013452
CREATED:20250211T185318Z
LAST-MODIFIED:20250211T185318Z
UID:69857-1787702400-1787788799@bergen.edu
SUMMARY:Summer 3 Ends
DESCRIPTION:Summer 3 Ends
URL:https://bergen.edu/event/summer-3-ends-7/
CATEGORIES:Academic Calendar,Home
ATTACH;FMTTYPE=image/jpeg:https://bergen.edu/wp-content/uploads/GenEvent-academiccalendar-1224.jpg
END:VEVENT
END:VCALENDAR