BEGIN:VCALENDAR
VERSION:2.0
PRODID:-//Bergen Community College - ECPv6.15.15//NONSGML v1.0//EN
CALSCALE:GREGORIAN
METHOD:PUBLISH
X-WR-CALNAME:Bergen Community College
X-ORIGINAL-URL:https://bergen.edu
X-WR-CALDESC:Events for Bergen Community College
REFRESH-INTERVAL;VALUE=DURATION:PT1H
X-Robots-Tag:noindex
X-PUBLISHED-TTL:PT1H
BEGIN:VTIMEZONE
TZID:America/New_York
BEGIN:DAYLIGHT
TZOFFSETFROM:-0500
TZOFFSETTO:-0400
TZNAME:EDT
DTSTART:20240310T070000
END:DAYLIGHT
BEGIN:STANDARD
TZOFFSETFROM:-0400
TZOFFSETTO:-0500
TZNAME:EST
DTSTART:20241103T060000
END:STANDARD
BEGIN:DAYLIGHT
TZOFFSETFROM:-0500
TZOFFSETTO:-0400
TZNAME:EDT
DTSTART:20250309T070000
END:DAYLIGHT
BEGIN:STANDARD
TZOFFSETFROM:-0400
TZOFFSETTO:-0500
TZNAME:EST
DTSTART:20251102T060000
END:STANDARD
BEGIN:DAYLIGHT
TZOFFSETFROM:-0500
TZOFFSETTO:-0400
TZNAME:EDT
DTSTART:20260308T070000
END:DAYLIGHT
BEGIN:STANDARD
TZOFFSETFROM:-0400
TZOFFSETTO:-0500
TZNAME:EST
DTSTART:20261101T060000
END:STANDARD
END:VTIMEZONE
BEGIN:VEVENT
DTSTART;TZID=America/New_York:20251029T110000
DTEND;TZID=America/New_York:20251029T123000
DTSTAMP:20260423T191744
CREATED:20251014T160314Z
LAST-MODIFIED:20251014T160401Z
UID:142877-1761735600-1761741000@bergen.edu
SUMMARY:Beyond Poverty: Life Under the Surface
DESCRIPTION:Bergen Community College will host internationally recognized sociologist and ethnographer Dr. Terry Willams in his discussion\, Beyond Poverty: Life Under the Surface. \nJoin Dr. Williams in examining nationwide poverty and digging deeper into its root causes to find possible solutions. The discussion will take place on Wednesday\, October 29 at 11 a.m. in the Pitkin Education Center\, room S-132.
URL:https://bergen.edu/event/beyond-poverty-life-under-the-surface/
LOCATION:Pitkin Educational Center
CATEGORIES:Home
ATTACH;FMTTYPE=image/jpeg:https://bergen.edu/wp-content/uploads/terrywilliams-poverty-soc1080x1080-1025.jpg
ORGANIZER;CN="Office of Multicultural Services and Activities":MAILTO:multiculturalservices@bergen.edu
END:VEVENT
BEGIN:VEVENT
DTSTART;TZID=America/New_York:20251029T110000
DTEND;TZID=America/New_York:20251029T150000
DTSTAMP:20260423T191744
CREATED:20251015T120258Z
LAST-MODIFIED:20251015T120258Z
UID:142883-1761735600-1761750000@bergen.edu
SUMMARY:Decorate A Pumpkin
DESCRIPTION:Celebrate the season with the Student Activities Board and paint your own pumpkin in L-127.
URL:https://bergen.edu/event/decorate-a-pumpkin/
LOCATION:Pitkin Educational Center
CATEGORIES:Home
ATTACH;FMTTYPE=image/jpeg:https://bergen.edu/wp-content/uploads/GenEvent-studentlife-0125.jpg
END:VEVENT
BEGIN:VEVENT
DTSTART;TZID=America/New_York:20251029T160000
DTEND;TZID=America/New_York:20251029T173000
DTSTAMP:20260423T191744
CREATED:20250820T144513Z
LAST-MODIFIED:20250820T144513Z
UID:127027-1761753600-1761759000@bergen.edu
SUMMARY:Explore Bergen: Admissions Information Session and Campus Tour
DESCRIPTION:Join us for an informative Admissions Information Session and Q&A\, where you will learn about Bergen Community College’s academic programs\, application process\, financial aid opportunities\, and student support services. Following the session\, enjoy a one-hour\, student-led walking tour of our beautiful Paramus campus. \nRegister here.
URL:https://bergen.edu/event/explore-bergen-admissions-information-session-and-campus-tour-6/
LOCATION:Pitkin Educational Center
CATEGORIES:Admissions,Home,Info Session
ATTACH;FMTTYPE=image/jpeg:https://bergen.edu/wp-content/uploads/GenEvent-admissions-1224.jpg
ORGANIZER;CN="Admissions Department":MAILTO:admissions@bergen.edu
END:VEVENT
BEGIN:VEVENT
DTSTART;TZID=America/New_York:20251030T120000
DTEND;TZID=America/New_York:20251030T150000
DTSTAMP:20260423T191744
CREATED:20251015T120429Z
LAST-MODIFIED:20251015T120429Z
UID:142884-1761825600-1761836400@bergen.edu
SUMMARY:Costume Contest
DESCRIPTION:Show up to the SGA Office (A-101) in your Halloween best to win a prize!
URL:https://bergen.edu/event/costume-contest/
LOCATION:Pitkin Educational Center
CATEGORIES:Home
ATTACH;FMTTYPE=image/jpeg:https://bergen.edu/wp-content/uploads/GenEvent-studentlife-0125.jpg
ORGANIZER;CN="Student Life":MAILTO:studentlife@bergen.edu
END:VEVENT
BEGIN:VEVENT
DTSTART;TZID=America/New_York:20251030T130000
DTEND;TZID=America/New_York:20251030T140000
DTSTAMP:20260423T191744
CREATED:20250630T175712Z
LAST-MODIFIED:20250630T175757Z
UID:114017-1761829200-1761832800@bergen.edu
SUMMARY:RUN2STEM Virtual Information Session
DESCRIPTION:Are you a student in one of our STEM programs or in a General Studies program with great interest in Science\, Math\, or Computer Science? Do you ever daydream about becoming a future Math\, Science\, or Computer Science teacher? If your answer is YES or even MAYBE\, you may be eligible to receive $1000 for taking/passing EDU101: Introduction to Education and completing observation hours in a high school middle school Science or Math classroom. \nIf any of the above is interesting to you\, you may be eligible for a full scholarship to Ramapo College after graduation from Bergen. For more information\, plan to attend a virtual Information Session on Thursday\, October 30 from 1:00-2:00 at https://bergen.webex.com/meet/MKrieger. \nFor more information\, contact Dr. Melissa Krieger at mkrieger@bergen.edu and to let her know you will attend. \nThis material is based upon work supported by the National Science Foundation under Grant Number 2425801. Any opinions\, findings\, and conclusions or recommendations expressed in this material are those of the author(s) and do not necessarily reflect the views of the National Science Foundation.
URL:https://bergen.edu/event/run2stem-virtual-information-session/
LOCATION:Virtual Campus
CATEGORIES:Home,Info Session,STEM,Virtual Life
ATTACH;FMTTYPE=image/jpeg:https://bergen.edu/wp-content/uploads/Run2STEM-VirtualTVMonWide-0625.jpg
END:VEVENT
BEGIN:VEVENT
DTSTART;TZID=America/New_York:20251030T170000
DTEND;TZID=America/New_York:20251030T180000
DTSTAMP:20260423T191744
CREATED:20251015T125637Z
LAST-MODIFIED:20251015T154321Z
UID:142889-1761843600-1761847200@bergen.edu
SUMMARY:Bergen Community College Paramedic Science Open House
DESCRIPTION:Seconds Matter. So does your training. When lives are on the line\, every second and skill counts. Bergen Community College’s Paramedic Science program trains the next generation of first responders to think fast\, act with confidence\, and make an impact when it matters most. \nJoin us at our upcoming Paramedic Science Open House to explore our state-of-the-art simulation lab\, learn from experts in small cohorts\, and graduate ready to make critical decisions when seconds matter. Register here. \nLearn more about the program at bergen.edu/paramedic. \nQuestions? Email Program Director Dr. Joanne Piccininni at jpiccininni@bergen.edu.
URL:https://bergen.edu/event/bergen-community-college-paramedic-science-open-house/
LOCATION:Bergen at the Meadowlands
CATEGORIES:Admissions,Health Professions Admissions,Home,Info Session
ATTACH;FMTTYPE=image/jpeg:https://bergen.edu/wp-content/uploads/ParamedicSci-OpenHouse-EventCal-1025.jpg
ORGANIZER;CN="Health Professions Department":MAILTO:hpadmissions@bergen.edu
END:VEVENT
BEGIN:VEVENT
DTSTART;TZID=America/New_York:20251030T193000
DTEND;TZID=America/New_York:20251030T193000
DTSTAMP:20260423T191744
CREATED:20250723T182737Z
LAST-MODIFIED:20250723T182807Z
UID:120042-1761852600-1761852600@bergen.edu
SUMMARY:Unnecessary Farce
DESCRIPTION:Bergenstages’ production of Paul Slade Smith’s award-winning comedy “Unnecessary Farce\,” directed by Professor Peter Helff\, will keep you guessing! \nAt an economy hotel\, two cops try to expose an embezzling mayor meeting with his accountant when sudden confusion disrupts the crime bust. Who is in which room? Who took the money? What is actually happening? \nPurchase your ticket at tickets.bergen.edu to find the answers and discover the story in this satire comedy. 
URL:https://bergen.edu/event/unnecessary-farce-matinee-2/
LOCATION:Ender Hall Lab Theatre
CATEGORIES:Home,Theatres at Bergen
ATTACH;FMTTYPE=image/jpeg:https://bergen.edu/wp-content/uploads/UnnecessaryFarce-MonitorWS.jpg
ORGANIZER;CN="Theatres at Bergen":MAILTO:cicconetheatre@bergen.edu
END:VEVENT
BEGIN:VEVENT
DTSTART;TZID=America/New_York:20251031T100000
DTEND;TZID=America/New_York:20251031T140000
DTSTAMP:20260423T191744
CREATED:20251015T120556Z
LAST-MODIFIED:20251015T120556Z
UID:142885-1761904800-1761919200@bergen.edu
SUMMARY:"Ghostbusters"
DESCRIPTION:Grab some popcorn and watch the Halloween classic\, “Ghostbusters” in the Student Center.
URL:https://bergen.edu/event/ghostbusters/
LOCATION:Pitkin Educational Center
CATEGORIES:Home
ATTACH;FMTTYPE=image/jpeg:https://bergen.edu/wp-content/uploads/GenEvent-studentlife-0125.jpg
ORGANIZER;CN="Student Life":MAILTO:studentlife@bergen.edu
END:VEVENT
BEGIN:VEVENT
DTSTART;TZID=America/New_York:20251031T193000
DTEND;TZID=America/New_York:20251031T193000
DTSTAMP:20260423T191744
CREATED:20250723T182936Z
LAST-MODIFIED:20250723T182936Z
UID:120043-1761939000-1761939000@bergen.edu
SUMMARY:Unnecessary Farce
DESCRIPTION:Bergenstages’ production of Paul Slade Smith’s award-winning comedy “Unnecessary Farce\,” directed by Professor Peter Helff\, will keep you guessing! \nAt an economy hotel\, two cops try to expose an embezzling mayor meeting with his accountant when sudden confusion disrupts the crime bust. Who is in which room? Who took the money? What is actually happening? \nPurchase your ticket at tickets.bergen.edu to find the answers and discover the story in this satire comedy. 
URL:https://bergen.edu/event/unnecessary-farce-3/
LOCATION:Ender Hall Lab Theatre
CATEGORIES:Home,Theatres at Bergen
ATTACH;FMTTYPE=image/jpeg:https://bergen.edu/wp-content/uploads/UnnecessaryFarce-MonitorWS.jpg
ORGANIZER;CN="Theatres at Bergen":MAILTO:cicconetheatre@bergen.edu
END:VEVENT
BEGIN:VEVENT
DTSTART;TZID=America/New_York:20251031T193000
DTEND;TZID=America/New_York:20251031T220000
DTSTAMP:20260423T191744
CREATED:20250902T132358Z
LAST-MODIFIED:20250902T183345Z
UID:142545-1761939000-1761948000@bergen.edu
SUMMARY:Public Viewing Night Fall 2025
DESCRIPTION:Got an interest in astronomy? Stop by the Fall 2025 Public Viewing Nights at the Emil Buehler Trust Observatory. \nSee different stars and systems right here at Bergen! \nView the Fall Public Viewing Nights schedule here. \nA Public Viewing Night will be cancelled in the event of rain or clouds. For more information\, please email Sean McLearie at smclearie@bergen.edu.
URL:https://bergen.edu/event/public-viewing-night-fall-2025-9/
LOCATION:Technology Education Center
CATEGORIES:Home,STEM
ATTACH;FMTTYPE=image/jpeg:https://bergen.edu/wp-content/uploads/Public-Viewing-Nights-Social-Fall2025.jpg
ORGANIZER;CN="Division of Mathematics%2C Science and Technology":MAILTO:shaan@bergen.edu
END:VEVENT
BEGIN:VEVENT
DTSTART;TZID=America/New_York:20251101T140000
DTEND;TZID=America/New_York:20251101T140000
DTSTAMP:20260423T191744
CREATED:20250723T183123Z
LAST-MODIFIED:20250723T183123Z
UID:120046-1762005600-1762005600@bergen.edu
SUMMARY:Unnecessary Farce - Matinee
DESCRIPTION:Bergenstages’ production of Paul Slade Smith’s award-winning comedy “Unnecessary Farce\,” directed by Professor Peter Helff\, will keep you guessing! \nAt an economy hotel\, two cops try to expose an embezzling mayor meeting with his accountant when sudden confusion disrupts the crime bust. Who is in which room? Who took the money? What is actually happening? \nPurchase your ticket at tickets.bergen.edu to find the answers and discover the story in this satire comedy. 
URL:https://bergen.edu/event/unnecessary-farce-matinee-3/
LOCATION:Ender Hall Lab Theatre
CATEGORIES:Home,Theatres at Bergen
ATTACH;FMTTYPE=image/jpeg:https://bergen.edu/wp-content/uploads/UnnecessaryFarce-MonitorWS.jpg
ORGANIZER;CN="Theatres at Bergen":MAILTO:cicconetheatre@bergen.edu
END:VEVENT
BEGIN:VEVENT
DTSTART;TZID=America/New_York:20251101T193000
DTEND;TZID=America/New_York:20251101T193000
DTSTAMP:20260423T191744
CREATED:20250723T183026Z
LAST-MODIFIED:20250723T183026Z
UID:120044-1762025400-1762025400@bergen.edu
SUMMARY:Unnecessary Farce
DESCRIPTION:Bergenstages’ production of Paul Slade Smith’s award-winning comedy “Unnecessary Farce\,” directed by Professor Peter Helff\, will keep you guessing! \nAt an economy hotel\, two cops try to expose an embezzling mayor meeting with his accountant when sudden confusion disrupts the crime bust. Who is in which room? Who took the money? What is actually happening? \nPurchase your ticket at tickets.bergen.edu to find the answers and discover the story in this satire comedy. 
URL:https://bergen.edu/event/unnecessary-farce-4/
LOCATION:Ender Hall Lab Theatre
CATEGORIES:Home,Theatres at Bergen
ATTACH;FMTTYPE=image/jpeg:https://bergen.edu/wp-content/uploads/UnnecessaryFarce-MonitorWS.jpg
ORGANIZER;CN="Theatres at Bergen":MAILTO:cicconetheatre@bergen.edu
END:VEVENT
BEGIN:VEVENT
DTSTART;TZID=America/New_York:20251102T083000
DTEND;TZID=America/New_York:20251102T083000
DTSTAMP:20260423T191744
CREATED:20251015T124106Z
LAST-MODIFIED:20251015T124135Z
UID:142886-1762072200-1762072200@bergen.edu
SUMMARY:Bergen Community College 10th Annual Hero 5K Run
DESCRIPTION:Are you interested in running for a good cause? Then come to Bergen’s 10th annual Hero 5K Run on Sunday\, November 2 at 8:30 a.m. Run or walk in support of Bergen’s student veterans! You can win prizes and even get a shirt if you’re one of the first 300 attendees! Select your participation level from three event categories: the traditional Hero 5K Run\, the Robert Dyer Kids Fun Run at 9:30 a.m.\, and a Virtual 5K to walk or run from any location. Register here. \n 
URL:https://bergen.edu/event/bergen-community-college-10th-annual-hero-5k-run/
LOCATION:Pitkin Educational Center
CATEGORIES:Home
ATTACH;FMTTYPE=image/png:https://bergen.edu/wp-content/uploads/10th-Annual-Hero-5k-postcard-6-×-4-in-copy.pdf.png
END:VEVENT
BEGIN:VEVENT
DTSTART;TZID=America/New_York:20251104T170000
DTEND;TZID=America/New_York:20251104T170000
DTSTAMP:20260423T191744
CREATED:20250917T122322Z
LAST-MODIFIED:20250917T122337Z
UID:142652-1762275600-1762275600@bergen.edu
SUMMARY:Path to Recovery Group
DESCRIPTION:Path to Recovery is a weekly support group for students struggling with substance use or are in recovery. The group will offer a safe\, confidential\, and judgment-free space to share experiences\, build resilience\, and support one another on the journey to healing. Meetings begin Tuesday\, September 30 and will be held weekly at 5 p.m. \nPlease contact Michelle Boyce-Cannariato at mboycecannariato@bergen.edu to register.
URL:https://bergen.edu/event/path-to-recovery-group-6/
LOCATION:Pitkin Educational Center
CATEGORIES:Home
ATTACH;FMTTYPE=image/jpeg:https://bergen.edu/wp-content/uploads/Path-to-Recovery.jpg
END:VEVENT
BEGIN:VEVENT
DTSTART;TZID=America/New_York:20251106T123000
DTEND;TZID=America/New_York:20251106T133000
DTSTAMP:20260423T191744
CREATED:20251104T123731Z
LAST-MODIFIED:20251104T123731Z
UID:143060-1762432200-1762435800@bergen.edu
SUMMARY:Goal Setting and Confidence Development
DESCRIPTION:Build your confidence by setting academic and personal goals for yourself. The event will take place in S-132.
URL:https://bergen.edu/event/goal-setting-and-confidence-development/
LOCATION:Pitkin Educational Center
CATEGORIES:Home
ATTACH;FMTTYPE=image/png:https://bergen.edu/wp-content/uploads/CounselingWellnessWorkshopSeries-MonitorWS.png
END:VEVENT
BEGIN:VEVENT
DTSTART;TZID=America/New_York:20251107T100000
DTEND;TZID=America/New_York:20251107T113000
DTSTAMP:20260423T191744
CREATED:20250820T144625Z
LAST-MODIFIED:20251107T152258Z
UID:127029-1762509600-1762515000@bergen.edu
SUMMARY:Explore Bergen: Admissions Information Session and Campus Tour
DESCRIPTION:Join us for an informative Admissions Information Session and Q&A\, where you will learn about Bergen Community College’s academic programs\, application process\, financial aid opportunities\, and student support services. Following the session\, enjoy a one-hour\, student-led walking tour of our beautiful Paramus campus. \nRegister here.
URL:https://bergen.edu/event/explore-bergen-admissions-information-session-and-campus-tour-7/
LOCATION:Pitkin Educational Center
CATEGORIES:Admissions,Home,Info Session
ATTACH;FMTTYPE=image/jpeg:https://bergen.edu/wp-content/uploads/GenEvent-admissions-1224.jpg
ORGANIZER;CN="Admissions Department":MAILTO:admissions@bergen.edu
END:VEVENT
BEGIN:VEVENT
DTSTART;TZID=America/New_York:20251107T190000
DTEND;TZID=America/New_York:20251107T220000
DTSTAMP:20260423T191744
CREATED:20250902T183232Z
LAST-MODIFIED:20250902T183232Z
UID:142553-1762542000-1762552800@bergen.edu
SUMMARY:Public Viewing Night Fall 2025
DESCRIPTION:Got an interest in astronomy? Stop by the Fall 2025 Public Viewing Nights at the Emil Buehler Trust Observatory. \nSee different stars and systems right here at Bergen! \nView the Fall Public Viewing Nights schedule here. \nA Public Viewing Night will be cancelled in the event of rain or clouds. For more information\, please email Sean McLearie at smclearie@bergen.edu.
URL:https://bergen.edu/event/public-viewing-night-fall-2025-10/
LOCATION:Technology Education Center
CATEGORIES:Home,STEM
ATTACH;FMTTYPE=image/jpeg:https://bergen.edu/wp-content/uploads/Public-Viewing-Nights-Social-Fall2025.jpg
ORGANIZER;CN="Division of Mathematics%2C Science and Technology":MAILTO:shaan@bergen.edu
END:VEVENT
BEGIN:VEVENT
DTSTART;TZID=America/New_York:20251111T110000
DTEND;TZID=America/New_York:20251111T110000
DTSTAMP:20260423T191744
CREATED:20251103T160532Z
LAST-MODIFIED:20251103T160603Z
UID:143047-1762858800-1762858800@bergen.edu
SUMMARY:Veteran’s Day Ceremony
DESCRIPTION:Honor our local military veterans at today’s Veteran’s Day Ceremony. Hear from Bergen’s student veterans and members of the Veterans Committee in the Student Center before heading to the Flag Pole for a flag raising.
URL:https://bergen.edu/event/veterans-day-ceremony/
LOCATION:Pitkin Educational Center
CATEGORIES:Home
ATTACH;FMTTYPE=image/jpeg:https://bergen.edu/wp-content/uploads/VeteransDay-InstaPost.jpg
END:VEVENT
BEGIN:VEVENT
DTSTART;TZID=America/New_York:20251111T110000
DTEND;TZID=America/New_York:20251111T130000
DTSTAMP:20260423T191744
CREATED:20251030T143101Z
LAST-MODIFIED:20251030T143101Z
UID:143034-1762858800-1762866000@bergen.edu
SUMMARY:Paint & Sip
DESCRIPTION:Students will be provided with a creative outlet to paint a “mini masterpiece” with friends while enjoying some fruity refreshments! \nAll students are welcome to participate\, with no RSVP necessary. The event takes place in L-127.
URL:https://bergen.edu/event/paint-sip/
LOCATION:Pitkin Educational Center
CATEGORIES:Home,Tutoring
ATTACH;FMTTYPE=image/jpeg:https://bergen.edu/wp-content/uploads/GenEvent-studentlife-0125.jpg
ORGANIZER;CN="Tutoring Center":MAILTO:tutoring@bergen.edu
END:VEVENT
BEGIN:VEVENT
DTSTART;TZID=America/New_York:20251111T121500
DTEND;TZID=America/New_York:20251111T135000
DTSTAMP:20260423T191744
CREATED:20251021T135850Z
LAST-MODIFIED:20251021T135926Z
UID:142949-1762863300-1762869000@bergen.edu
SUMMARY:We Fought Like Lions: A Son’s Tribute to His Father
DESCRIPTION:“We Fought Like Lions: A Son’s Tribute to His Father” invites you to hear from Bergen student Joel Lelonek as he reflects on his father Charles’ experience of risking everything to protect his family during the Holocaust. \nListen to Charles’ legacy of resistance\, unity\, and strength echoed across four generations. The event takes place in S-111.
URL:https://bergen.edu/event/we-fought-like-lions-a-sons-tribute-to-his-father/
LOCATION:Pitkin Educational Center
CATEGORIES:Center For Peace, Justice, Reconciliation,Home
ATTACH;FMTTYPE=image/jpeg:https://bergen.edu/wp-content/uploads/CPJR-WeFoughtLikeLions-MonitorWS.jpg
ORGANIZER;CN="Center For Peace%2C Justice%2C Reconciliation":MAILTO:cpjr@bergen.edu
END:VEVENT
BEGIN:VEVENT
DTSTART;TZID=America/New_York:20251111T123000
DTEND;TZID=America/New_York:20251111T133000
DTSTAMP:20260423T191744
CREATED:20251103T195741Z
LAST-MODIFIED:20251103T195741Z
UID:143055-1762864200-1762867800@bergen.edu
SUMMARY:Men's Mental Health Presentation
DESCRIPTION:Everyone needs to care for their mental health. Join us at the Men’s Mental Health Presentation by CarePlus in S-115.
URL:https://bergen.edu/event/mens-mental-health-presentation/
LOCATION:Pitkin Educational Center
CATEGORIES:Home
ATTACH;FMTTYPE=image/jpeg:https://bergen.edu/wp-content/uploads/GenEvent-studentlife-0125.jpg
END:VEVENT
BEGIN:VEVENT
DTSTART;TZID=America/New_York:20251111T170000
DTEND;TZID=America/New_York:20251111T170000
DTSTAMP:20260423T191744
CREATED:20250917T122353Z
LAST-MODIFIED:20250917T122354Z
UID:142653-1762880400-1762880400@bergen.edu
SUMMARY:Path to Recovery Group
DESCRIPTION:Path to Recovery is a weekly support group for students struggling with substance use or are in recovery. The group will offer a safe\, confidential\, and judgment-free space to share experiences\, build resilience\, and support one another on the journey to healing. Meetings begin Tuesday\, September 30 and will be held weekly at 5 p.m. \nPlease contact Michelle Boyce-Cannariato at mboycecannariato@bergen.edu to register.
URL:https://bergen.edu/event/path-to-recovery-group-7/
LOCATION:Pitkin Educational Center
CATEGORIES:Home
ATTACH;FMTTYPE=image/jpeg:https://bergen.edu/wp-content/uploads/Path-to-Recovery.jpg
END:VEVENT
BEGIN:VEVENT
DTSTART;TZID=America/New_York:20251111T173000
DTEND;TZID=America/New_York:20251111T183000
DTSTAMP:20260423T191744
CREATED:20250925T181214Z
LAST-MODIFIED:20250925T181214Z
UID:142726-1762882200-1762885800@bergen.edu
SUMMARY:Turning Point Program: A Pathway to Independence
DESCRIPTION:Are you looking for a supportive and enriching college experience for a young adult with an intellectual disability? Bergen’s Turning Point Program offers a dynamic two-year postsecondary pathway focused on academic growth\, career development\, and social engagement—all within an inclusive college setting. \nThis is a fantastic opportunity for students and families to explore how Turning Point can open new doors for personal growth and independence. \nReserve Your Spot Today! Contact the Turning Point Main Office to RSVP: \nPhone: (201) 879-7895\nEmail: TurningPoint@bergen.edu \n  \n\n\n\n\n\n\n\n\n 
URL:https://bergen.edu/event/turning-point-program-a-pathway-to-independence-3/
LOCATION:Pitkin Educational Center
CATEGORIES:Admissions,Home,Info Session
ATTACH;FMTTYPE=image/jpeg:https://bergen.edu/wp-content/uploads/GenEvent-admissions-1224.jpg
ORGANIZER;CN="Admissions Department":MAILTO:admissions@bergen.edu
END:VEVENT
BEGIN:VEVENT
DTSTART;TZID=America/New_York:20251112T123000
DTEND;TZID=America/New_York:20251112T133000
DTSTAMP:20260423T191744
CREATED:20251112T155036Z
LAST-MODIFIED:20251112T155036Z
UID:143139-1762950600-1762954200@bergen.edu
SUMMARY:From Use to Dependence: A Journey through Addiction
DESCRIPTION:Attend “From Use to Dependence: A Journey through Addiction” with Michelle Connors Boyce Cannariato in S-134 to gain support on your journey to wellness.
URL:https://bergen.edu/event/from-use-to-dependence-a-journey-through-addiction/
LOCATION:Pitkin Educational Center
CATEGORIES:Home
ATTACH;FMTTYPE=image/png:https://bergen.edu/wp-content/uploads/CounselingWellnessWorkshopSeries-MonitorWS.png
END:VEVENT
BEGIN:VEVENT
DTSTART;TZID=America/New_York:20251112T130000
DTEND;TZID=America/New_York:20251112T130000
DTSTAMP:20260423T191744
CREATED:20251006T161559Z
LAST-MODIFIED:20251006T161559Z
UID:142801-1762952400-1762952400@bergen.edu
SUMMARY:Bergen to Montclair Teacher Transfer Program Information Session
DESCRIPTION:Are you interested in transferring to Montclair State University to become a public school teacher? Attend a Virtual Information Session with Bergen and Montclair staff. \nCherese Jackson from Montclair University’s Teacher Transfer Department will attend the information session to outline the program benefits. \nRSVP to Dr. Melissa Krieger at mkrieger@bergen.edu to receive the Webex link to join the information session.
URL:https://bergen.edu/event/bergen-to-montclair-teacher-transfer-program-information-session/
LOCATION:Virtual Campus
CATEGORIES:Home,Info Session,Virtual Life
ATTACH;FMTTYPE=image/jpeg:https://bergen.edu/wp-content/uploads/GenEvent-admissions-1224.jpg
END:VEVENT
BEGIN:VEVENT
DTSTART;TZID=America/New_York:20251113T120000
DTEND;TZID=America/New_York:20251113T120000
DTSTAMP:20260423T191744
CREATED:20250930T163338Z
LAST-MODIFIED:20250930T163338Z
UID:142745-1763035200-1763035200@bergen.edu
SUMMARY:Bulldog Leadership Series - Leadership Lunch
DESCRIPTION:Build real-world leadership and communication skills while enjoying a free meal during a Leadership Lunch! Network with your peers\, build your confidence\, and define your leadership style at this student leadership development event. \nThe Leadership Lunch will take place in L-127 at 12 p.m.
URL:https://bergen.edu/event/bulldog-leadership-series-leadership-lunch-2/
LOCATION:Pitkin Educational Center
CATEGORIES:Home
ATTACH;FMTTYPE=image/jpeg:https://bergen.edu/wp-content/uploads/GenEvent-studentlife-0125.jpg
ORGANIZER;CN="Student Life":MAILTO:studentlife@bergen.edu
END:VEVENT
BEGIN:VEVENT
DTSTART;TZID=America/New_York:20251113T123000
DTEND;TZID=America/New_York:20251113T133000
DTSTAMP:20260423T191744
CREATED:20251112T155354Z
LAST-MODIFIED:20251112T155354Z
UID:143140-1763037000-1763040600@bergen.edu
SUMMARY:Personal Resiliency
DESCRIPTION:Build your personal resilience and strength with the New Jersey Department of Human Resources. The event will take place in S-138.
URL:https://bergen.edu/event/personal-resiliency/
LOCATION:Pitkin Educational Center
CATEGORIES:Home
ATTACH;FMTTYPE=image/png:https://bergen.edu/wp-content/uploads/CounselingWellnessWorkshopSeries-MonitorWS.png
END:VEVENT
BEGIN:VEVENT
DTSTART;TZID=America/New_York:20251113T150000
DTEND;TZID=America/New_York:20251113T180000
DTSTAMP:20260423T191744
CREATED:20250922T123305Z
LAST-MODIFIED:20250922T123334Z
UID:142676-1763046000-1763056800@bergen.edu
SUMMARY:Fall Open House 2025
DESCRIPTION:Discover your path to success and join us at our upcoming open house. Explore our diverse program offerings\, meet faculty and staff\, tour campus\, and learn about financial aid and tuition-free college opportunities. \nLearn more and RSVP at openhouse.bergen.edu.
URL:https://bergen.edu/event/fall-open-house-2025/
LOCATION:Pitkin Educational Center
CATEGORIES:Admissions,Home
ATTACH;FMTTYPE=image/jpeg:https://bergen.edu/wp-content/uploads/Adm-2025FallOpenHouse-CalImage-1000x563-0925.jpg
END:VEVENT
BEGIN:VEVENT
DTSTART;TZID=America/New_York:20251114T190000
DTEND;TZID=America/New_York:20251114T220000
DTSTAMP:20260423T191744
CREATED:20250902T183248Z
LAST-MODIFIED:20250902T183248Z
UID:142554-1763146800-1763157600@bergen.edu
SUMMARY:Public Viewing Night Fall 2025
DESCRIPTION:Got an interest in astronomy? Stop by the Fall 2025 Public Viewing Nights at the Emil Buehler Trust Observatory. \nSee different stars and systems right here at Bergen! \nView the Fall Public Viewing Nights schedule here. \nA Public Viewing Night will be cancelled in the event of rain or clouds. For more information\, please email Sean McLearie at smclearie@bergen.edu.
URL:https://bergen.edu/event/public-viewing-night-fall-2025-11/
LOCATION:Technology Education Center
CATEGORIES:Home,STEM
ATTACH;FMTTYPE=image/jpeg:https://bergen.edu/wp-content/uploads/Public-Viewing-Nights-Social-Fall2025.jpg
ORGANIZER;CN="Division of Mathematics%2C Science and Technology":MAILTO:shaan@bergen.edu
END:VEVENT
BEGIN:VEVENT
DTSTART;TZID=America/New_York:20251118T160000
DTEND;TZID=America/New_York:20251118T173000
DTSTAMP:20260423T191744
CREATED:20250820T175637Z
LAST-MODIFIED:20250820T175637Z
UID:127056-1763481600-1763487000@bergen.edu
SUMMARY:¡Explora Tu Futuro! Spanish Campus Tour at Bergen Community College
DESCRIPTION:¡Acompáñanos para una experiencia en el campus! \nJoin us for an exciting\, 1-hour student-led tour of Bergen Community College’s Paramus campus\, followed by an Admissions Information Session and Q&A — all offered entirely in Spanish. \nDiscover what it’s like to be a student at Bergen and get all your questions answered! \nRegister here.
URL:https://bergen.edu/event/explora-tu-futuro-spanish-campus-tour-at-bergen-community-college-5/
LOCATION:Pitkin Educational Center
CATEGORIES:Admissions,Home,Info Session
ATTACH;FMTTYPE=image/jpeg:https://bergen.edu/wp-content/uploads/GenEvent-admissions-1224.jpg
ORGANIZER;CN="Admissions Department":MAILTO:admissions@bergen.edu
END:VEVENT
END:VCALENDAR