BEGIN:VCALENDAR
VERSION:2.0
PRODID:-//Bergen Community College - ECPv6.15.15//NONSGML v1.0//EN
CALSCALE:GREGORIAN
METHOD:PUBLISH
X-WR-CALNAME:Bergen Community College
X-ORIGINAL-URL:https://bergen.edu
X-WR-CALDESC:Events for Bergen Community College
REFRESH-INTERVAL;VALUE=DURATION:PT1H
X-Robots-Tag:noindex
X-PUBLISHED-TTL:PT1H
BEGIN:VTIMEZONE
TZID:America/New_York
BEGIN:DAYLIGHT
TZOFFSETFROM:-0500
TZOFFSETTO:-0400
TZNAME:EDT
DTSTART:20200308T070000
END:DAYLIGHT
BEGIN:STANDARD
TZOFFSETFROM:-0400
TZOFFSETTO:-0500
TZNAME:EST
DTSTART:20201101T060000
END:STANDARD
BEGIN:DAYLIGHT
TZOFFSETFROM:-0500
TZOFFSETTO:-0400
TZNAME:EDT
DTSTART:20210314T070000
END:DAYLIGHT
BEGIN:STANDARD
TZOFFSETFROM:-0400
TZOFFSETTO:-0500
TZNAME:EST
DTSTART:20211107T060000
END:STANDARD
BEGIN:DAYLIGHT
TZOFFSETFROM:-0500
TZOFFSETTO:-0400
TZNAME:EDT
DTSTART:20220313T070000
END:DAYLIGHT
BEGIN:STANDARD
TZOFFSETFROM:-0400
TZOFFSETTO:-0500
TZNAME:EST
DTSTART:20221106T060000
END:STANDARD
END:VTIMEZONE
BEGIN:VEVENT
DTSTART;TZID=America/New_York:20210303T183000
DTEND;TZID=America/New_York:20210303T210000
DTSTAMP:20260423T172209
CREATED:20210301T145408Z
LAST-MODIFIED:20210302T164459Z
UID:18092-1614796200-1614805200@bergen.edu
SUMMARY:Eurydice Watchparty
DESCRIPTION:Join us for the Bergenstages Virtual Play Reading of Eurydice by Sarah Ruhl\, which is a re-imagining of the Orpheus and Eurydice myth with the character of Eurydice in the foreground. Directed by Leigh Jonaitis and produced by Jim Bumgardner. \nUse the password bcc
URL:https://bergen.edu/event/eurydice-watchparty/
LOCATION:Virtual Campus
CATEGORIES:Virtual Life
ATTACH;FMTTYPE=image/jpeg:https://bergen.edu/wp-content/uploads/WHM-0321-Calendar-1.jpg
END:VEVENT
BEGIN:VEVENT
DTSTART;TZID=America/New_York:20210303T190000
DTEND;TZID=America/New_York:20210303T210000
DTSTAMP:20260423T172209
CREATED:20210107T170558Z
LAST-MODIFIED:20210923T185537Z
UID:17705-1614798000-1614805200@bergen.edu
SUMMARY:Bergenstages Virtual Reading of "Eurydice"
DESCRIPTION:In Eurydice\, Sarah Ruhl reimagines the classic myth of Orpheus through the eyes of its heroine. Dying too young on her wedding day\, Eurydice must journey to the underworld\, where she reunites with her father and struggles to remember her lost love. With contemporary characters\, ingenious plot twists\, and breathtaking visual effects\, the play is a fresh look at a timeless love story. \nWebex Link: \nhttps://bergen.webex.com/bergen/onstage/g.php?MTID=e734b1e76434d16b313467c39eaab8e57  \nPassword: bcc
URL:https://bergen.edu/event/bergenstages-virtual-reading-of-eurydice/
LOCATION:Virtual Campus
CATEGORIES:Student Productions,Theatres at Bergen,Virtual Life
ATTACH;FMTTYPE=image/jpeg:https://bergen.edu/wp-content/uploads/eurydice-cal-0321.jpg
ORGANIZER;CN="Virtual Life":MAILTO:virtuallife@bergen.edu
END:VEVENT
END:VCALENDAR