BEGIN:VCALENDAR
VERSION:2.0
PRODID:-//Bergen Community College - ECPv6.15.15//NONSGML v1.0//EN
CALSCALE:GREGORIAN
METHOD:PUBLISH
X-WR-CALNAME:Bergen Community College
X-ORIGINAL-URL:https://bergen.edu
X-WR-CALDESC:Events for Bergen Community College
REFRESH-INTERVAL;VALUE=DURATION:PT1H
X-Robots-Tag:noindex
X-PUBLISHED-TTL:PT1H
BEGIN:VTIMEZONE
TZID:America/New_York
BEGIN:DAYLIGHT
TZOFFSETFROM:-0500
TZOFFSETTO:-0400
TZNAME:EDT
DTSTART:20200308T070000
END:DAYLIGHT
BEGIN:STANDARD
TZOFFSETFROM:-0400
TZOFFSETTO:-0500
TZNAME:EST
DTSTART:20201101T060000
END:STANDARD
BEGIN:DAYLIGHT
TZOFFSETFROM:-0500
TZOFFSETTO:-0400
TZNAME:EDT
DTSTART:20210314T070000
END:DAYLIGHT
BEGIN:STANDARD
TZOFFSETFROM:-0400
TZOFFSETTO:-0500
TZNAME:EST
DTSTART:20211107T060000
END:STANDARD
BEGIN:DAYLIGHT
TZOFFSETFROM:-0500
TZOFFSETTO:-0400
TZNAME:EDT
DTSTART:20220313T070000
END:DAYLIGHT
BEGIN:STANDARD
TZOFFSETFROM:-0400
TZOFFSETTO:-0500
TZNAME:EST
DTSTART:20221106T060000
END:STANDARD
END:VTIMEZONE
BEGIN:VEVENT
DTSTART;TZID=America/New_York:20211015T123000
DTEND;TZID=America/New_York:20211015T133000
DTSTAMP:20260423T172159
CREATED:20210922T142149Z
LAST-MODIFIED:20210922T142149Z
UID:19878-1634301000-1634304600@bergen.edu
SUMMARY:Honors Salon: A Zoom Presentation and Q&A with Dr. John-Carlos Perea
DESCRIPTION:For Native Americans\, the shared music and dances in a specific type of intertribal social space—the powwow—provide opportunities for culturally diverse peoples to negotiate differences and create “sounding communities.” In this session\, John-Carlos Perea of UC Berkeley and San Francisco State University will discuss the intertribal powwow and the role these events play in connecting individuals and peoples through music.
URL:https://bergen.edu/event/honors-salon-a-zoom-presentation-and-qa-with-dr-john-carlos-perea/
LOCATION:Virtual Campus
CATEGORIES:Heritage Month,Virtual Life
ATTACH;FMTTYPE=image/jpeg:https://bergen.edu/wp-content/uploads/NAH-Calendar.jpg
ORGANIZER;CN="Student Life":MAILTO:studentlife@bergen.edu
END:VEVENT
END:VCALENDAR