BEGIN:VCALENDAR
VERSION:2.0
PRODID:-//Bergen Community College - ECPv6.15.15//NONSGML v1.0//EN
CALSCALE:GREGORIAN
METHOD:PUBLISH
X-ORIGINAL-URL:https://bergen.edu
X-WR-CALDESC:Events for Bergen Community College
REFRESH-INTERVAL;VALUE=DURATION:PT1H
X-Robots-Tag:noindex
X-PUBLISHED-TTL:PT1H
BEGIN:VTIMEZONE
TZID:America/New_York
BEGIN:DAYLIGHT
TZOFFSETFROM:-0500
TZOFFSETTO:-0400
TZNAME:EDT
DTSTART:20200308T070000
END:DAYLIGHT
BEGIN:STANDARD
TZOFFSETFROM:-0400
TZOFFSETTO:-0500
TZNAME:EST
DTSTART:20201101T060000
END:STANDARD
BEGIN:DAYLIGHT
TZOFFSETFROM:-0500
TZOFFSETTO:-0400
TZNAME:EDT
DTSTART:20210314T070000
END:DAYLIGHT
BEGIN:STANDARD
TZOFFSETFROM:-0400
TZOFFSETTO:-0500
TZNAME:EST
DTSTART:20211107T060000
END:STANDARD
BEGIN:DAYLIGHT
TZOFFSETFROM:-0500
TZOFFSETTO:-0400
TZNAME:EDT
DTSTART:20220313T070000
END:DAYLIGHT
BEGIN:STANDARD
TZOFFSETFROM:-0400
TZOFFSETTO:-0500
TZNAME:EST
DTSTART:20221106T060000
END:STANDARD
END:VTIMEZONE
BEGIN:VEVENT
DTSTART;TZID=America/New_York:20210311T153000
DTEND;TZID=America/New_York:20210311T163000
DTSTAMP:20260419T151848
CREATED:20210301T145618Z
LAST-MODIFIED:20210301T145618Z
UID:18096-1615476600-1615480200@bergen.edu
SUMMARY:From Being Property to Owning Property: Women's Economic Transformations
DESCRIPTION:Join Professors Lisa Mayer\, Esq.\, and Christine Eubank\, PhD\, for a panel discussion that traces women’s centuries-long fight for economic equality. The panel includes a conversation that explores COVID-19’s disproportionate economic impact on women both in the United States and Abroad. Moderated by Annemarie Roscello.
URL:https://bergen.edu/event/from-being-property-to-owning-property-womens-economic-transformations/
LOCATION:Virtual Campus
CATEGORIES:Virtual Life
ATTACH;FMTTYPE=image/jpeg:https://bergen.edu/wp-content/uploads/WHM-0321-Calendar-1.jpg
END:VEVENT
BEGIN:VEVENT
DTSTART;TZID=America/New_York:20210322T140000
DTEND;TZID=America/New_York:20210322T153000
DTSTAMP:20260419T151848
CREATED:20210301T150039Z
LAST-MODIFIED:20210301T150039Z
UID:18097-1616421600-1616427000@bergen.edu
SUMMARY:Honors Salon: #MeToo Then & Now
DESCRIPTION:The Honors Salon presents a discussion of the “#MeToo” movement and issues of power-based personal violence both historically and in a time of COVID-19. The panel consists of Jessica Peacock\, MSW LCSW; Christine Eubank; Seamus Gibbons; Simza Sadek from Yes We Can NJ; and S. Mira Vanjari\, from Hope and Safety NJ.
URL:https://bergen.edu/event/honors-salon-metoo-then-now/
LOCATION:Virtual Campus
CATEGORIES:Virtual Life
ATTACH;FMTTYPE=image/jpeg:https://bergen.edu/wp-content/uploads/WHM-0321-Calendar-1.jpg
END:VEVENT
BEGIN:VEVENT
DTSTART;TZID=America/New_York:20210323T110000
DTEND;TZID=America/New_York:20210323T123000
DTSTAMP:20260419T151848
CREATED:20210301T150126Z
LAST-MODIFIED:20210301T150126Z
UID:18098-1616497200-1616502600@bergen.edu
SUMMARY:Women in Outdoor Careers
DESCRIPTION:This student-moderated panel features an interview with female experts in wildlife biology\, professional guiding\, environmental education\, and public lands stewardship\, focusing on the challenges they have faced as women in a field historically dominated by men.  Event participants include Dr. Nellie Tsipoura\, Senior Research Scientist for New Jersey Audubon; Alexa Fantacone\, Executive Director of Teaneck Creek Conservancy; Heather Darley\, Community Outreach Coordinator for the New York New Jersey Trail Conference; Jana Paremoud\, Founder of Adventure Untamed\, and Jade Tollis\, moderator.
URL:https://bergen.edu/event/women-in-outdoor-careers/
LOCATION:Virtual Campus
CATEGORIES:Virtual Life
ATTACH;FMTTYPE=image/jpeg:https://bergen.edu/wp-content/uploads/WHM-0321-Calendar-1.jpg
END:VEVENT
BEGIN:VEVENT
DTSTART;TZID=America/New_York:20210323T120000
DTEND;TZID=America/New_York:20210323T133000
DTSTAMP:20260419T151848
CREATED:20210301T150340Z
LAST-MODIFIED:20210301T150340Z
UID:18099-1616500800-1616506200@bergen.edu
SUMMARY:LGBTQ Issues Now
DESCRIPTION:This discussion will address marriage equality\, hate crime laws\, and laws against discrimination in jobs and housing.  Things have improved for the LGBTQ community\, but what are the issues now? Join five Bergen students and former students in a discussion about the struggles we all still share — and what we can do to address them.  Discussion moderated by Professor Pamela Haji. Panelists include BCC alumna Jessi Melendez; Jessica Abrams; Bergen Pride President Ashley Perez; BCC Adjunct Professor and longtime Pride member\, DJ Scheib; and BCC student Amanda Kulesza. 
URL:https://bergen.edu/event/lgbtq-issues-now/
LOCATION:Virtual Campus
CATEGORIES:Virtual Life
ATTACH;FMTTYPE=image/jpeg:https://bergen.edu/wp-content/uploads/WHM-0321-Calendar-1.jpg
END:VEVENT
BEGIN:VEVENT
DTSTART;TZID=America/New_York:20210324T140000
DTEND;TZID=America/New_York:20210324T153000
DTSTAMP:20260419T151848
CREATED:20210301T150435Z
LAST-MODIFIED:20210301T150435Z
UID:18100-1616594400-1616599800@bergen.edu
SUMMARY:Anuradha Bhagwati
DESCRIPTION:BCC Women’s History Month welcomes Anuradha Bhagwati\, author of Unbecoming: A Memoir of Disobedience\, as keynote speaker. A Marine Corps veteran and bisexual woman of color\, Bhagwati writes with frankness and clarity about bucking the demands of strict Indian parents\, and confronting misogyny and racism in the military. She is the founder of Service Women’s Action Network\, (SWAN) which brings national attention to sexual violence in the military and helped repeal the ban on women in combat. 
URL:https://bergen.edu/event/anuradha-bhagwati/
LOCATION:Virtual Campus
CATEGORIES:Virtual Life
ATTACH;FMTTYPE=image/jpeg:https://bergen.edu/wp-content/uploads/WHM-0321-Calendar-1.jpg
END:VEVENT
BEGIN:VEVENT
DTSTART;TZID=America/New_York:20210325T140000
DTEND;TZID=America/New_York:20210325T150000
DTSTAMP:20260419T151848
CREATED:20210302T135330Z
LAST-MODIFIED:20210302T135330Z
UID:18123-1616680800-1616684400@bergen.edu
SUMMARY:Stress Reduction for the College Student
DESCRIPTION:The Pathway Scholars Program presents a virtual workshop on Stress Reduction for the College Student on Thursday\, March 25th at 2:00-3:00pm. The workshop will be led by Jessica Peacock\, LCSW\, Mental Health Counselor. Join the workshop via Webex at https://bergen.webex.com/meet/jpeacock. Email Barbara Abolafia at babolafia@bergen.edu with any questions.
URL:https://bergen.edu/event/stress-reduction-for-the-college-student/
LOCATION:Virtual Campus
CATEGORIES:Virtual Life
END:VEVENT
BEGIN:VEVENT
DTSTART;TZID=America/New_York:20210325T190000
DTEND;TZID=America/New_York:20210325T203000
DTSTAMP:20260419T151848
CREATED:20210304T200030Z
LAST-MODIFIED:20210310T184248Z
UID:18144-1616698800-1616704200@bergen.edu
SUMMARY:Dinner’s Ready Live: Cooking & Comedy for the Isabella Altano Scholarship
DESCRIPTION:Are you looking to experience a live\, interactive cooking show with comedy from the comfort of your home? The Bergen Community College Foundation will present “Dinner’s Ready Live: Cooking & Comedy for the Isabella Altano Scholarship” on Thursday\, March 25\, 2021 at 7-8:30pm. To purchase a ticket for the event- where 100% of the proceeds will support student scholarships- or make a direct donation to the scholarship fund\, visit https://www.eventbrite.com/e/dinners-ready-live-cooking-and-comedy-for-a-cause-tickets-143488224141.
URL:https://bergen.edu/event/dinners-ready-live-cooking-comedy-for-the-isabella-altano-scholarship/
LOCATION:Virtual Campus
CATEGORIES:Virtual Life
ATTACH;FMTTYPE=image/jpeg:https://bergen.edu/wp-content/uploads/FND-DinnersReadyLive-EventCalPage-0325.jpg
END:VEVENT
BEGIN:VEVENT
DTSTART;TZID=America/New_York:20210326T140000
DTEND;TZID=America/New_York:20210326T153000
DTSTAMP:20260419T151848
CREATED:20210301T150552Z
LAST-MODIFIED:20210301T150552Z
UID:18101-1616767200-1616772600@bergen.edu
SUMMARY:Unbought and Unbossed: Women Who Lead
DESCRIPTION:Three women who have run for office and won discuss their journeys. What is it like to put yourself out there? How can women overcome self-doubt and get involved in action? What makes a good leader? These and other questions will be the topics of a conversation between BCC SGA President\, Laila Metwaly and Vice President\, Paige Kim in conversation with Democratic Council Member from Glen Rock and former candidate for Congress from New Jersey Dist. 5\, Dr. Arati Kriebich. Moderated by Pamela Haji.
URL:https://bergen.edu/event/unbought-and-unbossed-women-who-lead/
LOCATION:Virtual Campus
CATEGORIES:Virtual Life
ATTACH;FMTTYPE=image/jpeg:https://bergen.edu/wp-content/uploads/WHM-0321-Calendar-1.jpg
END:VEVENT
BEGIN:VEVENT
DTSTART;TZID=America/New_York:20210326T204500
DTEND;TZID=America/New_York:20210326T213000
DTSTAMP:20260419T151848
CREATED:20210326T145724Z
LAST-MODIFIED:20210326T145945Z
UID:18283-1616791500-1616794200@bergen.edu
SUMMARY:Minari: Film Discussion
DESCRIPTION:Join us for a private Bergen virtual film screening and discussion of Minari\, the 2021 Golden Globe-winning fictionalized memoir of a Korean-American family’s pursuit of the American Dream and the challenges of assimilation. This event is co-sponsored by the Korean Student Association
URL:https://bergen.edu/event/minari-film-discussion/
LOCATION:Virtual Campus
CATEGORIES:Virtual Life
ATTACH;FMTTYPE=image/png:https://bergen.edu/wp-content/uploads/AsianHeritage-Calendar-thumbnail.png
END:VEVENT
BEGIN:VEVENT
DTSTART;TZID=America/New_York:20210329T140000
DTEND;TZID=America/New_York:20210329T153000
DTSTAMP:20260419T151848
CREATED:20210301T151043Z
LAST-MODIFIED:20210301T151043Z
UID:18102-1617026400-1617031800@bergen.edu
SUMMARY:“Don’t Call Me Crazy!” Promoting Health and Resiliency during Covid-19
DESCRIPTION:Women often have unique mental-health challenges in different life situations whether as young adults in college\, those suffering from depression or post-traumatic stress disorder\, or dealing with severe anxiety as a student\, professional or parent. This panel discussion will guide participants through a discussion on women’s mental health in an effort to promote health and resiliency during COVID-19 and virtual life.  Panel discussion with Jennifer Migliorino-Reyes\, John Giaimo\, Jessica Peacock\, and Kathy Pignatelli.
URL:https://bergen.edu/event/dont-call-me-crazy-promoting-health-and-resiliency-during-covid-19/
LOCATION:Virtual Campus
CATEGORIES:Virtual Life
ATTACH;FMTTYPE=image/jpeg:https://bergen.edu/wp-content/uploads/WHM-0321-Calendar-1.jpg
END:VEVENT
BEGIN:VEVENT
DTSTART;TZID=America/New_York:20210330T110000
DTEND;TZID=America/New_York:20210330T123000
DTSTAMP:20260419T151848
CREATED:20210301T151123Z
LAST-MODIFIED:20210301T151123Z
UID:18103-1617102000-1617107400@bergen.edu
SUMMARY:Emily Lombardo & The Caprichos
DESCRIPTION:The Caprichos by Emily Lombardo is a series of 80 etchings made in conversation with – and in homage to — the famous print series by Francisco Goya of 1799 called Los Caprichos.  Goya’s work addressed societal ills in late 18th-century Spain; Lombardo updates his imagery to consider the cultural issues of our own times\, engaging her audience to ponder the congruences of past and present\, resulting in an intimate recognition of the historical patterns of human behavior.  Moderated by Denise Budd.
URL:https://bergen.edu/event/emily-lombardo-the-caprichos/
LOCATION:Virtual Campus
CATEGORIES:Virtual Life
ATTACH;FMTTYPE=image/jpeg:https://bergen.edu/wp-content/uploads/WHM-0321-Calendar-1.jpg
END:VEVENT
BEGIN:VEVENT
DTSTART;TZID=America/New_York:20210330T123000
DTEND;TZID=America/New_York:20210330T133000
DTSTAMP:20260419T151848
CREATED:20210315T200021Z
LAST-MODIFIED:20210315T200048Z
UID:18205-1617107400-1617111000@bergen.edu
SUMMARY:Transfer Scholarships Virtual Workshop
DESCRIPTION:The Pathway Scholars Program presents a Transfer Scholarships Virtual Workshop on Tuesday\, March 30th 12:30-1:30pm via Webex at https://bergen.webex.com/meet/babolafia. The workshop led by Barbara Abolafia\, Career Explorations Coordinator\, will cover the following topics:\n\nLearn how to search college websites for their available scholarships\nFind out about scholarships for your particular major\nDetermine which government\, non-profit\, and local scholarships apply to you
URL:https://bergen.edu/event/transfer-scholarships-virtual-workshop/
LOCATION:Virtual Campus
CATEGORIES:Virtual Life
ORGANIZER;CN="Virtual Life":MAILTO:virtuallife@bergen.edu
END:VEVENT
BEGIN:VEVENT
DTSTART;TZID=America/New_York:20210330T150000
DTEND;TZID=America/New_York:20210330T160000
DTSTAMP:20260419T151848
CREATED:20210312T162719Z
LAST-MODIFIED:20210312T162719Z
UID:18191-1617116400-1617120000@bergen.edu
SUMMARY:SGA Spring 2021 Election - Info Session
DESCRIPTION:The Elections Committee will discuss and answer questions about the timeline\, rules\, and guidelines of the election. Candidates will be provided with the Elections Guidelines. These will take place virtually and be organized and promoted by the SGA Chief Justice and Elections Committee. All three info sessions can be accessed through the Chief Justice’s WebEx Personal Room.
URL:https://bergen.edu/event/sga-spring-2021-election-info-session/
LOCATION:Virtual Campus
CATEGORIES:Virtual Life
ATTACH;FMTTYPE=image/jpeg:https://bergen.edu/wp-content/uploads/sga-logo.jpg
ORGANIZER;CN="Student Life":MAILTO:studentlife@bergen.edu
END:VEVENT
BEGIN:VEVENT
DTSTART;TZID=America/New_York:20210330T190000
DTEND;TZID=America/New_York:20210330T203000
DTSTAMP:20260419T151848
CREATED:20210317T153220Z
LAST-MODIFIED:20210317T153220Z
UID:18222-1617130800-1617136200@bergen.edu
SUMMARY:Gallery Bergen Virtual Exhibition Opening
DESCRIPTION:Gallery Bergen holds a virtual exhibition opening\, “An Attempt to Communicate with Reality: A Hybrid Real and Virtual installation\,” created by Newark artist\, Gianluca Bianchino\, on Tuesday\, March 30th at 7:00 p.m. The event will be livestreamed on the Gallery Bergen Facebook page at http://ow.ly/Lhws50E0oeg and on the Gallery Bergen YouTube channel at http://ow.ly/xAXi50E0oe9. To see the virtual exhibition show’s website\, visit http://ow.ly/XBWL50E0oed.
URL:https://bergen.edu/event/gallery-bergen-virtual-exhibition-opening/
LOCATION:Virtual Campus
CATEGORIES:Virtual Life
END:VEVENT
BEGIN:VEVENT
DTSTART;TZID=America/New_York:20210331T020000
DTEND;TZID=America/New_York:20210331T153000
DTSTAMP:20260419T151848
CREATED:20210301T150657Z
LAST-MODIFIED:20210301T150657Z
UID:18104-1617156000-1617204600@bergen.edu
SUMMARY:Essay Contest Awards
DESCRIPTION:Creative Writing teacher and Labyrinth editor\, Mary Crosby\, and Women’s History Month Co-chairs\, Caroline Kelley and Christine Eubank\, will announce the awards for the 2021 Women’s History Month Essay Contest.  Awardees will read their prize-winning essays.  
URL:https://bergen.edu/event/essay-contest-awards/
LOCATION:Virtual Campus
CATEGORIES:Virtual Life
ATTACH;FMTTYPE=image/jpeg:https://bergen.edu/wp-content/uploads/WHM-0321-Calendar-1.jpg
END:VEVENT
BEGIN:VEVENT
DTSTART;TZID=America/New_York:20210331T190000
DTEND;TZID=America/New_York:20210331T210000
DTSTAMP:20260419T151848
CREATED:20210305T180354Z
LAST-MODIFIED:20210305T180354Z
UID:18155-1617217200-1617224400@bergen.edu
SUMMARY:Life with Layla
DESCRIPTION:“Life With Layla” tells the story of the 7-year-old New Jersey girl who is surrounded by a family struggling with drug abuse. Layla lost her aunt to a fatal heroin overdose. She and her family try to stop her uncle from going down the same tragic path. \nQ&A with Filmmakers to follow the screening.
URL:https://bergen.edu/event/life-with-layla/
LOCATION:Virtual Campus
CATEGORIES:Virtual Life
ATTACH;FMTTYPE=image/jpeg:https://bergen.edu/wp-content/uploads/LifewithLayla-eventcal.jpg
END:VEVENT
BEGIN:VEVENT
DTSTART;TZID=America/New_York:20210401T143000
DTEND;TZID=America/New_York:20210401T160000
DTSTAMP:20260419T151848
CREATED:20210329T182402Z
LAST-MODIFIED:20210330T144157Z
UID:18302-1617287400-1617292800@bergen.edu
SUMMARY:#STOPASIANHATE Student Open Forum
DESCRIPTION:Join the SGA Diversity Committee and other members of the Bergen family for an open dialogue about the current violence against Asian Americans within the country today. Please join us for your voice to be heard.
URL:https://bergen.edu/event/stopasianhate-student-open-forum/
LOCATION:Virtual Campus
CATEGORIES:Heritage Month,Virtual Life
ATTACH;FMTTYPE=image/jpeg:https://bergen.edu/wp-content/uploads/sga-logo.jpg
ORGANIZER;CN="Student Life":MAILTO:studentlife@bergen.edu
END:VEVENT
BEGIN:VEVENT
DTSTART;TZID=America/New_York:20210405T160000
DTEND;TZID=America/New_York:20210405T170000
DTSTAMP:20260419T151848
CREATED:20210312T162739Z
LAST-MODIFIED:20210312T162739Z
UID:18192-1617638400-1617642000@bergen.edu
SUMMARY:SGA Spring 2021 Election - Info Session
DESCRIPTION:The Elections Committee will discuss and answer questions about the timeline\, rules\, and guidelines of the election. Candidates will be provided with the Elections Guidelines. These will take place virtually and be organized and promoted by the SGA Chief Justice and Elections Committee. All three info sessions can be accessed through the Chief Justice’s WebEx Personal Room.
URL:https://bergen.edu/event/sga-spring-2021-election-info-session-2/
LOCATION:Virtual Campus
CATEGORIES:Virtual Life
ATTACH;FMTTYPE=image/jpeg:https://bergen.edu/wp-content/uploads/sga-logo.jpg
ORGANIZER;CN="Student Life":MAILTO:studentlife@bergen.edu
END:VEVENT
BEGIN:VEVENT
DTSTART;TZID=America/New_York:20210407T123000
DTEND;TZID=America/New_York:20210407T133000
DTSTAMP:20260419T151848
CREATED:20210405T141107Z
LAST-MODIFIED:20210405T141148Z
UID:18377-1617798600-1617802200@bergen.edu
SUMMARY:Leadership and Collaboration Virtual Workshop
DESCRIPTION:The Pathway Scholars Program presents a Leadership and Collaboration Virtual Workshop on Wednesday\, April 7th from 12:30-1:30pm via WebEx at https://bergen.webex.com/meet/ibucchino. Led by Iris Bucchino\, Director of the IST Program/Professor of English\, the workshop will cover the following topics:\n\nLearn basic principles of teamwork\nWhat is effective collaboration?\nWhen to take a leadership role\nFind opportunities to lead and collaborate\n\nFor questions\, email Barbara Abolafia at babolafia@bergen.edu
URL:https://bergen.edu/event/leadership-and-collaboration-virtual-workshop/
LOCATION:Virtual Campus
CATEGORIES:Virtual Life
END:VEVENT
BEGIN:VEVENT
DTSTART;TZID=America/New_York:20210408T100000
DTEND;TZID=America/New_York:20210408T110000
DTSTAMP:20260419T151848
CREATED:20210312T162757Z
LAST-MODIFIED:20210312T162757Z
UID:18193-1617876000-1617879600@bergen.edu
SUMMARY:SGA Spring 2021 Election - Info Session
DESCRIPTION:The Elections Committee will discuss and answer questions about the timeline\, rules\, and guidelines of the election. Candidates will be provided with the Elections Guidelines. These will take place virtually and be organized and promoted by the SGA Chief Justice and Elections Committee. All three info sessions can be accessed through the Chief Justice’s WebEx Personal Room.
URL:https://bergen.edu/event/sga-spring-2021-election-info-session-3/
LOCATION:Virtual Campus
CATEGORIES:Virtual Life
ATTACH;FMTTYPE=image/jpeg:https://bergen.edu/wp-content/uploads/sga-logo.jpg
ORGANIZER;CN="Student Life":MAILTO:studentlife@bergen.edu
END:VEVENT
BEGIN:VEVENT
DTSTART;TZID=America/New_York:20210408T140000
DTEND;TZID=America/New_York:20210408T150000
DTSTAMP:20260419T151848
CREATED:20210401T152425Z
LAST-MODIFIED:20210405T134917Z
UID:18352-1617890400-1617894000@bergen.edu
SUMMARY:Who’s Hoo - Owls of NJ
DESCRIPTION:Join the Outdoors club for a session in “Who’s Who-Owls of NJ”. Learn about the various species of owls that live in NJ and the incredible adaptions they have that make them the apex predator of our night time skies.
URL:https://bergen.edu/event/outdoors-club-meeting/
LOCATION:Virtual Campus
CATEGORIES:Virtual Life
ATTACH;FMTTYPE=image/jpeg:https://bergen.edu/wp-content/uploads/bcc-outdoors-calimage.jpg
ORGANIZER;CN="Student Life":MAILTO:studentlife@bergen.edu
END:VEVENT
BEGIN:VEVENT
DTSTART;TZID=America/New_York:20210409T150000
DTEND;TZID=America/New_York:20210409T160000
DTSTAMP:20260419T151848
CREATED:20210407T182014Z
LAST-MODIFIED:20210407T182014Z
UID:18397-1617980400-1617984000@bergen.edu
SUMMARY:Outdoor Club Internship Opportunity
DESCRIPTION:Would you like to spend your summer outside serving your community?  Join our Summer Internship Recruitment Hour to learn about 4 local organizations currently looking for summer interns!  Get the chance to meet representatives from MEVO Fresh Roots Farm in Mahwah\, Flat Rock Brook Nature Center in Englewood\, the New Weiss Center in Ringwood\, and the Rockland Conservation and Service Corps in NY.
URL:https://bergen.edu/event/outdoor-club-internship-opportunity/
LOCATION:Virtual Campus
CATEGORIES:Virtual Life
ATTACH;FMTTYPE=image/jpeg:https://bergen.edu/wp-content/uploads/bcc-outdoors-calimage.jpg
ORGANIZER;CN="Student Life":MAILTO:studentlife@bergen.edu
END:VEVENT
BEGIN:VEVENT
DTSTART;TZID=America/New_York:20210413T113000
DTEND;TZID=America/New_York:20210413T130000
DTSTAMP:20260419T151848
CREATED:20210409T121327Z
LAST-MODIFIED:20210409T121327Z
UID:18409-1618313400-1618318800@bergen.edu
SUMMARY:Holocaust Survivor Bronia Brandman
DESCRIPTION:Join the Center for Peace\, Justice\, and Reconciliation to hear Holocaust Survivor\, Bronia Brandman\, to speak for Yom HaShoah on Tuesday\, April 13th at 11:30am-1:30pm. Register to receive the Webex link. For more information\, visit http://bergen.edu/PJR/events.
URL:https://bergen.edu/event/holocaust-survivor-bronia-brandman/
LOCATION:Virtual Campus
CATEGORIES:Virtual Life
END:VEVENT
BEGIN:VEVENT
DTSTART;TZID=America/New_York:20210413T123000
DTEND;TZID=America/New_York:20210413T133000
DTSTAMP:20260419T151848
CREATED:20210326T145402Z
LAST-MODIFIED:20210401T153456Z
UID:18280-1618317000-1618320600@bergen.edu
SUMMARY:Racial Stigma and COVID-19 Panel Discussion
DESCRIPTION:Join us for a panel\, “Racial Stigma and Covid 19\,” to discuss stereotypes\, prejudice\, and discrimination toward Asians/Asian Americans during Covid 19. Dr. Alex Chan is the moderator for faculty and student panelists.
URL:https://bergen.edu/event/racial-stigma-and-covid-19-panel-discussion/
LOCATION:Virtual Campus
CATEGORIES:Heritage Month,Virtual Life
ATTACH;FMTTYPE=image/png:https://bergen.edu/wp-content/uploads/AsianHeritage-Calendar-thumbnail.png
END:VEVENT
BEGIN:VEVENT
DTSTART;TZID=America/New_York:20210413T140000
DTEND;TZID=America/New_York:20210413T150000
DTSTAMP:20260419T151848
CREATED:20210329T182309Z
LAST-MODIFIED:20210329T182309Z
UID:18300-1618322400-1618326000@bergen.edu
SUMMARY:SAB Virtual Dance Lesson w/ Sheena Larsen
DESCRIPTION:Join Student Activities Board as they host a virtual dance lesson. Dance instructor\, Sheena Larsen\, will be showing the beginner steps to dancing in rhythm. Come dance your worries away for an hour with SAB! \n  \nPassword : dance
URL:https://bergen.edu/event/sab-virtual-dance-lesson-w-sheena-larsen/
LOCATION:Virtual Campus
CATEGORIES:Virtual Life
ATTACH;FMTTYPE=image/jpeg:https://bergen.edu/wp-content/uploads/eventcal-032921.jpg
ORGANIZER;CN="Student Life":MAILTO:studentlife@bergen.edu
END:VEVENT
BEGIN:VEVENT
DTSTART;TZID=America/New_York:20210414T103000
DTEND;TZID=America/New_York:20210414T113000
DTSTAMP:20260419T151848
CREATED:20210107T170325Z
LAST-MODIFIED:20210210T184459Z
UID:17699-1618396200-1618399800@bergen.edu
SUMMARY:Mystic Aquarium Virtual Program Series - Seal & Sea Lion Encounter
DESCRIPTION:Join us as we virtually explore the Mystic Aquarium. You will be inspired by their work in animal husbandry\, conservation\, research and education.  Live stream videos and an opportunity to ask questions of the Mystic Aquarium team will be a part of each event. \nWebinar ID: 827 7428 2715 \nPasscode: Seals
URL:https://bergen.edu/event/mystic-aquarium-virtual-program-series-sea-sea-lion-encounter/
LOCATION:Virtual Campus
CATEGORIES:Virtual Life
ATTACH;FMTTYPE=image/jpeg:https://bergen.edu/wp-content/uploads/mystic-calendar.jpg
ORGANIZER;CN="Virtual Life":MAILTO:virtuallife@bergen.edu
END:VEVENT
BEGIN:VEVENT
DTSTART;TZID=America/New_York:20210414T123000
DTEND;TZID=America/New_York:20210414T133000
DTSTAMP:20260419T151848
CREATED:20210405T155049Z
LAST-MODIFIED:20210405T155355Z
UID:18378-1618403400-1618407000@bergen.edu
SUMMARY:Loans 101: Paying for Your Transfer College
DESCRIPTION:The Pathway Scholars Program Presents a virtual workshop\, “Loans 101: Paying for Your Transfer College” on Wednesday\, April 14th at 12:30-1:30pm via Webex at https://bergen.webex.com/meet/flc. The workshop led by Randi Greene\, Financial Literacy Expert\, will cover the following topics:\n\nLearn the differences between loans\, grants\, financial aid\nPeruse general financial aid packages\nDiscussion of subsidized and unsubsidized loans\nReview of Pell Grants\n\nFor questions\, please contact Barbara Abolafia at babolafia@bergen.edu
URL:https://bergen.edu/event/loans-101-paying-for-your-transfer-college/
LOCATION:Virtual Campus
CATEGORIES:Virtual Life
END:VEVENT
BEGIN:VEVENT
DTSTART;TZID=America/New_York:20210414T130000
DTEND;TZID=America/New_York:20210414T140000
DTSTAMP:20260419T151848
CREATED:20210414T162913Z
LAST-MODIFIED:20210414T162913Z
UID:18414-1618405200-1618408800@bergen.edu
SUMMARY:Healing and Hope Speaker Series
DESCRIPTION:Join Miranda Pacchiana\, a personal coach\, writer and podcast host who has been featured in multiple publications\, for the Healing and Hope Speaker Series on April 14th at 1:00pm. She is the creator of the online platform\, The Second Wound: Coping with family while healing from abuse and assault. She has spent over 20 years addressing and examining family responses to the disclosure of child sexual abuse. Register for the event via the Eventbrite link.
URL:https://bergen.edu/event/healing-and-hope-speaker-series-2/
LOCATION:Virtual Campus
CATEGORIES:Virtual Life
ATTACH;FMTTYPE=image/jpeg:https://bergen.edu/wp-content/uploads/SAAM.jpg
ORGANIZER;CN="Student Life":MAILTO:studentlife@bergen.edu
END:VEVENT
BEGIN:VEVENT
DTSTART;TZID=America/New_York:20210415T140000
DTEND;TZID=America/New_York:20210415T150000
DTSTAMP:20260419T151848
CREATED:20210407T181216Z
LAST-MODIFIED:20210407T181216Z
UID:18353-1618495200-1618498800@bergen.edu
SUMMARY:Outdoors Club Meeting
DESCRIPTION:Join the Outdoors Club for a session in “Gardening for the Birds and the Bees.” Learn about the importance of bees to our livelihood.
URL:https://bergen.edu/event/outdoors-club-meeting-2/
LOCATION:Virtual Campus
CATEGORIES:Virtual Life
ATTACH;FMTTYPE=image/jpeg:https://bergen.edu/wp-content/uploads/OLStuSvces_AcadAdvising.jpg
ORGANIZER;CN="Student Life":MAILTO:studentlife@bergen.edu
END:VEVENT
BEGIN:VEVENT
DTSTART;TZID=America/New_York:20210415T140000
DTEND;TZID=America/New_York:20210415T150000
DTSTAMP:20260419T151848
CREATED:20210407T181247Z
LAST-MODIFIED:20210407T181247Z
UID:18385-1618495200-1618498800@bergen.edu
SUMMARY:Student Activities Board Cap Contest
DESCRIPTION:Let’s see your creative side! SAB will award the “Most Outstanding Cap” a $25 Visa gift card. Students can submit their entries through the Office of Student Life’s Instagram page @BergenSLC. Join SAB for a discussion about cap ideas and for more information about the contest on Thursday\, April 15 at 2 p.m.
URL:https://bergen.edu/event/student-activities-board-cap-contest/
LOCATION:Virtual Campus
CATEGORIES:Virtual Life
ATTACH;FMTTYPE=image/jpeg:https://bergen.edu/wp-content/uploads/Commencement-header.jpg
ORGANIZER;CN="Student Life":MAILTO:studentlife@bergen.edu
END:VEVENT
END:VCALENDAR