BEGIN:VCALENDAR
VERSION:2.0
PRODID:-//Bergen Community College - ECPv6.15.15//NONSGML v1.0//EN
CALSCALE:GREGORIAN
METHOD:PUBLISH
X-ORIGINAL-URL:https://bergen.edu
X-WR-CALDESC:Events for Bergen Community College
REFRESH-INTERVAL;VALUE=DURATION:PT1H
X-Robots-Tag:noindex
X-PUBLISHED-TTL:PT1H
BEGIN:VTIMEZONE
TZID:America/New_York
BEGIN:DAYLIGHT
TZOFFSETFROM:-0500
TZOFFSETTO:-0400
TZNAME:EDT
DTSTART:20200308T070000
END:DAYLIGHT
BEGIN:STANDARD
TZOFFSETFROM:-0400
TZOFFSETTO:-0500
TZNAME:EST
DTSTART:20201101T060000
END:STANDARD
BEGIN:DAYLIGHT
TZOFFSETFROM:-0500
TZOFFSETTO:-0400
TZNAME:EDT
DTSTART:20210314T070000
END:DAYLIGHT
BEGIN:STANDARD
TZOFFSETFROM:-0400
TZOFFSETTO:-0500
TZNAME:EST
DTSTART:20211107T060000
END:STANDARD
BEGIN:DAYLIGHT
TZOFFSETFROM:-0500
TZOFFSETTO:-0400
TZNAME:EDT
DTSTART:20220313T070000
END:DAYLIGHT
BEGIN:STANDARD
TZOFFSETFROM:-0400
TZOFFSETTO:-0500
TZNAME:EST
DTSTART:20221106T060000
END:STANDARD
BEGIN:DAYLIGHT
TZOFFSETFROM:-0500
TZOFFSETTO:-0400
TZNAME:EDT
DTSTART:20230312T070000
END:DAYLIGHT
BEGIN:STANDARD
TZOFFSETFROM:-0400
TZOFFSETTO:-0500
TZNAME:EST
DTSTART:20231105T060000
END:STANDARD
END:VTIMEZONE
BEGIN:VEVENT
DTSTART;TZID=America/New_York:20211021T190000
DTEND;TZID=America/New_York:20211021T203000
DTSTAMP:20260419T082546
CREATED:20211015T133019Z
LAST-MODIFIED:20211015T135236Z
UID:20218-1634842800-1634848200@bergen.edu
SUMMARY:Common Reads Online Book Discussion
DESCRIPTION:As a community extension of its campus-wide read of Ta-Nehisi Coates’ acclaimed book Between the World and Me\, Bergen\nCommunity College is offering online book discussions on the work on October 21st and November 17th in conjunction with Englewood Public Library\, located at 31 Engle Street\, Englewood\, NJ. Events will be held at 7 p.m. The discussion will be facilitated by Deborah Manning\, Assistant Dean of Adjunct Administration\, and Professor Dan Sheehan. The event will also be available via Zoom at https://us02web.zoom.us/j/82748146292?pwd=VDlZZC9xN2dyZitrMkJmRVdjRlhLQT09
URL:https://bergen.edu/event/common-reads-online-book-discussion/
LOCATION:Virtual Campus
CATEGORIES:Virtual Life
END:VEVENT
BEGIN:VEVENT
DTSTART;TZID=America/New_York:20211025T180000
DTEND;TZID=America/New_York:20211025T200000
DTSTAMP:20260419T082546
CREATED:20210922T142938Z
LAST-MODIFIED:20210929T175337Z
UID:19896-1635184800-1635192000@bergen.edu
SUMMARY:Film Showing and Panel Discussion: Women of the Ramapough Lenape Nation - A 104
DESCRIPTION:A film by Myles Aronowitz with a special panel discussion with women of the Ramapough Lunaape Nation discussing issues of identity and survival facing them as First Nation women living in one of the longest settled regions of the US. Live\, in-person event and livestreamed on Gallery Bergen’s Facebook and YouTube channel.
URL:https://bergen.edu/event/film-showing-and-panel-discussion-women-of-the-ramapough-lenape-nation-a-104/
LOCATION:Pitkin Educational Center
CATEGORIES:Heritage Month,Virtual Life
ATTACH;FMTTYPE=image/jpeg:https://bergen.edu/wp-content/uploads/NAH-Calendar.jpg
ORGANIZER;CN="Student Life":MAILTO:studentlife@bergen.edu
END:VEVENT
BEGIN:VEVENT
DTSTART;TZID=America/New_York:20211028T093000
DTEND;TZID=America/New_York:20211028T120000
DTSTAMP:20260419T082546
CREATED:20211015T174623Z
LAST-MODIFIED:20211020T193339Z
UID:20244-1635413400-1635422400@bergen.edu
SUMMARY:Focus on Afghanistan Series - S 134
DESCRIPTION:Mariam Atash\, a licensed attorney with experience in the legal\, business\, government relations/diplomacy\, media and nonprofit sectors\, is Managing Attorney of Prime Counsel\, PLLC in the United States\, a law firm providing services in immigration\, government contracting\, international business\, and small business representation. Mariam is also a co-founder of the PlanetPix media brand through which she launched Leading the Way\, an initiative to share the voices of women bringing peace through leadership\, starting with Afghanistan. She has served on the US Department of State’s US-Afghan Women’s Council since 2004 and on the United States Institute of Peace’s Gender and Law Working Group since 2008. She is also an Adjunct Professor at Bay Atlantic University in Washington\, DC and has served as an Adjunct Law Professor at The University of La Verne School of Law. \nStudents can also join the event via Webex at https://bergen.webex.com/meet/BergenPTK
URL:https://bergen.edu/event/focus-on-afghanistan-series-s-134/
LOCATION:Pitkin Educational Center
CATEGORIES:Virtual Life
ORGANIZER;CN="Student Life":MAILTO:studentlife@bergen.edu
END:VEVENT
BEGIN:VEVENT
DTSTART;TZID=America/New_York:20211028T123000
DTEND;TZID=America/New_York:20211028T130000
DTSTAMP:20260419T082546
CREATED:20210922T141836Z
LAST-MODIFIED:20211014T213122Z
UID:19877-1635424200-1635426000@bergen.edu
SUMMARY:Student Center  KAHOOT CHALLENGE
DESCRIPTION:Join us and participate in an interactive Kahoot challenge! Test your knowledge gained throughout the month for the opportunity to win a prize\, just by learning that the world’s largest river “The Amazon” is located in South America. Learn that Costa Rica is home to the most beautiful green turtles in the world\, as you visit the Tortuguero National Park\, and much more.\nFirst Place $300. | Second place $200. | Third Place $100 \nDownload a Landmarks and Landscapes of Latin America Study Guide \nFor more information about how to participate\, please contact Gloria Cevallos by email at gcevallos@bergen.edu or by phone at (201) 689-7620.
URL:https://bergen.edu/event/student-center-kahoot-challenge/
LOCATION:Pitkin Educational Center
CATEGORIES:Heritage Month,Virtual Life
ATTACH;FMTTYPE=image/jpeg:https://bergen.edu/wp-content/uploads/LHM-Calendar.jpg
ORGANIZER;CN="Student Life":MAILTO:studentlife@bergen.edu
END:VEVENT
BEGIN:VEVENT
DTSTART;TZID=America/New_York:20211104T110000
DTEND;TZID=America/New_York:20211104T120000
DTSTAMP:20260419T082546
CREATED:20211012T132153Z
LAST-MODIFIED:20211012T132241Z
UID:20178-1636023600-1636027200@bergen.edu
SUMMARY:Holocaust Survivor\, Fran Malkin\, Lecture (virtually via Webex)
DESCRIPTION:Attend a virtual Webex lecture with Holocaust Survivor\, Fran Malkin\, on Thursday\, November 4th at 11am – 12 pm. \nFran Malkin was born in Sokal\, Poland in 1938.  In 1939\, Russia occupied her town. Under Communist rule\, her family’s properties were taken away and strangers occupied their home. In spring 1941\, Germany invaded and occupied Sokal. They ordered all Jewish men between the ages of 16-60 to report to the town square. Four hundred Jewish men\, including her father\, were taken to a brick factory and shot. Fran was only two years old. The family was later forced into the ghetto. In the fall of 1942\, the family went into hiding. They were among sixteen people who were hidden for two years in the hayloft of a barn by Francisca Halamajowa. \nTo register for Webex JOIN Link\, fill out this RSVP Form\nFor more details\, visit our website http://bergen.edu/PJR/events or contact bmargolies@bergen.edu
URL:https://bergen.edu/event/holocaust-survivor-fran-malkin-speaks-virtually-via-webex/
LOCATION:Virtual Campus
CATEGORIES:Virtual Life
END:VEVENT
BEGIN:VEVENT
DTSTART;TZID=America/New_York:20211112T123000
DTEND;TZID=America/New_York:20211112T133000
DTSTAMP:20260419T082546
CREATED:20211102T192615Z
LAST-MODIFIED:20211102T192615Z
UID:20385-1636720200-1636723800@bergen.edu
SUMMARY:Pathway Scholars Program Live Webex with STEM Alumni
DESCRIPTION:Join the Pathway Scholars Program for a live webex workshop with Bergen alumna Lindsey Njanja and Adelajda Turku on Pathway Scholars/STEM Alumni Q&A on Friday\, November 12th from 12:30-1:30 pm at https://bergen.webex.com/meet/babolafia. Njanja and Turku will discuss their tips for transferring\, socializing on and off campus\, handling increased workload\, their successes and pitfalls of attending four-year college during the pandemic. Njanja is a senior at Rutgers New Brunswick\, winner of Jack Kent Cooke Scholarship\, mentor\, tutor\, and a NIH Summer Intern. Turku is a senior at Hunter College\, mentor\, tutor\, and HUMC Summer Intern. Contact Barbara Abolafia at babolafia@bergen.edu with any questions.
URL:https://bergen.edu/event/pathway-scholars-program-live-webex-with-stem-alumni/
LOCATION:Virtual Campus
CATEGORIES:Virtual Life
END:VEVENT
BEGIN:VEVENT
DTSTART;TZID=America/New_York:20211116T123000
DTEND;TZID=America/New_York:20211116T133000
DTSTAMP:20260419T082546
CREATED:20211110T154248Z
LAST-MODIFIED:20211110T154248Z
UID:20423-1637065800-1637069400@bergen.edu
SUMMARY:Common Read Book Discussion
DESCRIPTION:Bergen Salon IV will feature a discussion on the themes raised by the Ta-Nehisi Coates book\, Between the World and Me – the College’s “common read” piece – Tuesday\, Nov. 16 at 12:30 p.m. in room S-134 at the main campus and virtually here. For more information\, visit here.
URL:https://bergen.edu/event/common-read-book-discussion/
LOCATION:Pitkin Educational Center
CATEGORIES:Virtual Life
END:VEVENT
BEGIN:VEVENT
DTSTART;TZID=America/New_York:20211117T190000
DTEND;TZID=America/New_York:20211117T203000
DTSTAMP:20260419T082546
CREATED:20211015T133229Z
LAST-MODIFIED:20211015T135222Z
UID:20220-1637175600-1637181000@bergen.edu
SUMMARY:Common Reads Online Book Discussion
DESCRIPTION:As a community extension of its campus-wide read of Ta-Nehisi Coates’ acclaimed book Between the World and Me\, Bergen\nCommunity College is offering online book discussions on the work on October 21st and November 17th in conjunction with Englewood Public Library\, located at 31 Engle Street\, Englewood\, NJ. Events will be held at 7 p.m. The discussion will be facilitated by Deborah Manning\, Assistant Dean of Adjunct Administration\, and Professor Dan Sheehan. The event will also be available via Zoom at https://us02web.zoom.us/j/82748146292?pwd=VDlZZC9xN2dyZitrMkJmRVdjRlhLQT09
URL:https://bergen.edu/event/common-reads-online-book-discussion-2/
LOCATION:Virtual Campus
CATEGORIES:Virtual Life
END:VEVENT
BEGIN:VEVENT
DTSTART;TZID=America/New_York:20211122T123000
DTEND;TZID=America/New_York:20211122T133000
DTSTAMP:20260419T082546
CREATED:20211109T211138Z
LAST-MODIFIED:20211109T211138Z
UID:20421-1637584200-1637587800@bergen.edu
SUMMARY:Virtual Tour of the Metropolitan Museum of Art
DESCRIPTION:The Pathway Scholars Program presents “A Virtual Tour of The Metropolitan Museum of Art\, New York: Art of Africa\, Oceania\, and the Americas Wing” on Monday\, November 22nd from 12:30 – 1:30 pm. Discover historical forms of expression that have flourished in sub-Saharan Africa\, the islands of the Pacific\, and North and South America for more than 4\,000 years. Tours are conducted live by a museum expert discussing high-resolution images of art in a slideshow presentation using Microsoft Teams. To receive the event link closer to the virtual tour date\, email Barbara Abolafia at babolafia@bergen.edu. The virtual tour is limited to the first 40 people.
URL:https://bergen.edu/event/virtual-tour-of-the-metropolitan-museum-of-art/
LOCATION:Virtual Campus
CATEGORIES:Virtual Life
END:VEVENT
BEGIN:VEVENT
DTSTART;TZID=America/New_York:20211130T123000
DTEND;TZID=America/New_York:20211130T133000
DTSTAMP:20260419T082546
CREATED:20211112T200238Z
LAST-MODIFIED:20211112T200238Z
UID:20462-1638275400-1638279000@bergen.edu
SUMMARY:Transfer Scholarship Virtual Workshop
DESCRIPTION:The Pathway Scholars Program presents the Transfer Scholarship Virtual Workshop\, led by Barbara Abolafia\, PSP Career Explorations Coordinator\, on Tuesday\, November 30th at 12:30-1:30pm. Join the workshop via Webex at https://bergen.webex.com/meet/babolafia
URL:https://bergen.edu/event/transfer-scholarship-virtual-workshop/
LOCATION:Virtual Campus
CATEGORIES:Virtual Life
ORGANIZER;CN="Virtual Life":MAILTO:virtuallife@bergen.edu
END:VEVENT
BEGIN:VEVENT
DTSTART;TZID=America/New_York:20211208T123000
DTEND;TZID=America/New_York:20211208T133000
DTSTAMP:20260419T082546
CREATED:20211117T204034Z
LAST-MODIFIED:20211117T204133Z
UID:20513-1638966600-1638970200@bergen.edu
SUMMARY:Brave Dialogue About Race and Racism
DESCRIPTION:Bergen Community College SGA invites you to learn how to have and practice socially just conversations in a brave community space.\n\nJoin international anti-racist educators\, Dr. Warren Chalklen and Mr. Njabulo Mkize\, in an engaging session focused on building capacity for productive conversations across lines of difference in the classroom\, on campus\, and online. \n  \nRegister for this event using the EventBrite link below.
URL:https://bergen.edu/event/brave-dialogue-about-race-and-racism/
LOCATION:Pitkin Educational Center
CATEGORIES:Virtual Life
ATTACH;FMTTYPE=image/jpeg:https://bergen.edu/wp-content/uploads/sga-1.jpg
ORGANIZER;CN="Student Life":MAILTO:studentlife@bergen.edu
END:VEVENT
BEGIN:VEVENT
DTSTART;TZID=America/New_York:20220201T113000
DTEND;TZID=America/New_York:20220201T123000
DTSTAMP:20260419T082546
CREATED:20220131T192556Z
LAST-MODIFIED:20220131T192556Z
UID:21239-1643715000-1643718600@bergen.edu
SUMMARY:Black History Month - Opening Day Ceremony
DESCRIPTION:Bergen Community College would like to welcome Black History Month Keynote Speaker\, Mr. Anthony Cureton\, Sheriff\, Bergen County\, NJ. \nStudents are welcome to visit the Ciccone Theatre for light refreshments at 11:00 am before the event. Students may also join the Webex event to view the opening day ceremony.
URL:https://bergen.edu/event/black-history-month-opening-day-ceremony/
LOCATION:Ciccone Theatre
CATEGORIES:Heritage Month,Virtual Life
ATTACH;FMTTYPE=image/jpeg:https://bergen.edu/wp-content/uploads/BHM-EventGraphic-0222.jpg
END:VEVENT
BEGIN:VEVENT
DTSTART;TZID=America/New_York:20220202T123000
DTEND;TZID=America/New_York:20220202T133000
DTSTAMP:20260419T082546
CREATED:20220131T203330Z
LAST-MODIFIED:20220131T203330Z
UID:21241-1643805000-1643808600@bergen.edu
SUMMARY:Focus on Heart Health in the Black Community
DESCRIPTION:Attend in person or virtually “Focus on Heart Health in the Black Community” with Professor Julie Seda\, from WEX Department\, in Pitkin Building\, Room L-146 or the WebEx enhanced room. The password is Bergen for the Webex enhanced room.
URL:https://bergen.edu/event/focus-on-heart-health-in-the-black-community/
LOCATION:Pitkin Educational Center
CATEGORIES:Heritage Month,Virtual Life
ATTACH;FMTTYPE=image/jpeg:https://bergen.edu/wp-content/uploads/BHM-EventGraphic-0222.jpg
END:VEVENT
BEGIN:VEVENT
DTSTART;TZID=America/New_York:20220208T190000
DTEND;TZID=America/New_York:20220208T210000
DTSTAMP:20260419T082546
CREATED:20220127T194506Z
LAST-MODIFIED:20220127T194506Z
UID:21207-1644346800-1644354000@bergen.edu
SUMMARY:An Evening with Author Renee Jones
DESCRIPTION:The Student-Parent Fellowship has organized this virtual event and invited author Renee Jones to discuss her book “50 Things to Know About Going Back to School while Parenting” The lecture is followed by a Q & A session.
URL:https://bergen.edu/event/an-evening-with-author-renee-jones/
LOCATION:Virtual Campus
CATEGORIES:Virtual Life
ATTACH;FMTTYPE=image/jpeg:https://bergen.edu/wp-content/uploads/Literature-header.jpg
END:VEVENT
BEGIN:VEVENT
DTSTART;TZID=America/New_York:20220216T123000
DTEND;TZID=America/New_York:20220216T133000
DTSTAMP:20260419T082546
CREATED:20220131T204346Z
LAST-MODIFIED:20220131T204346Z
UID:21247-1645014600-1645018200@bergen.edu
SUMMARY:Focus on Type II Diabetes in the Black Community
DESCRIPTION:Attend “Focus on Type II Diabetes in the Black Community” with Professor Christina Nemec from the WEX Department in the Pitkin Education Building in Room C-211. This event is both an in-person and virtual event.  The Webex Password is Bergen.
URL:https://bergen.edu/event/focus-on-type-ii-diabetes-in-the-black-community/
LOCATION:Pitkin Educational Center
CATEGORIES:Heritage Month,Virtual Life
ATTACH;FMTTYPE=image/jpeg:https://bergen.edu/wp-content/uploads/BHM-EventGraphic-0222.jpg
END:VEVENT
BEGIN:VEVENT
DTSTART;TZID=America/New_York:20220216T153000
DTEND;TZID=America/New_York:20220216T170000
DTSTAMP:20260419T082546
CREATED:20220201T203334Z
LAST-MODIFIED:20220210T155015Z
UID:21258-1645025400-1645030800@bergen.edu
SUMMARY:Exploring Better Health in the Black Community
DESCRIPTION:Dr. Jennifer McGugins-Hill\, MD\, Geraldine Redmond\, PA\, Giesel Girona-Ussery\, MAS\, and Dr. Marcus Williams\, MD\, will discuss “Exploring Better Health in the Black Community” on February 16th at 3:30pm- 5:00pm in the Pitkin Building\, Room S-138 (in-person and virtual event). This panel of health care professionals is offered in partnership between Valley Health System and Bergen Community College\, Black History Month Committee in celebration of Black History Month. Those who would like to attend the event virtually should visit the Webex link and use password: Bergen.
URL:https://bergen.edu/event/exploring-better-health-in-the-black-community/
LOCATION:Pitkin Educational Center
CATEGORIES:Heritage Month,Virtual Life
ATTACH;FMTTYPE=image/jpeg:https://bergen.edu/wp-content/uploads/BHM-EventGraphic-0222.jpg
END:VEVENT
BEGIN:VEVENT
DTSTART;TZID=America/New_York:20220216T170000
DTEND;TZID=America/New_York:20220216T180000
DTSTAMP:20260419T082546
CREATED:20220216T164419Z
LAST-MODIFIED:20220216T165914Z
UID:21481-1645030800-1645034400@bergen.edu
SUMMARY:Admissions Virtual Information Session
DESCRIPTION:Please remember to RSVP for this event.
URL:https://bergen.edu/event/admissions-virtual-information-session/
LOCATION:Virtual Campus
CATEGORIES:Admissions,Info Session,Virtual Life
ORGANIZER;CN="Admissions Department":MAILTO:admissions@bergen.edu
END:VEVENT
BEGIN:VEVENT
DTSTART;TZID=America/New_York:20220217T140000
DTEND;TZID=America/New_York:20220217T150000
DTSTAMP:20260419T082546
CREATED:20220201T203717Z
LAST-MODIFIED:20220201T203717Z
UID:21260-1645106400-1645110000@bergen.edu
SUMMARY:Pharmacists as Community Healthcare Providers
DESCRIPTION:Attend a session with Anthony County\, Pharmacist\, M.S.\, R.Ph. on February 17th from 2:00-3:00pm in the Pitkin Building\, Room S-138 (in-person and virtual event). Those who would like to attend the event virtually should use the Webex link and the password: Bergen
URL:https://bergen.edu/event/pharmacists-as-community-healthcare-providers/
LOCATION:Pitkin Educational Center
CATEGORIES:Heritage Month,Virtual Life
ATTACH;FMTTYPE=image/jpeg:https://bergen.edu/wp-content/uploads/BHM-EventGraphic-0222.jpg
END:VEVENT
BEGIN:VEVENT
DTSTART;TZID=America/New_York:20220223T150000
DTEND;TZID=America/New_York:20220223T163000
DTSTAMP:20260419T082546
CREATED:20220203T154523Z
LAST-MODIFIED:20220203T154523Z
UID:21266-1645628400-1645633800@bergen.edu
SUMMARY:Foods that can Prevent\, Manage or Even Reverse Type II Diabetes
DESCRIPTION:Join Professor Aaron Morrisey from the HRM department for an educational session about food and managing your health in Room C-209; C-210; C-211. This is both an in-person and virtual event. Those who would like to attend the event virtually should use the Webex link and password: Bergen
URL:https://bergen.edu/event/foods-that-can-prevent-manage-or-even-reverse-type-ii-diabetes/
LOCATION:Pitkin Educational Center
CATEGORIES:Heritage Month,Virtual Life
ATTACH;FMTTYPE=image/jpeg:https://bergen.edu/wp-content/uploads/BHM-EventGraphic-0222.jpg
END:VEVENT
BEGIN:VEVENT
DTSTART;TZID=America/New_York:20220224T120000
DTEND;TZID=America/New_York:20220224T130000
DTSTAMP:20260419T082546
CREATED:20220209T172553Z
LAST-MODIFIED:20220209T172553Z
UID:21386-1645704000-1645707600@bergen.edu
SUMMARY:Crystal Yoo - Alumni Representative Meeting
DESCRIPTION:Meet Crystal Yoo\, the alumni representative on the Bergen Community College Board of Trustees. As a graduate of Bergen\, the alumni representative’s role on the board is to represent students’ perspectives. Crystal is excited to share the news that she will be holding WebEx chats on a monthly basis to get to know all of you and find out what’s on your mind. This will be an opportunity where you\, as Bergen students\, can discuss any concerns or accomplishments that you may want to share with the Board of Trustees or with her. You can also simply drop by and say hello.
URL:https://bergen.edu/event/crystal-yoo-alumni-representative-meeting-3/
LOCATION:Virtual Campus
CATEGORIES:Virtual Life
ATTACH;FMTTYPE=image/jpeg:https://bergen.edu/wp-content/uploads/Yoo-2.jpg
END:VEVENT
BEGIN:VEVENT
DTSTART;TZID=America/New_York:20220224T130000
DTEND;TZID=America/New_York:20220224T140000
DTSTAMP:20260419T082546
CREATED:20220203T154909Z
LAST-MODIFIED:20220203T155407Z
UID:21268-1645707600-1645711200@bergen.edu
SUMMARY:Functional Medicine Approach to Health
DESCRIPTION:Join Dr. Robert White\, D.C. and Dr. Jason Kaufman\, D.C. for a session in the Pitkin Building\, Room L-147. This is both an in-person and virtual event. The event is co-sponsored by Be Well Bergen. Light refreshments will be served. \nThose who would like to attend the event virtually can use the Webex link and password: Bergen
URL:https://bergen.edu/event/functional-medicine-approach-to-health/
LOCATION:Pitkin Educational Center
CATEGORIES:Heritage Month,Virtual Life
ATTACH;FMTTYPE=image/jpeg:https://bergen.edu/wp-content/uploads/BHM-EventGraphic-0222.jpg
END:VEVENT
BEGIN:VEVENT
DTSTART;TZID=America/New_York:20220224T170000
DTEND;TZID=America/New_York:20220224T183000
DTSTAMP:20260419T082546
CREATED:20220216T150344Z
LAST-MODIFIED:20220216T150344Z
UID:21461-1645722000-1645727400@bergen.edu
SUMMARY:Mental Health Through the Black Lens
DESCRIPTION:Join the Black Student Union & Active Minds at Bergen in a multidimensional conversation about the well being of Black diaspora within the Bergen community.
URL:https://bergen.edu/event/mental-health-through-the-black-lens/
LOCATION:Pitkin Educational Center
CATEGORIES:Heritage Month,Virtual Life
ATTACH;FMTTYPE=image/jpeg:https://bergen.edu/wp-content/uploads/BHM-EventGraphic-0222.jpg
ORGANIZER;CN="Virtual Life":MAILTO:virtuallife@bergen.edu
END:VEVENT
BEGIN:VEVENT
DTSTART;TZID=America/New_York:20220225T060000
DTEND;TZID=America/New_York:20220225T200000
DTSTAMP:20260419T082546
CREATED:20220203T155506Z
LAST-MODIFIED:20220203T155506Z
UID:21271-1645768800-1645819200@bergen.edu
SUMMARY:Black History Month Closing Banquet
DESCRIPTION:Join us for the closing banquet for Black History Month in Tec-128. \nThose who would like to attend the event virtually can use the Webex link and password: Bergen
URL:https://bergen.edu/event/black-history-month-closing-banquet/
LOCATION:Pitkin Educational Center
CATEGORIES:Heritage Month,Virtual Life
ATTACH;FMTTYPE=image/jpeg:https://bergen.edu/wp-content/uploads/BHM-EventGraphic-0222.jpg
END:VEVENT
BEGIN:VEVENT
DTSTART;TZID=America/New_York:20220301T110000
DTEND;TZID=America/New_York:20220301T140000
DTSTAMP:20260419T082546
CREATED:20220228T192640Z
LAST-MODIFIED:20220228T192640Z
UID:21556-1646132400-1646143200@bergen.edu
SUMMARY:Care Fair Day for Women - S-138
DESCRIPTION:Participate in Care Fair Day for Women in S-138. Stop by and check out the events co-sponsored by Black History Month & Asian Heritage Committees. Attend the Unconscious Gender Bias Workshop\, Self-Defense Demonstration\, and “How to Avoid Burnout” with Katie Quick.
URL:https://bergen.edu/event/care-fair-day-for-women-s-138/
LOCATION:Pitkin Educational Center
CATEGORIES:Heritage Month,Virtual Life
ATTACH;FMTTYPE=image/png:https://bergen.edu/wp-content/uploads/WHM2022-Calendar-Graphic.png
END:VEVENT
BEGIN:VEVENT
DTSTART;TZID=America/New_York:20220304T133000
DTEND;TZID=America/New_York:20220304T143000
DTSTAMP:20260419T082546
CREATED:20220228T193153Z
LAST-MODIFIED:20220228T193309Z
UID:21560-1646400600-1646404200@bergen.edu
SUMMARY:Candid Conversation with Women STEM Faculty on Inclusiveness - S-134
DESCRIPTION:Join a candid panel discussion on Women STEM Faculty on Inclusiveness with Professors Marie McCrary (PHYS)\, Jacqueline Dartley (BIO)\, Yolanda Sheppard (IT)\, and Dean Emily Vandalovsky. The discussion will address how we CAN make STEM more welcoming and diverse. Attend in person in S-134 or virtually via Webex. To join the Webex link\, use Password:  gwWsAmjD994
URL:https://bergen.edu/event/candid-conversation-with-women-stem-faculty-on-inclusiveness-s-134/
LOCATION:Pitkin Educational Center
CATEGORIES:Heritage Month,Virtual Life
ATTACH;FMTTYPE=image/png:https://bergen.edu/wp-content/uploads/WHM2022-Calendar-Graphic.png
END:VEVENT
BEGIN:VEVENT
DTSTART;TZID=America/New_York:20220308T123000
DTEND;TZID=America/New_York:20220308T140000
DTSTAMP:20260419T082546
CREATED:20220228T193531Z
LAST-MODIFIED:20220228T193531Z
UID:21561-1646742600-1646748000@bergen.edu
SUMMARY:Keynote Speaker: Helene Cooper
DESCRIPTION:The Literary Arts Series is hosting keynote speaker\, Helene Cooper\, a Pulitzer Prize-winning Pentagon correspondent and award-winning author. This virtual event is co-sponsored by the Literary Arts Series. To join the Webex link\, use password: JTk4uns6tN4
URL:https://bergen.edu/event/keynote-speaker-helene-cooper/
CATEGORIES:Heritage Month,Virtual Life
ATTACH;FMTTYPE=image/png:https://bergen.edu/wp-content/uploads/WHM2022-Calendar-Graphic.png
END:VEVENT
BEGIN:VEVENT
DTSTART;TZID=America/New_York:20220310T123000
DTEND;TZID=America/New_York:20220310T133000
DTSTAMP:20260419T082546
CREATED:20220228T193715Z
LAST-MODIFIED:20220304T204132Z
UID:21562-1646915400-1646919000@bergen.edu
SUMMARY:Domestic Violence in the Time of COVID-19 - S-138
DESCRIPTION:Experts discuss the COVID-19 pandemic’s impact on domestic violence. Panel discussion participants include Jessica Gomperts\, Senior Assistant Prosecutor and Chief of Domestic Violence Squad in Bergen County; Bergen Superior Court Family Division Manager\, Liana Dinallo; Women’s Rights & Info Center Director\, Lil Corcoran\, LPC\, DVS; Center for Hope & Safety Director of Programs\, S. Mira Vanjari\, MS\, LPC\, LMHC; and Director of Programs and Healing SPACE|YWCA Northern New Jersey Director\, Simaza Sadek\, MSW\, LSW. \nTo join the Webex link\, use password: WHMBergen
URL:https://bergen.edu/event/domestic-violence-in-the-time-of-covid-19-s-138/
LOCATION:Pitkin Educational Center
CATEGORIES:Heritage Month,Virtual Life
ATTACH;FMTTYPE=image/png:https://bergen.edu/wp-content/uploads/WHM2022-Calendar-Graphic.png
END:VEVENT
BEGIN:VEVENT
DTSTART;TZID=America/New_York:20220310T150000
DTEND;TZID=America/New_York:20220310T160000
DTSTAMP:20260419T082546
CREATED:20220217T213845Z
LAST-MODIFIED:20220217T213845Z
UID:21498-1646924400-1646928000@bergen.edu
SUMMARY:Admissions Virtual Information Session
DESCRIPTION:Please remember to RSVP for this event.
URL:https://bergen.edu/event/admissions-virtual-information-session-2/
LOCATION:Virtual Campus
CATEGORIES:Admissions,Info Session,Virtual Life
ORGANIZER;CN="Admissions Department":MAILTO:admissions@bergen.edu
END:VEVENT
BEGIN:VEVENT
DTSTART;TZID=America/New_York:20220322T123000
DTEND;TZID=America/New_York:20220322T133000
DTSTAMP:20260419T082546
CREATED:20220228T195318Z
LAST-MODIFIED:20220228T195326Z
UID:21563-1647952200-1647955800@bergen.edu
SUMMARY:Racism & Neglect in the Healthcare Community:  A Personal Story with Walela Nehanda - S-138
DESCRIPTION:Attend “Racism & Neglect in the Healthcare Community: A Personal Story with Walela Nehanda” in person in S-138 or virtually via Webex. Walela Nehanda\, a black\, non-binary\, queer healthcare warrior shares their story and invites conversation. Event co-sponsored by the Center for Peace\, Justice\, and Reconciliation and Black History Month. \nTo attend the event virtually via the Webex link\, use password: WHMBergen
URL:https://bergen.edu/event/racism-neglect-in-the-healthcare-community-a-personal-story-with-walela-nehanda-s-138/
LOCATION:Pitkin Educational Center
CATEGORIES:Heritage Month,Virtual Life
ATTACH;FMTTYPE=image/png:https://bergen.edu/wp-content/uploads/WHM2022-Calendar-Graphic.png
END:VEVENT
BEGIN:VEVENT
DTSTART;TZID=America/New_York:20220322T170000
DTEND;TZID=America/New_York:20220322T180000
DTSTAMP:20260419T082546
CREATED:20220217T213954Z
LAST-MODIFIED:20220217T213954Z
UID:21500-1647968400-1647972000@bergen.edu
SUMMARY:Admissions Virtual Information Session
DESCRIPTION:Please remember to RSVP for this event.
URL:https://bergen.edu/event/admissions-virtual-information-session-3/
LOCATION:Virtual Campus
CATEGORIES:Admissions,Info Session,Virtual Life
ORGANIZER;CN="Admissions Department":MAILTO:admissions@bergen.edu
END:VEVENT
END:VCALENDAR