BEGIN:VCALENDAR
VERSION:2.0
PRODID:-//Bergen Community College - ECPv6.15.15//NONSGML v1.0//EN
CALSCALE:GREGORIAN
METHOD:PUBLISH
X-WR-CALNAME:Bergen Community College
X-ORIGINAL-URL:https://bergen.edu
X-WR-CALDESC:Events for Bergen Community College
REFRESH-INTERVAL;VALUE=DURATION:PT1H
X-Robots-Tag:noindex
X-PUBLISHED-TTL:PT1H
BEGIN:VTIMEZONE
TZID:America/New_York
BEGIN:DAYLIGHT
TZOFFSETFROM:-0500
TZOFFSETTO:-0400
TZNAME:EDT
DTSTART:20210314T070000
END:DAYLIGHT
BEGIN:STANDARD
TZOFFSETFROM:-0400
TZOFFSETTO:-0500
TZNAME:EST
DTSTART:20211107T060000
END:STANDARD
BEGIN:DAYLIGHT
TZOFFSETFROM:-0500
TZOFFSETTO:-0400
TZNAME:EDT
DTSTART:20220313T070000
END:DAYLIGHT
BEGIN:STANDARD
TZOFFSETFROM:-0400
TZOFFSETTO:-0500
TZNAME:EST
DTSTART:20221106T060000
END:STANDARD
BEGIN:DAYLIGHT
TZOFFSETFROM:-0500
TZOFFSETTO:-0400
TZNAME:EDT
DTSTART:20230312T070000
END:DAYLIGHT
BEGIN:STANDARD
TZOFFSETFROM:-0400
TZOFFSETTO:-0500
TZNAME:EST
DTSTART:20231105T060000
END:STANDARD
END:VTIMEZONE
BEGIN:VEVENT
DTSTART;TZID=America/New_York:20220609T170000
DTEND;TZID=America/New_York:20220609T180000
DTSTAMP:20260422T004822
CREATED:20220518T143323Z
LAST-MODIFIED:20220518T143444Z
UID:22325-1654794000-1654797600@bergen.edu
SUMMARY:Virtual Admissions Information Session
DESCRIPTION:Attend this virtual admissions information session to learn everything you need to know about the admissions process. Meet with an Admissions Counselor for a presentation and to have your questions answered. \nRSVP HERE
URL:https://bergen.edu/event/virtual-admissions-information-session-3/
LOCATION:Virtual Campus
CATEGORIES:Admissions,Info Session,Virtual Life
ORGANIZER;CN="Admissions Department":MAILTO:admissions@bergen.edu
END:VEVENT
BEGIN:VEVENT
DTSTART;TZID=America/New_York:20220609T160000
DTEND;TZID=America/New_York:20220609T190000
DTSTAMP:20260422T004822
CREATED:20220509T154906Z
LAST-MODIFIED:20220509T154941Z
UID:22266-1654790400-1654801200@bergen.edu
SUMMARY:Bergen Community College Adjunct Job Fair
DESCRIPTION:Become part of Bergen Community College’s Adjunct Faculty Team!\nJoin us for an Adjunct Job Fair\n\nDate:\nThursday\, June 9th from 4 -7 p.m. \nLocation\nBergen Community College\nTechnology Building\n400 Paramus Road\,\nParamus\, NJ 07650 \nBergen Community College Adjunct Faculty Requirements: \n\nA master’s degree in the discipline is required.\n\nAdditional Requirements: \n\nTeaching skills preferred\nWilling to attend Professional Development\nFlexible Scheduling\nHR mandatory training\n\nRSVP by June 6th with your name and contact information by emailing Adjunctoffice@bergen.edu\nFor questions contact Dr. Deborah Manning\, Dean of Adjunct Administration dmanning@bergen.edu \nOpenings in: Paramus | Meadowlands | Hackensack\nModalities: Online and In-Person \n\n\nSTEM\nMathematics\nComputer\nScience\nDrafting\nManufacturing\nInformation\nTechnology\nGaming\nBiology\nHorticulture\nPhysics\nChemistry\n\n\nHEALTH PROFESSIONS\nHealth Science\nRadiology\nMedical Office\nAssistant\nRespiratory Care\nDiagnostic Medical\nSonography\nSurgical Technician\nVeterinary\nTechnician\nRadiation Therapy\nParamedic Science\nNursing\nDental Hygiene\nWellness & Exercise Science\n\n\nBUSINESS\, ARTS & SOCIAL SCIENCES\nBusiness\nHotel/Restaurant\nSociology\nPsychology\nEconomics\nPolitical\nScience\nCriminal\nJustice\nLegal Studies\n\n\nHUMANITIES\nCommunication\nPhilosophy\nReligion\nHistory\nGeography\nWorld Languages\nEnglish\nStudent Success\nArt\nMusic\nTheater
URL:https://bergen.edu/event/adjunct-job-fair/
LOCATION:Technology Education Center
END:VEVENT
BEGIN:VEVENT
DTSTART;VALUE=DATE:20220530
DTEND;VALUE=DATE:20220531
DTSTAMP:20260422T004822
CREATED:20220216T164804Z
LAST-MODIFIED:20220216T164804Z
UID:21468-1653868800-1653955199@bergen.edu
SUMMARY:Memorial Day- College Closed
DESCRIPTION:
URL:https://bergen.edu/event/memorial-day-college-closed-3/
CATEGORIES:Academic Calendar
END:VEVENT
BEGIN:VEVENT
DTSTART;TZID=America/New_York:20220523T110000
DTEND;TZID=America/New_York:20220523T220000
DTSTAMP:20260422T004822
CREATED:20220518T140340Z
LAST-MODIFIED:20220518T140400Z
UID:22327-1653303600-1653343200@bergen.edu
SUMMARY:Baseball Fundraiser
DESCRIPTION:Support the baseball team by dining at &Pizza in Paramus on Monday\, May 23. Please mention the fundraiser when ordering and show the flyer. \n  \n&Pizza \n393 ROUTE 17 SOUTH \nPARAMUS\, NJ \n07625 \n  \nThe &Pizza Flyer \nTastes Better When It Supports a Good Cause \nMake Sure Others Get a Piece of the Pie by supporting Bergen Community College Baseball Team! \nPlace an order in shop or online at our Paramus location (393 NJ-17 South Paramus\, NJ 07652) on Monday\, May 23rd from 11:00 am to close to get involved. \nUse the Code BCCBT at checkout and 50% of your sale will be donated back to your organization. \n 
URL:https://bergen.edu/event/baseball-fundraiser/
CATEGORIES:Athletics
ATTACH;FMTTYPE=image/jpeg:https://bergen.edu/wp-content/uploads/pizzaflyer-1.jpg
END:VEVENT
BEGIN:VEVENT
DTSTART;VALUE=DATE:20220519
DTEND;VALUE=DATE:20220520
DTSTAMP:20260422T004822
CREATED:20220216T171331Z
LAST-MODIFIED:20220216T171331Z
UID:21475-1652918400-1653004799@bergen.edu
SUMMARY:Graduation
DESCRIPTION:
URL:https://bergen.edu/event/graduation/
CATEGORIES:Academic Calendar
END:VEVENT
BEGIN:VEVENT
DTSTART;TZID=America/New_York:20220517T163000
DTEND;TZID=America/New_York:20220517T180000
DTSTAMP:20260422T004822
CREATED:20220419T175805Z
LAST-MODIFIED:20220419T175805Z
UID:22072-1652805000-1652810400@bergen.edu
SUMMARY:On Campus Admissions Information Session
DESCRIPTION:Everything you need to know about the admissions process. Meet with an Admissions Counselor for a presentation\, campus tour\, and to have your questions answered. RSVP at the link below.
URL:https://bergen.edu/event/on-campus-admissions-information-session/
LOCATION:Pitkin Educational Center
CATEGORIES:Admissions,Info Session
ORGANIZER;CN="Admissions Department":MAILTO:admissions@bergen.edu
END:VEVENT
BEGIN:VEVENT
DTSTART;VALUE=DATE:20220516
DTEND;VALUE=DATE:20220517
DTSTAMP:20260422T004822
CREATED:20220216T164651Z
LAST-MODIFIED:20220216T164651Z
UID:21467-1652659200-1652745599@bergen.edu
SUMMARY:Summer 1 and U Begin
DESCRIPTION:
URL:https://bergen.edu/event/summer-1-and-u-begin-3/
CATEGORIES:Academic Calendar
END:VEVENT
BEGIN:VEVENT
DTSTART;TZID=America/New_York:20220514T193000
DTEND;TZID=America/New_York:20220514T213000
DTSTAMP:20260422T004822
CREATED:20220121T173118Z
LAST-MODIFIED:20220121T173842Z
UID:21163-1652556600-1652563800@bergen.edu
SUMMARY:Curtain Up! at the Ciccone Theatre: Just A Jersey Guy and Son  A Night of Comedic Storytelling
DESCRIPTION:Saturday\, May 14 at 7:30 PM\nJust A Jersey Guy and Son\nA Night of Comedic Storytelling\nStarring\nBrian and Dan Altano \nCurtain Up! favorite\, Brian Altano returns to the Ciccone theatre\, this time joined by his son\, Dan.  It’s a double dose of hilarity! Brian’s darkly comedic The 7 Reasons I’m Going to Hell\, touches on transgression and retribution in stories featuring his own personal foibles as well as the shared experiences of colorful Jersey characters. Dan’s story\, Grow Up tackles the stumbles\, falls\, and small triumphs of adulthood while trying to maintain your sanity and a sense of humor. \nTickets: $35/ Seniors and BCC Staff $25/ Students $10
URL:https://bergen.edu/event/curtain-up-at-the-ciccone-theatre-just-a-jersey-guy-and-son-a-night-of-comedic-storytelling/
LOCATION:Ciccone Theatre
CATEGORIES:Community Productions,Theatres at Bergen
ORGANIZER;CN="Theatres at Bergen":MAILTO:cicconetheatre@bergen.edu
END:VEVENT
BEGIN:VEVENT
DTSTART;TZID=America/New_York:20220512T170000
DTEND;TZID=America/New_York:20220512T180000
DTSTAMP:20260422T004822
CREATED:20220419T175754Z
LAST-MODIFIED:20220419T175754Z
UID:22071-1652374800-1652378400@bergen.edu
SUMMARY:Virtual Admissions Information Session
DESCRIPTION:Everything you need to know about the admissions process. Meet with an Admissions Counselor for a presentation and to have your questions answered. RSVP at the link below.
URL:https://bergen.edu/event/virtual-admissions-information-session-2/
LOCATION:Virtual Campus
CATEGORIES:Admissions,Info Session
ORGANIZER;CN="Admissions Department":MAILTO:admissions@bergen.edu
END:VEVENT
BEGIN:VEVENT
DTSTART;VALUE=DATE:20220512
DTEND;VALUE=DATE:20220513
DTSTAMP:20260422T004822
CREATED:20211022T150936Z
LAST-MODIFIED:20211022T150936Z
UID:20298-1652313600-1652399999@bergen.edu
SUMMARY:Make Up Date
DESCRIPTION:
URL:https://bergen.edu/event/make-up-date-2/
CATEGORIES:Academic Calendar
END:VEVENT
BEGIN:VEVENT
DTSTART;VALUE=DATE:20220511
DTEND;VALUE=DATE:20220512
DTSTAMP:20260422T004822
CREATED:20211022T150619Z
LAST-MODIFIED:20211022T150619Z
UID:20297-1652227200-1652313599@bergen.edu
SUMMARY:Make Up Date
DESCRIPTION:
URL:https://bergen.edu/event/make-up-date/
CATEGORIES:Academic Calendar
END:VEVENT
BEGIN:VEVENT
DTSTART;TZID=America/New_York:20220510T090000
DTEND;TZID=America/New_York:20220510T110000
DTSTAMP:20260422T004822
CREATED:20220411T163206Z
LAST-MODIFIED:20220411T163206Z
UID:22023-1652173200-1652180400@bergen.edu
SUMMARY:FAFSA Application Session
DESCRIPTION:Meet in room L-309 in the Library for assistance with your FAFSA application.
URL:https://bergen.edu/event/fafsa-application-session-3/
LOCATION:Pitkin Educational Center
CATEGORIES:Financial Aid,Info Session
ORGANIZER;CN="Financial Aid Department":MAILTO:financial.aid@bergen.edu
END:VEVENT
BEGIN:VEVENT
DTSTART;VALUE=DATE:20220510
DTEND;VALUE=DATE:20220511
DTSTAMP:20260422T004822
CREATED:20211022T150704Z
LAST-MODIFIED:20211022T150704Z
UID:20296-1652140800-1652227199@bergen.edu
SUMMARY:Spring 1\, 2\, Flex 2 Classes End
DESCRIPTION:
URL:https://bergen.edu/event/spring-1-2-flex-2-classes-end/
CATEGORIES:Academic Calendar
END:VEVENT
BEGIN:VEVENT
DTSTART;TZID=America/New_York:20220509T153000
DTEND;TZID=America/New_York:20220509T190000
DTSTAMP:20260422T004822
CREATED:20220509T132758Z
LAST-MODIFIED:20220509T132758Z
UID:22262-1652110200-1652122800@bergen.edu
SUMMARY:Away Baseball Game vs Atlantic Cape CC (SG)
DESCRIPTION:
URL:https://bergen.edu/event/away-baseball-game-vs-atlantic-cape-cc-sg/
CATEGORIES:Athletics
ATTACH;FMTTYPE=image/jpeg:https://bergen.edu/wp-content/uploads/Athletics-baseball.jpg
END:VEVENT
BEGIN:VEVENT
DTSTART;TZID=America/New_York:20220509T120000
DTEND;TZID=America/New_York:20220509T130000
DTSTAMP:20260422T004822
CREATED:20220411T163045Z
LAST-MODIFIED:20220411T163045Z
UID:22021-1652097600-1652101200@bergen.edu
SUMMARY:FAFSA Info Session
DESCRIPTION:Meet in room L-148 and discuss your FAFSA and other Financial Aid questions with a staff member.
URL:https://bergen.edu/event/fafsa-info-session-3/
LOCATION:Pitkin Educational Center
CATEGORIES:Financial Aid,Info Session
ORGANIZER;CN="Financial Aid Department":MAILTO:financial.aid@bergen.edu
END:VEVENT
BEGIN:VEVENT
DTSTART;TZID=America/New_York:20220508T120000
DTEND;TZID=America/New_York:20220508T170000
DTSTAMP:20260422T004822
CREATED:20220509T132700Z
LAST-MODIFIED:20220509T132700Z
UID:22259-1652011200-1652029200@bergen.edu
SUMMARY:Home Baseball Game vs Atlantic Cape CC (DH)
DESCRIPTION:
URL:https://bergen.edu/event/home-baseball-game-vs-atlantic-cape-cc-dh/
CATEGORIES:Athletics
ATTACH;FMTTYPE=image/jpeg:https://bergen.edu/wp-content/uploads/Athletics-baseball.jpg
END:VEVENT
BEGIN:VEVENT
DTSTART;TZID=America/New_York:20220506T090000
DTEND;TZID=America/New_York:20220506T110000
DTSTAMP:20260422T004822
CREATED:20220411T163144Z
LAST-MODIFIED:20220411T163144Z
UID:22022-1651827600-1651834800@bergen.edu
SUMMARY:FAFSA Application Session
DESCRIPTION:Meet in room L-309 in the Library for assistance with your FAFSA application.
URL:https://bergen.edu/event/fafsa-application-session-2/
LOCATION:Pitkin Educational Center
CATEGORIES:Financial Aid,Info Session
ORGANIZER;CN="Financial Aid Department":MAILTO:financial.aid@bergen.edu
END:VEVENT
BEGIN:VEVENT
DTSTART;TZID=America/New_York:20220428T160000
DTEND;TZID=America/New_York:20220428T190000
DTSTAMP:20260422T004822
CREATED:20220222T160846Z
LAST-MODIFIED:20220222T160846Z
UID:21518-1651161600-1651172400@bergen.edu
SUMMARY:Open House
DESCRIPTION:
URL:https://bergen.edu/event/open-house/
LOCATION:Campus Quad
CATEGORIES:Admissions
ATTACH;FMTTYPE=image/jpeg:https://bergen.edu/wp-content/uploads/Open.jpg
ORGANIZER;CN="Admissions Department":MAILTO:admissions@bergen.edu
END:VEVENT
BEGIN:VEVENT
DTSTART;TZID=America/New_York:20220428T120000
DTEND;TZID=America/New_York:20220428T130000
DTSTAMP:20260422T004822
CREATED:20220209T172500Z
LAST-MODIFIED:20220209T172500Z
UID:21388-1651147200-1651150800@bergen.edu
SUMMARY:Crystal Yoo - Alumni Representative Meeting
DESCRIPTION:Meet Crystal Yoo\, the alumni representative on the Bergen Community College Board of Trustees. As a graduate of Bergen\, the alumni representative’s role on the board is to represent students’ perspectives. Crystal is excited to share the news that she will be holding WebEx chats on a monthly basis to get to know all of you and find out what’s on your mind. This will be an opportunity where you\, as Bergen students\, can discuss any concerns or accomplishments that you may want to share with the Board of Trustees or with her. You can also simply drop by and say hello.
URL:https://bergen.edu/event/crystal-yoo-alumni-representative-meeting/
LOCATION:Virtual Campus
CATEGORIES:Virtual Life
ATTACH;FMTTYPE=image/jpeg:https://bergen.edu/wp-content/uploads/Crystal-Yoo-Headshot.jpg
ORGANIZER;CN="Virtual Life":MAILTO:virtuallife@bergen.edu
END:VEVENT
BEGIN:VEVENT
DTSTART;VALUE=DATE:20220427
DTEND;VALUE=DATE:20220428
DTSTAMP:20260422T004822
CREATED:20220414T130918Z
LAST-MODIFIED:20220414T130918Z
UID:21995-1651017600-1651103999@bergen.edu
SUMMARY:Denim Day
DESCRIPTION:Please participate in denim day by wearing denim. Your jeans will be protesting violence! The history of Denim Day will be displayed in the Student Center. Come pick up your pins in protest of Sexual Assault in front of A-101. \n 
URL:https://bergen.edu/event/denim-day/
CATEGORIES:Heritage Month
ORGANIZER;CN="Student Life":MAILTO:studentlife@bergen.edu
END:VEVENT
BEGIN:VEVENT
DTSTART;TZID=America/New_York:20220426T153000
DTEND;TZID=America/New_York:20220426T183000
DTSTAMP:20260422T004822
CREATED:20220418T140505Z
LAST-MODIFIED:20220418T140505Z
UID:22050-1650987000-1650997800@bergen.edu
SUMMARY:Home Baseball Game vs Salem CC (SG)
DESCRIPTION:
URL:https://bergen.edu/event/home-baseball-game-vs-salem-cc-sg/
CATEGORIES:Athletics
ATTACH;FMTTYPE=image/jpeg:https://bergen.edu/wp-content/uploads/Athletics-baseball.jpg
END:VEVENT
BEGIN:VEVENT
DTSTART;TZID=America/New_York:20220426T140000
DTEND;TZID=America/New_York:20220426T140000
DTSTAMP:20260422T004822
CREATED:20220411T162956Z
LAST-MODIFIED:20220411T162956Z
UID:22020-1650981600-1650981600@bergen.edu
SUMMARY:FAFSA Info Session
DESCRIPTION:Meet in room L-159 and discuss your FAFSA and other Financial Aid questions with a staff member.
URL:https://bergen.edu/event/fafsa-info-session-2/
LOCATION:Pitkin Educational Center
CATEGORIES:Financial Aid,Info Session
ORGANIZER;CN="Financial Aid Department":MAILTO:financial.aid@bergen.edu
END:VEVENT
BEGIN:VEVENT
DTSTART;TZID=America/New_York:20220426T080000
DTEND;TZID=America/New_York:20220426T170000
DTSTAMP:20260422T004822
CREATED:20220329T155304Z
LAST-MODIFIED:20220329T155304Z
UID:21901-1650960000-1650992400@bergen.edu
SUMMARY:Banning books and censoring information: Democracy at home and abroad
DESCRIPTION:School districts across the country are banning books and censoring information at an alarming rate. What consequences await if the bans are allowed to continue? What does our history tell us about this process? And from the bans\, what conclusions can we draw about democracy both at home and abroad? Join us for a discussion about these pressing topics at the fourth Bergen Salon of the semester. Co-hosted by Professor Seamus Gibbons\, Dr. Katherine McGivern\, Dr. Andrew Tomko\, and Ms. Anna Gergen. Co-sponsored by the JKW School of Honors
URL:https://bergen.edu/event/banning-books-and-censoring-information-democracy-at-home-and-abroad/
CATEGORIES:Heritage Month
END:VEVENT
BEGIN:VEVENT
DTSTART;TZID=America/New_York:20220425T160000
DTEND;TZID=America/New_York:20220425T183000
DTSTAMP:20260422T004822
CREATED:20220418T141105Z
LAST-MODIFIED:20220418T141105Z
UID:22051-1650902400-1650911400@bergen.edu
SUMMARY:Home Baseball Game vs Union CC (SG)
DESCRIPTION:
URL:https://bergen.edu/event/home-baseball-game-vs-union-cc-sg-3/
CATEGORIES:Athletics
ATTACH;FMTTYPE=image/jpeg:https://bergen.edu/wp-content/uploads/Athletics-baseball.jpg
END:VEVENT
BEGIN:VEVENT
DTSTART;TZID=America/New_York:20220425T123000
DTEND;TZID=America/New_York:20220425T133000
DTSTAMP:20260422T004822
CREATED:20220408T171501Z
LAST-MODIFIED:20220408T171501Z
UID:21993-1650889800-1650893400@bergen.edu
SUMMARY:Sexual Assault Survivor story presented by Aziza Kibibi S-132
DESCRIPTION:Aziza Kibibi is the founder of Precious Little Ladies (PLL) which is an organization that provides services to families to prevent child abuse\, child molestation\, incest and domestic violence. While strengthening the foundation of the family through workshops and support\, they serve as a resource and advocate for parents\, children\, families\, victims and survivors.
URL:https://bergen.edu/event/sexual-assault-survivor-story-presented-by-aziza-kibibi-s-132/
LOCATION:Pitkin Educational Center
CATEGORIES:Heritage Month
ORGANIZER;CN="Student Life":MAILTO:studentlife@bergen.edu
END:VEVENT
BEGIN:VEVENT
DTSTART;TZID=America/New_York:20220423T193000
DTEND;TZID=America/New_York:20220423T213000
DTSTAMP:20260422T004822
CREATED:20220324T141126Z
LAST-MODIFIED:20220324T141126Z
UID:21853-1650742200-1650749400@bergen.edu
SUMMARY:Underworld (1927) Silent Film
DESCRIPTION:Underworld (1927) \nNew Score composed by Donald Sosin and Joanna Seaton \nPerformed live on stage by Donald Sosin\, Joanna Seaton and John La Barbera  \n  \nGangster kingpin\, Bull Weed rehabilitates his drunken lawyer\, but complications arise when the lawyer falls for Bull’s girlfriend. \n  \nDirected by Josef Von Sternberg (The Blue Angel\, Crime and Punishment\, The Docks of New York) and starring Clive Brook\, George Bancroft and Evelyn Brent. \nWhile admission is complimentary to patrons of the Ciccone Theatre\, a suggested donation of $10 via tickets.bergen.edu helps support the arts at Bergen.
URL:https://bergen.edu/event/underworld-1927-silent-film/
LOCATION:Ciccone Theatre
CATEGORIES:Community Productions,Theatres at Bergen
ATTACH;FMTTYPE=image/jpeg:https://bergen.edu/wp-content/uploads/Ciccone2022Season-SilentFilms-CalendarGraphic.jpg
ORGANIZER;CN="Theatres at Bergen":MAILTO:cicconetheatre@bergen.edu
END:VEVENT
BEGIN:VEVENT
DTSTART;TZID=America/New_York:20220423T120000
DTEND;TZID=America/New_York:20220423T180000
DTSTAMP:20260422T004822
CREATED:20220310T192522Z
LAST-MODIFIED:20220310T192522Z
UID:21676-1650715200-1650736800@bergen.edu
SUMMARY:Home Baseball Game vs RCSJ-Cumberland Co. (DH)
DESCRIPTION:
URL:https://bergen.edu/event/home-baseball-game-vs-rcsj-cumberland-co-dh/
CATEGORIES:Athletics
ATTACH;FMTTYPE=image/jpeg:https://bergen.edu/wp-content/uploads/Athletics-baseball.jpg
END:VEVENT
BEGIN:VEVENT
DTSTART;TZID=America/New_York:20220422T193000
DTEND;TZID=America/New_York:20220422T213000
DTSTAMP:20260422T004822
CREATED:20220324T140957Z
LAST-MODIFIED:20220324T140957Z
UID:21851-1650655800-1650663000@bergen.edu
SUMMARY:The Regeneration (1915) Silent Film
DESCRIPTION:The Regeneration (1915) \nNew score composed by John La Barbera \nPerformed live on stage by John La Barbera\, Donald Sosin and Joanna Seaton \n  \nOrphaned at an early age after the death of his mother and exploited and abused by his new guardians\, Owen Conway takes to the streets of New York City and turns to crime\, but an act of good deed changes the path of his criminal life. \n  \nDirected by the legendary Raoul Walsh (High Sierra\, White Heat\, The Naked and the Dead) and starring Rockliffe Fellowes and Anna Nilsson. \nWhile admission is complimentary to patrons of the Ciccone Theatre\, a suggested donation of $10 via tickets.bergen.edu helps support the arts at Bergen.
URL:https://bergen.edu/event/the-regeneration-1915-silent-film/
LOCATION:Ciccone Theatre
CATEGORIES:Community Productions,Theatres at Bergen
ATTACH;FMTTYPE=image/jpeg:https://bergen.edu/wp-content/uploads/Ciccone2022Season-SilentFilms-CalendarGraphic.jpg
ORGANIZER;CN="Theatres at Bergen":MAILTO:cicconetheatre@bergen.edu
END:VEVENT
BEGIN:VEVENT
DTSTART;TZID=America/New_York:20220422T153000
DTEND;TZID=America/New_York:20220422T183000
DTSTAMP:20260422T004822
CREATED:20220310T192508Z
LAST-MODIFIED:20220310T192508Z
UID:21675-1650641400-1650652200@bergen.edu
SUMMARY:Away Baseball Game vs RCSJ-Cumberland Co. (SG)
DESCRIPTION:
URL:https://bergen.edu/event/away-baseball-game-vs-rcsj-cumberland-co-sg/
CATEGORIES:Athletics
ATTACH;FMTTYPE=image/jpeg:https://bergen.edu/wp-content/uploads/Athletics-baseball.jpg
END:VEVENT
BEGIN:VEVENT
DTSTART;TZID=America/New_York:20220422T101500
DTEND;TZID=America/New_York:20220422T110000
DTSTAMP:20260422T004822
CREATED:20220408T170523Z
LAST-MODIFIED:20220408T170537Z
UID:21987-1650622500-1650625200@bergen.edu
SUMMARY:ASP and Rocket Composter Demonstration - Outside the Cafeteria
DESCRIPTION:Chemistry PJ Ricatto will give a demonstration of our new ASP (Aerated Static Pile) composting unit and our Rocket In-Vessel Aerated Composting System.
URL:https://bergen.edu/event/asp-and-rocket-composter-demonstration-cafeteria/
LOCATION:Pitkin Educational Center
END:VEVENT
END:VCALENDAR