BEGIN:VCALENDAR
VERSION:2.0
PRODID:-//Bergen Community College - ECPv6.15.15//NONSGML v1.0//EN
CALSCALE:GREGORIAN
METHOD:PUBLISH
X-ORIGINAL-URL:https://bergen.edu
X-WR-CALDESC:Events for Bergen Community College
REFRESH-INTERVAL;VALUE=DURATION:PT1H
X-Robots-Tag:noindex
X-PUBLISHED-TTL:PT1H
BEGIN:VTIMEZONE
TZID:America/New_York
BEGIN:DAYLIGHT
TZOFFSETFROM:-0500
TZOFFSETTO:-0400
TZNAME:EDT
DTSTART:20190310T070000
END:DAYLIGHT
BEGIN:STANDARD
TZOFFSETFROM:-0400
TZOFFSETTO:-0500
TZNAME:EST
DTSTART:20191103T060000
END:STANDARD
BEGIN:DAYLIGHT
TZOFFSETFROM:-0500
TZOFFSETTO:-0400
TZNAME:EDT
DTSTART:20200308T070000
END:DAYLIGHT
BEGIN:STANDARD
TZOFFSETFROM:-0400
TZOFFSETTO:-0500
TZNAME:EST
DTSTART:20201101T060000
END:STANDARD
BEGIN:DAYLIGHT
TZOFFSETFROM:-0500
TZOFFSETTO:-0400
TZNAME:EDT
DTSTART:20210314T070000
END:DAYLIGHT
BEGIN:STANDARD
TZOFFSETFROM:-0400
TZOFFSETTO:-0500
TZNAME:EST
DTSTART:20211107T060000
END:STANDARD
END:VTIMEZONE
BEGIN:VEVENT
DTSTART;VALUE=DATE:20200810
DTEND;VALUE=DATE:20200811
DTSTAMP:20260424T030659
CREATED:20200603T202612Z
LAST-MODIFIED:20200605T184852Z
UID:15733-1597017600-1597103999@bergen.edu
SUMMARY:Summer 3 Begins
DESCRIPTION:
URL:https://bergen.edu/event/summer-3-begins/
CATEGORIES:Academic Calendar
END:VEVENT
BEGIN:VEVENT
DTSTART;TZID=America/New_York:20200810T080000
DTEND;TZID=America/New_York:20200810T081500
DTSTAMP:20260424T030659
CREATED:20200806T130632Z
LAST-MODIFIED:20200806T130632Z
UID:16483-1597046400-1597047300@bergen.edu
SUMMARY:Monday Meditation
DESCRIPTION:Join yoga instructor Suzanne Andora-Barron every Monday at 5 pm via Zoom for free mini-meditation classes (10-15 min in length) to relax your mind and body and stimulate your immune system. Andora-Barron is a yoga teacher\, a certified Jin Shin Jytusu practitioner\, and an adjunct yoga instructor in the Wellness and Exercise Science Department at Bergen.
URL:https://bergen.edu/event/monday-meditation-14/
LOCATION:Virtual Campus
CATEGORIES:Virtual Life
ATTACH;FMTTYPE=image/jpeg:https://bergen.edu/wp-content/uploads/Meditation-2-1.jpg
ORGANIZER;CN="Virtual Life":MAILTO:virtuallife@bergen.edu
END:VEVENT
BEGIN:VEVENT
DTSTART;TZID=America/New_York:20200810T113000
DTEND;TZID=America/New_York:20200810T123000
DTSTAMP:20260424T030659
CREATED:20200806T130801Z
LAST-MODIFIED:20200806T130801Z
UID:16485-1597059000-1597062600@bergen.edu
SUMMARY:Q&A with a Counselor
DESCRIPTION:Ask STEM Counselor\, Majeda Sultana\, and other members of the college staff questions about the registration process\, what classes to take\, the transfer process\, and general academic and career advising questions. Use this session as an opportunity to receive answers or referrals to the questions you might have.
URL:https://bergen.edu/event/qa-with-a-counselor-19/
LOCATION:Virtual Campus
CATEGORIES:Virtual Life
ATTACH;FMTTYPE=image/jpeg:https://bergen.edu/wp-content/uploads/qa.jpg
ORGANIZER;CN="Virtual Life":MAILTO:virtuallife@bergen.edu
END:VEVENT
BEGIN:VEVENT
DTSTART;TZID=America/New_York:20200810T130000
DTEND;TZID=America/New_York:20200810T140000
DTSTAMP:20260424T030659
CREATED:20200806T131012Z
LAST-MODIFIED:20200806T131012Z
UID:16490-1597064400-1597068000@bergen.edu
SUMMARY:Talking to the Financial Literacy Specialist
DESCRIPTION:Randi Greene\, the STEM Financial Literacy Center Coordinator\, is holding sessions to assist students with financial guidance during these difficult times. She can also provide information regarding updating your FAFSA\, the stimulus package\, and filing for unemployment.
URL:https://bergen.edu/event/talking-to-the-financial-literacy-specialist-8/
LOCATION:Virtual Campus
CATEGORIES:Virtual Life
ATTACH;FMTTYPE=image/jpeg:https://bergen.edu/wp-content/uploads/Business-and-Technology.jpg
ORGANIZER;CN="Virtual Life":MAILTO:virtuallife@bergen.edu
END:VEVENT
BEGIN:VEVENT
DTSTART;TZID=America/New_York:20200810T150000
DTEND;TZID=America/New_York:20200810T160000
DTSTAMP:20260424T030659
CREATED:20200806T131052Z
LAST-MODIFIED:20200806T131052Z
UID:16491-1597071600-1597075200@bergen.edu
SUMMARY:STEM Student Task Force Meeting
DESCRIPTION:All students are invited to join the meeting to talk to members of the task force on how Bergen students can assist the local community with PPE supplies and help with the pandemic crisis.
URL:https://bergen.edu/event/stem-student-task-force-meeting-8/
LOCATION:Virtual Campus
CATEGORIES:Virtual Life
ATTACH;FMTTYPE=image/jpeg:https://bergen.edu/wp-content/uploads/Manufacturing-and-Industrial-Technology-header.jpg
ORGANIZER;CN="Virtual Life":MAILTO:virtuallife@bergen.edu
END:VEVENT
BEGIN:VEVENT
DTSTART;TZID=America/New_York:20200810T170000
DTEND;TZID=America/New_York:20200810T171500
DTSTAMP:20260424T030659
CREATED:20200806T130723Z
LAST-MODIFIED:20200806T131424Z
UID:16484-1597078800-1597079700@bergen.edu
SUMMARY:Monday Meditation
DESCRIPTION:Join yoga instructor Suzanne Andora-Barron every Monday at 5pm via Zoom for free mini-meditation classes (10-15 min in length) to relax your mind and body and stimulate your immune system. Andora-Barron is a yoga teacher\, a certified Jin Shin Jytusu practitioner\, and an adjunct yoga instructor in the Wellness and Exercise Science Department at Bergen.
URL:https://bergen.edu/event/monday-meditation-15/
LOCATION:Virtual Campus
CATEGORIES:Virtual Life
ATTACH;FMTTYPE=image/jpeg:https://bergen.edu/wp-content/uploads/meditation-2.jpg
ORGANIZER;CN="Virtual Life":MAILTO:virtuallife@bergen.edu
END:VEVENT
BEGIN:VEVENT
DTSTART;TZID=America/New_York:20200811T110000
DTEND;TZID=America/New_York:20200811T120000
DTSTAMP:20260424T030659
CREATED:20200806T130840Z
LAST-MODIFIED:20200806T130840Z
UID:16486-1597143600-1597147200@bergen.edu
SUMMARY:Q&A with a Counselor
DESCRIPTION:Ask Jackie Stoddart (STEM Counselor) and other members of the college staff questions about the registration process\, what classes to take\, the transfer process\, and general academic and career advising questions. Use this session as a referral for any questions you might have!
URL:https://bergen.edu/event/qa-with-a-counselor-20/
LOCATION:Virtual Campus
CATEGORIES:Virtual Life
ATTACH;FMTTYPE=image/jpeg:https://bergen.edu/wp-content/uploads/qa.jpg
ORGANIZER;CN="Virtual Life":MAILTO:virtuallife@bergen.edu
END:VEVENT
BEGIN:VEVENT
DTSTART;TZID=America/New_York:20200811T110000
DTEND;TZID=America/New_York:20200811T120000
DTSTAMP:20260424T030659
CREATED:20200806T131743Z
LAST-MODIFIED:20200806T131743Z
UID:16494-1597143600-1597147200@bergen.edu
SUMMARY:Introduction to Fairleigh Dickinson University's Silberman College of Business
DESCRIPTION:This information session offers an overall introduction and awareness to FDU’s Silberman School of Business. Topics to be discussed include various majors\, 4+1 advantages\, internships\, alumni\, faculty\, and brief transfer information to transition. Scholarship awards for graduated BCC students will be discussed.
URL:https://bergen.edu/event/introduction-to-fairleigh-dickinson-universitys-silberman-college-of-business/
LOCATION:Virtual Campus
CATEGORIES:Virtual Life
ATTACH;FMTTYPE=image/jpeg:https://bergen.edu/wp-content/uploads/fdu.jpg
ORGANIZER;CN="Virtual Life":MAILTO:virtuallife@bergen.edu
END:VEVENT
BEGIN:VEVENT
DTSTART;TZID=America/New_York:20200811T130000
DTEND;TZID=America/New_York:20200811T140000
DTSTAMP:20260424T030659
CREATED:20200806T131504Z
LAST-MODIFIED:20200806T155344Z
UID:16493-1597150800-1597154400@bergen.edu
SUMMARY:Just Say No....To Debt
DESCRIPTION:Join the Financial Literacy Center and the Securities & Exchange Commission to discuss topics on Managing Debt & Credit\, Saving & Investing Strategies\, Retirement Planning\, COVID-19 Investment Scams\, and Tips to Avoid Fraud.
URL:https://bergen.edu/event/just-say-no-to-debt/
LOCATION:Virtual Campus
CATEGORIES:Virtual Life
ATTACH;FMTTYPE=image/jpeg:https://bergen.edu/wp-content/uploads/FinancialLiteracy-450x230-copy.jpg
ORGANIZER;CN="Virtual Life":MAILTO:virtuallife@bergen.edu
END:VEVENT
BEGIN:VEVENT
DTSTART;TZID=America/New_York:20200811T170000
DTEND;TZID=America/New_York:20200811T190000
DTSTAMP:20260424T030659
CREATED:20200806T155017Z
LAST-MODIFIED:20200806T155017Z
UID:16501-1597165200-1597172400@bergen.edu
SUMMARY:Virtual Open House
DESCRIPTION:Bergen Community College will sponsor two virtual open houses for prospective students and their families to learn more about the fall 2020 semester at the state’s No. 1 college for associate degree graduates. The virtual events will take place Tuesday\, Aug. 11 at 5 p.m. and Wednesday\, Aug. 12 at 11 a.m. Both sessions will feature guidance on academic programs – including how to apply\, choosing a major and financial aid assistance – and breakout sessions on transfer opportunities\, the honors program\, scholarships\, student life and extracurricular activities. Register your attendance at openhouse.bergen.edu. \n 
URL:https://bergen.edu/event/virtual-open-house/
LOCATION:Virtual Campus
CATEGORIES:Virtual Life
ATTACH;FMTTYPE=image/jpeg:https://bergen.edu/wp-content/uploads/virtualopenhouse-smallhomepagebanner-0720.jpg
ORGANIZER;CN="Virtual Life":MAILTO:virtuallife@bergen.edu
END:VEVENT
BEGIN:VEVENT
DTSTART;TZID=America/New_York:20200811T200000
DTEND;TZID=America/New_York:20200811T204500
DTSTAMP:20260424T030659
CREATED:20200806T131146Z
LAST-MODIFIED:20200806T131146Z
UID:16492-1597176000-1597178700@bergen.edu
SUMMARY:'Zoom'ba Class
DESCRIPTION:As we flatten the curve\, we wanted to invite you to Zoomba (aka Zumba on Zoom). This virtual dance/workout class will be led by Ana Parra Vera who is not only an analytics rockstar at UC Davis MSBA\, but also a certified Zumba instructor. We hope to combat the effects of social isolation\, and relieve some stress while connecting in a fun way. As with all health activities\, please make sure you are in good health and cleared with your doctor or healthcare professional for these activities\, and you self-monitor and adjust movements as needed for your safety. You can join just for the sessions you’d like\, and stay for as long as you want. Once you RSVP on the Google Form\, you’ll get the standing Zoom room.
URL:https://bergen.edu/event/zoomba-class-28/
LOCATION:Virtual Campus
CATEGORIES:Virtual Life
ATTACH;FMTTYPE=image/jpeg:https://bergen.edu/wp-content/uploads/Zumba.jpg
ORGANIZER;CN="Virtual Life":MAILTO:virtuallife@bergen.edu
END:VEVENT
BEGIN:VEVENT
DTSTART;TZID=America/New_York:20200812T110000
DTEND;TZID=America/New_York:20200812T130000
DTSTAMP:20260424T030659
CREATED:20200806T155102Z
LAST-MODIFIED:20200806T155102Z
UID:16502-1597230000-1597237200@bergen.edu
SUMMARY:Virtual Open House
DESCRIPTION:Bergen Community College will sponsor two virtual open houses for prospective students and their families to learn more about the fall 2020 semester at the state’s No. 1 college for associate degree graduates. The virtual events will take place Tuesday\, Aug. 11 at 5 p.m. and Wednesday\, Aug. 12 at 11 a.m. Both sessions will feature guidance on academic programs – including how to apply\, choosing a major and financial aid assistance – and breakout sessions on transfer opportunities\, the honors program\, scholarships\, student life and extracurricular activities. Register your attendance at openhouse.bergen.edu.
URL:https://bergen.edu/event/virtual-open-house-2/
LOCATION:Virtual Campus
CATEGORIES:Virtual Life
ATTACH;FMTTYPE=image/jpeg:https://bergen.edu/wp-content/uploads/virtualopenhouse-smallhomepagebanner-0720.jpg
ORGANIZER;CN="Virtual Life":MAILTO:virtuallife@bergen.edu
END:VEVENT
BEGIN:VEVENT
DTSTART;TZID=America/New_York:20200812T120000
DTEND;TZID=America/New_York:20200812T130000
DTSTAMP:20260424T030659
CREATED:20200806T130919Z
LAST-MODIFIED:20200806T162512Z
UID:16487-1597233600-1597237200@bergen.edu
SUMMARY:Q&A with a Counselor
DESCRIPTION:Ask STEM Counselor\, Matthew Greene\, and other members of the college staff questions about the registration process\, what classes to take\, the transfer process\, and general academic and career advising questions. Use this session as an opportunity to receive answers or referrals to the questions you might have.
URL:https://bergen.edu/event/qa-with-a-counselor-21/
LOCATION:Virtual Campus
CATEGORIES:Virtual Life
ATTACH;FMTTYPE=image/jpeg:https://bergen.edu/wp-content/uploads/qa.jpg
ORGANIZER;CN="Virtual Life":MAILTO:virtuallife@bergen.edu
END:VEVENT
BEGIN:VEVENT
DTSTART;TZID=America/New_York:20200812T123000
DTEND;TZID=America/New_York:20200812T133000
DTSTAMP:20260424T030659
CREATED:20200806T131824Z
LAST-MODIFIED:20200806T132003Z
UID:16495-1597235400-1597239000@bergen.edu
SUMMARY:Student Life & Conduct Live Office Hour
DESCRIPTION:Join the entire Student Life & Conduct staff for a live Q & A session about student organizations\, student conduct\, records requests\, and more. Our office is all about keeping students engaged in this new virtual environment and we want you to tell us how we can help – stop in and say hello!
URL:https://bergen.edu/event/student-life-conduct-live-office-hour-9/
LOCATION:Virtual Campus
CATEGORIES:Virtual Life
ATTACH;FMTTYPE=image/png:https://bergen.edu/wp-content/uploads/Student-Life.png
ORGANIZER;CN="Virtual Life":MAILTO:virtuallife@bergen.edu
END:VEVENT
BEGIN:VEVENT
DTSTART;TZID=America/New_York:20200812T133000
DTEND;TZID=America/New_York:20200812T143000
DTSTAMP:20260424T030659
CREATED:20200806T132103Z
LAST-MODIFIED:20200806T161751Z
UID:16496-1597239000-1597242600@bergen.edu
SUMMARY:Q&A with Health Professions Academic Counselor
DESCRIPTION:During the 1 hour virtual Q&A session\, students will have the opportunity to post their questions about entrance requirements and the admission process for the two-year degree and one-year certificate Health Profession programs in Academic Counselor Lauren Fowler’s Webex room.  Lauren will answer all of the posted questions. If she isn’t able to answer any questions during the hour\, students will be provided with her email address and she will follow up. For more program-specific questions\, students may be referred directly to program directors or faculty in the HP programs. This event is reoccurring on Wednesdays.
URL:https://bergen.edu/event/qa-with-health-professions-academic-counselor-6/
LOCATION:Virtual Campus
CATEGORIES:Virtual Life
ATTACH;FMTTYPE=image/jpeg:https://bergen.edu/wp-content/uploads/HP.jpg
ORGANIZER;CN="Virtual Life":MAILTO:virtuallife@bergen.edu
END:VEVENT
BEGIN:VEVENT
DTSTART;TZID=America/New_York:20200812T200000
DTEND;TZID=America/New_York:20200812T204500
DTSTAMP:20260424T030659
CREATED:20200806T132201Z
LAST-MODIFIED:20200806T132201Z
UID:16497-1597262400-1597265100@bergen.edu
SUMMARY:'Zoom'ba Class
DESCRIPTION:As we flatten the curve\, we wanted to invite you to Zoomba (aka Zumba on Zoom). This virtual dance/workout class will be led by Ana Parra Vera who is not only an analytics rockstar at UC Davis MSBA\, but also a certified Zumba instructor. We hope to combat the effects of social isolation\, and relieve some stress while connecting in a fun way. As with all health activities\, please make sure you are in good health and cleared with your doctor or healthcare professional for these activities\, and you self-monitor and adjust movements as needed for your safety. You can join just for the sessions you’d like\, and stay for as long as you want. Once you RSVP on the Google Form\, you’ll get the standing Zoom room.
URL:https://bergen.edu/event/zoomba-class-29/
LOCATION:Virtual Campus
CATEGORIES:Virtual Life
ATTACH;FMTTYPE=image/jpeg:https://bergen.edu/wp-content/uploads/Zumba.jpg
ORGANIZER;CN="Virtual Life":MAILTO:virtuallife@bergen.edu
END:VEVENT
BEGIN:VEVENT
DTSTART;TZID=America/New_York:20200813T120000
DTEND;TZID=America/New_York:20200813T124500
DTSTAMP:20260424T030659
CREATED:20200806T132303Z
LAST-MODIFIED:20200806T132303Z
UID:16499-1597320000-1597322700@bergen.edu
SUMMARY:Home Workout Session with Master Phil
DESCRIPTION:Keep the COVID “15” off\, maintain a healthy weight during quarantine\, elevate your mood\, and become stronger – all without leaving your home. No equipment beyond common household items needed. Develop your strength and improve your fitness levels every Thursday at noon! Join Master Phil as he leads the class through a 30-minute session of body weight exercises designed to address participants of all levels with beginner and advanced movements. We look forward to seeing you every Thursday for our Live Sessions! For this week’s workout\, please find a carpeted area at home or bring a floor mat or towel.
URL:https://bergen.edu/event/home-workout-session-with-master-phil-9/
LOCATION:Virtual Campus
CATEGORIES:Virtual Life
ATTACH;FMTTYPE=image/jpeg:https://bergen.edu/wp-content/uploads/Fitness-Friday-with-Master-Phil.jpg
ORGANIZER;CN="Virtual Life":MAILTO:virtuallife@bergen.edu
END:VEVENT
BEGIN:VEVENT
DTSTART;TZID=America/New_York:20200813T200000
DTEND;TZID=America/New_York:20200813T204500
DTSTAMP:20260424T030659
CREATED:20200806T132233Z
LAST-MODIFIED:20200806T132233Z
UID:16498-1597348800-1597351500@bergen.edu
SUMMARY:'Zoom'ba Class
DESCRIPTION:As we flatten the curve\, we wanted to invite you to Zoomba (aka Zumba on Zoom). This virtual dance/workout class will be led by Ana Parra Vera who is not only an analytics rockstar at UC Davis MSBA\, but also a certified Zumba instructor. We hope to combat the effects of social isolation\, and relieve some stress while connecting in a fun way. As with all health activities\, please make sure you are in good health and cleared with your doctor or healthcare professional for these activities\, and you self-monitor and adjust movements as needed for your safety. You can join just for the sessions you’d like\, and stay for as long as you want. Once you RSVP on the Google Form\, you’ll get the standing Zoom room.
URL:https://bergen.edu/event/zoomba-class-30/
LOCATION:Virtual Campus
CATEGORIES:Virtual Life
ATTACH;FMTTYPE=image/jpeg:https://bergen.edu/wp-content/uploads/Zumba.jpg
ORGANIZER;CN="Virtual Life":MAILTO:virtuallife@bergen.edu
END:VEVENT
BEGIN:VEVENT
DTSTART;TZID=America/New_York:20200817T080000
DTEND;TZID=America/New_York:20200817T081500
DTSTAMP:20260424T030659
CREATED:20200813T143826Z
LAST-MODIFIED:20200813T143826Z
UID:16538-1597651200-1597652100@bergen.edu
SUMMARY:Monday Meditation
DESCRIPTION:Join yoga instructor Suzanne Andora-Barron every Monday at 8am via Zoom for free mini-meditation classes (10-15 min in length) to relax your mind and body and stimulate your immune system. Andora-Barron is a yoga teacher\, a certified Jin Shin Jytusu practitioner\, and an adjunct yoga instructor in the Wellness and Exercise Science Department at Bergen.
URL:https://bergen.edu/event/monday-meditation-16/
LOCATION:Virtual Campus
CATEGORIES:Virtual Life
ATTACH;FMTTYPE=image/jpeg:https://bergen.edu/wp-content/uploads/Meditation-2-1.jpg
ORGANIZER;CN="Virtual Life":MAILTO:virtuallife@bergen.edu
END:VEVENT
BEGIN:VEVENT
DTSTART;TZID=America/New_York:20200817T113000
DTEND;TZID=America/New_York:20200817T123000
DTSTAMP:20260424T030659
CREATED:20200813T143943Z
LAST-MODIFIED:20200813T143943Z
UID:16540-1597663800-1597667400@bergen.edu
SUMMARY:Q&A with a Counselor
DESCRIPTION:Ask STEM Counselor\, Majeda Sultana\, and other members of the college staff questions about the registration process\, what classes to take\, the transfer process\, and general academic and career advising questions. Use this session as an opportunity to receive answers or referrals to the questions you might have.
URL:https://bergen.edu/event/qa-with-a-counselor-23/
LOCATION:Virtual Campus
CATEGORIES:Virtual Life
ATTACH;FMTTYPE=image/jpeg:https://bergen.edu/wp-content/uploads/qa.jpg
ORGANIZER;CN="Virtual Life":MAILTO:virtuallife@bergen.edu
END:VEVENT
BEGIN:VEVENT
DTSTART;TZID=America/New_York:20200817T123000
DTEND;TZID=America/New_York:20200817T131000
DTSTAMP:20260424T030659
CREATED:20200813T145032Z
LAST-MODIFIED:20200813T145032Z
UID:16543-1597667400-1597669800@bergen.edu
SUMMARY:Student Government Association: Information Session
DESCRIPTION:The Student Government Association (SGA) will be hosting information sessions where students will learn about what SGA does along what it hopes to accomplish this upcoming fall semester. This is a great way for students to get involved and enrich their experience at Bergen Community College.
URL:https://bergen.edu/event/student-government-association-information-session/
LOCATION:Virtual Campus
CATEGORIES:Virtual Life
ATTACH;FMTTYPE=image/jpeg:https://bergen.edu/wp-content/uploads/sga-logo.jpg
ORGANIZER;CN="Virtual Life":MAILTO:virtuallife@bergen.edu
END:VEVENT
BEGIN:VEVENT
DTSTART;TZID=America/New_York:20200817T130000
DTEND;TZID=America/New_York:20200817T140000
DTSTAMP:20260424T030659
CREATED:20200813T144030Z
LAST-MODIFIED:20200813T144030Z
UID:16541-1597669200-1597672800@bergen.edu
SUMMARY:Talking to the Financial Literacy Specialist
DESCRIPTION:Randi Greene\, the STEM Financial Literacy Center Coordinator\, is holding sessions to assist students with financial guidance during these difficult times. She can also provide information regarding updating your FAFSA\, the stimulus package\, and filing for unemployment.
URL:https://bergen.edu/event/talking-to-the-financial-literacy-specialist-9/
LOCATION:Virtual Campus
CATEGORIES:Virtual Life
ATTACH;FMTTYPE=image/png:https://bergen.edu/wp-content/uploads/Financial-Literacy.png
ORGANIZER;CN="Virtual Life":MAILTO:virtuallife@bergen.edu
END:VEVENT
BEGIN:VEVENT
DTSTART;TZID=America/New_York:20200817T150000
DTEND;TZID=America/New_York:20200817T160000
DTSTAMP:20260424T030659
CREATED:20200813T144146Z
LAST-MODIFIED:20200813T144146Z
UID:16542-1597676400-1597680000@bergen.edu
SUMMARY:STEM Student Task Force Meeting
DESCRIPTION:Join the meeting to talk to members of the task force on how Bergen students can assist the local community with PPE supplies and help with the pandemic crisis.
URL:https://bergen.edu/event/stem-student-task-force-meeting-9/
LOCATION:Virtual Campus
CATEGORIES:Virtual Life
ATTACH;FMTTYPE=image/jpeg:https://bergen.edu/wp-content/uploads/STEM-Task-Force.jpg
ORGANIZER;CN="Virtual Life":MAILTO:virtuallife@bergen.edu
END:VEVENT
BEGIN:VEVENT
DTSTART;TZID=America/New_York:20200817T170000
DTEND;TZID=America/New_York:20200817T171500
DTSTAMP:20260424T030659
CREATED:20200813T143906Z
LAST-MODIFIED:20200813T143906Z
UID:16539-1597683600-1597684500@bergen.edu
SUMMARY:Monday Meditation
DESCRIPTION:Join yoga instructor Suzanne Andora-Barron every Monday at 5pm via Zoom for free mini-meditation classes (10-15 min in length) to relax your mind and body and stimulate your immune system. Andora-Barron is a yoga teacher\, a certified Jin Shin Jytusu practitioner\, and an adjunct yoga instructor in the Wellness and Exercise Science Department at Bergen.
URL:https://bergen.edu/event/monday-meditation-17/
LOCATION:Virtual Campus
CATEGORIES:Virtual Life
ATTACH;FMTTYPE=image/jpeg:https://bergen.edu/wp-content/uploads/Meditation-2-1.jpg
ORGANIZER;CN="Virtual Life":MAILTO:virtuallife@bergen.edu
END:VEVENT
BEGIN:VEVENT
DTSTART;TZID=America/New_York:20200818T110000
DTEND;TZID=America/New_York:20200818T120000
DTSTAMP:20260424T030659
CREATED:20200813T144217Z
LAST-MODIFIED:20200813T144238Z
UID:16544-1597748400-1597752000@bergen.edu
SUMMARY:Q&A with a Counselor
DESCRIPTION:Ask Jackie Stoddart (STEM Counselor) and other members of the college staff questions about the registration process\, what classes to take\, the transfer process\, and general academic and career advising questions. Use this session as a referral for any questions you might have!
URL:https://bergen.edu/event/qa-with-a-counselor-24/
LOCATION:Virtual Campus
CATEGORIES:Virtual Life
ATTACH;FMTTYPE=image/jpeg:https://bergen.edu/wp-content/uploads/qa.jpg
ORGANIZER;CN="Virtual Life":MAILTO:virtuallife@bergen.edu
END:VEVENT
BEGIN:VEVENT
DTSTART;TZID=America/New_York:20200818T200000
DTEND;TZID=America/New_York:20200818T204500
DTSTAMP:20260424T030659
CREATED:20200813T144325Z
LAST-MODIFIED:20200813T144325Z
UID:16545-1597780800-1597783500@bergen.edu
SUMMARY:'Zoom'ba Class
DESCRIPTION:As we flatten the curve\, we wanted to invite you to Zoomba (aka Zumba on Zoom). This virtual dance/workout class will be led by Ana Parra Vera who is not only an analytics rockstar at UC Davis MSBA\, but also a certified Zumba instructor. We hope to combat the effects of social isolation\, and relieve some stress while connecting in a fun way. As with all health activities\, please make sure you are in good health and cleared with your doctor or healthcare professional for these activities\, and you self-monitor and adjust movements as needed for your safety. You can join just for the sessions you’d like\, and stay for as long as you want. Once you RSVP on the Google Form\, you’ll get the standing Zoom room.
URL:https://bergen.edu/event/zoomba-class-31/
LOCATION:Virtual Campus
CATEGORIES:Virtual Life
ATTACH;FMTTYPE=image/jpeg:https://bergen.edu/wp-content/uploads/Zumba.jpg
ORGANIZER;CN="Virtual Life":MAILTO:virtuallife@bergen.edu
END:VEVENT
BEGIN:VEVENT
DTSTART;TZID=America/New_York:20200819T120000
DTEND;TZID=America/New_York:20200819T130000
DTSTAMP:20260424T030659
CREATED:20200813T144356Z
LAST-MODIFIED:20200813T144408Z
UID:16546-1597838400-1597842000@bergen.edu
SUMMARY:Q&A with a Counselor
DESCRIPTION:Ask STEM Counselor\, Matthew Greene\, and other members of the college staff questions about the registration process\, what classes to take\, the transfer process\, and general academic and career advising questions. Use this session as an opportunity to receive answers or referrals to the questions you might have.
URL:https://bergen.edu/event/qa-with-a-counselor-25/
LOCATION:Virtual Campus
CATEGORIES:Virtual Life
ATTACH;FMTTYPE=image/jpeg:https://bergen.edu/wp-content/uploads/qa.jpg
ORGANIZER;CN="Virtual Life":MAILTO:virtuallife@bergen.edu
END:VEVENT
BEGIN:VEVENT
DTSTART;TZID=America/New_York:20200819T123000
DTEND;TZID=America/New_York:20200819T131000
DTSTAMP:20260424T030659
CREATED:20200813T145112Z
LAST-MODIFIED:20200813T145112Z
UID:16552-1597840200-1597842600@bergen.edu
SUMMARY:Student Government Association: Information Session
DESCRIPTION:The Student Government Association (SGA) will be hosting information sessions where students will learn about what SGA does along what it hopes to accomplish this upcoming fall semester. This is a great way for students to get involved and enrich their experience at Bergen Community College.
URL:https://bergen.edu/event/student-government-association-information-session-2/
LOCATION:Virtual Campus
CATEGORIES:Virtual Life
ATTACH;FMTTYPE=image/jpeg:https://bergen.edu/wp-content/uploads/sga-logo.jpg
ORGANIZER;CN="Virtual Life":MAILTO:virtuallife@bergen.edu
END:VEVENT
BEGIN:VEVENT
DTSTART;TZID=America/New_York:20200819T133000
DTEND;TZID=America/New_York:20200819T143000
DTSTAMP:20260424T030659
CREATED:20200813T144506Z
LAST-MODIFIED:20200813T144506Z
UID:16548-1597843800-1597847400@bergen.edu
SUMMARY:Q&A with Health Professions Academic Counselor
DESCRIPTION:During the 1 hour virtual Q&A session\, students will have the opportunity to post their questions about entrance requirements and the admission process for the two-year degree and one-year certificate Health Profession programs in Academic Counselor Lauren Fowler’s Webex room.  Lauren will answer all of the posted questions. If she isn’t able to answer any questions during the hour\, students will be provided with her email address and she will follow up. For more program-specific questions\, students may be referred directly to program directors or faculty in the HP programs. This event is reoccurring on Wednesdays.
URL:https://bergen.edu/event/qa-with-health-professions-academic-counselor-8/
LOCATION:Virtual Campus
CATEGORIES:Virtual Life
ATTACH;FMTTYPE=image/jpeg:https://bergen.edu/wp-content/uploads/HP.jpg
ORGANIZER;CN="Virtual Life":MAILTO:virtuallife@bergen.edu
END:VEVENT
BEGIN:VEVENT
DTSTART;TZID=America/New_York:20200819T200000
DTEND;TZID=America/New_York:20200819T204500
DTSTAMP:20260424T030659
CREATED:20200813T144540Z
LAST-MODIFIED:20200813T144540Z
UID:16549-1597867200-1597869900@bergen.edu
SUMMARY:'Zoom'ba Class
DESCRIPTION:As we flatten the curve\, we wanted to invite you to Zoomba (aka Zumba on Zoom). This virtual dance/workout class will be led by Ana Parra Vera who is not only an analytics rockstar at UC Davis MSBA\, but also a certified Zumba instructor. We hope to combat the effects of social isolation\, and relieve some stress while connecting in a fun way. As with all health activities\, please make sure you are in good health and cleared with your doctor or healthcare professional for these activities\, and you self-monitor and adjust movements as needed for your safety. You can join just for the sessions you’d like\, and stay for as long as you want. Once you RSVP on the Google Form\, you’ll get the standing Zoom room.
URL:https://bergen.edu/event/zoomba-class-32/
LOCATION:Virtual Campus
CATEGORIES:Virtual Life
ATTACH;FMTTYPE=image/jpeg:https://bergen.edu/wp-content/uploads/Zumba.jpg
ORGANIZER;CN="Virtual Life":MAILTO:virtuallife@bergen.edu
END:VEVENT
END:VCALENDAR