BEGIN:VCALENDAR
VERSION:2.0
PRODID:-//Bergen Community College - ECPv6.15.15//NONSGML v1.0//EN
CALSCALE:GREGORIAN
METHOD:PUBLISH
X-ORIGINAL-URL:https://bergen.edu
X-WR-CALDESC:Events for Bergen Community College
REFRESH-INTERVAL;VALUE=DURATION:PT1H
X-Robots-Tag:noindex
X-PUBLISHED-TTL:PT1H
BEGIN:VTIMEZONE
TZID:America/New_York
BEGIN:DAYLIGHT
TZOFFSETFROM:-0500
TZOFFSETTO:-0400
TZNAME:EDT
DTSTART:20190310T070000
END:DAYLIGHT
BEGIN:STANDARD
TZOFFSETFROM:-0400
TZOFFSETTO:-0500
TZNAME:EST
DTSTART:20191103T060000
END:STANDARD
BEGIN:DAYLIGHT
TZOFFSETFROM:-0500
TZOFFSETTO:-0400
TZNAME:EDT
DTSTART:20200308T070000
END:DAYLIGHT
BEGIN:STANDARD
TZOFFSETFROM:-0400
TZOFFSETTO:-0500
TZNAME:EST
DTSTART:20201101T060000
END:STANDARD
BEGIN:DAYLIGHT
TZOFFSETFROM:-0500
TZOFFSETTO:-0400
TZNAME:EDT
DTSTART:20210314T070000
END:DAYLIGHT
BEGIN:STANDARD
TZOFFSETFROM:-0400
TZOFFSETTO:-0500
TZNAME:EST
DTSTART:20211107T060000
END:STANDARD
BEGIN:DAYLIGHT
TZOFFSETFROM:-0500
TZOFFSETTO:-0400
TZNAME:EDT
DTSTART:20220313T070000
END:DAYLIGHT
BEGIN:STANDARD
TZOFFSETFROM:-0400
TZOFFSETTO:-0500
TZNAME:EST
DTSTART:20221106T060000
END:STANDARD
END:VTIMEZONE
BEGIN:VEVENT
DTSTART;TZID=America/New_York:20201208T110000
DTEND;TZID=America/New_York:20201208T130000
DTSTAMP:20260424T031323
CREATED:20201202T144018Z
LAST-MODIFIED:20201202T144018Z
UID:17514-1607425200-1607432400@bergen.edu
SUMMARY:Financial Aid Information Session
DESCRIPTION:https://bergen.webex.com/meet/FLC
URL:https://bergen.edu/event/financial-aid-information-session/
END:VEVENT
BEGIN:VEVENT
DTSTART;TZID=America/New_York:20201209T133000
DTEND;TZID=America/New_York:20201209T143000
DTSTAMP:20260424T031324
CREATED:20201203T170331Z
LAST-MODIFIED:20201203T170331Z
UID:17530-1607520600-1607524200@bergen.edu
SUMMARY:NJ State House Virtual Tour Event
DESCRIPTION:Join us for a virtual tour of the New Jersey State house. The tour will go over historical events that have coincided with New Jersey legislature history. It will also include historical art pieces that have played a large part in New Jersey’s history. Attendees will also have the opportunity to ask questions that will be answered live. Pre-registration is NOT required and everyone is welcome!
URL:https://bergen.edu/event/nj-state-house-virtual-tour-event/
LOCATION:Virtual Campus
ATTACH;FMTTYPE=image/jpeg:https://bergen.edu/wp-content/uploads/Real-Estate.jpg
ORGANIZER;CN="Student Life":MAILTO:studentlife@bergen.edu
END:VEVENT
BEGIN:VEVENT
DTSTART;TZID=America/New_York:20201214T133000
DTEND;TZID=America/New_York:20201214T140000
DTSTAMP:20260424T031324
CREATED:20201117T192319Z
LAST-MODIFIED:20201117T192319Z
UID:17474-1607952600-1607954400@bergen.edu
SUMMARY:Stress Busters: De-Stressing for Finals
DESCRIPTION:Learn how to calm the mind with meditation. Reap the benefits of stress reduction as well as improved memory and concentration. Meditation instructor\, Kathy Morley\, will teach you life long tools for an extraordinary everyday living.
URL:https://bergen.edu/event/stress-busters-de-stressing-for-finals-4/
LOCATION:Virtual Campus
CATEGORIES:Virtual Life
ATTACH;FMTTYPE=image/png:https://bergen.edu/wp-content/uploads/Meditation-event-graphic.png
ORGANIZER;CN="Student Life":MAILTO:studentlife@bergen.edu
END:VEVENT
BEGIN:VEVENT
DTSTART;TZID=America/New_York:20201214T140000
DTEND;TZID=America/New_York:20201214T160000
DTSTAMP:20260424T031324
CREATED:20201202T144054Z
LAST-MODIFIED:20201202T144054Z
UID:17516-1607954400-1607961600@bergen.edu
SUMMARY:Financial Aid Information Session
DESCRIPTION:https://bergen.webex.com/meet/FLC
URL:https://bergen.edu/event/financial-aid-information-session-2/
END:VEVENT
BEGIN:VEVENT
DTSTART;TZID=America/New_York:20201215T123000
DTEND;TZID=America/New_York:20201215T133000
DTSTAMP:20260424T031324
CREATED:20210107T170225Z
LAST-MODIFIED:20210107T170225Z
UID:17597-1608035400-1608039000@bergen.edu
SUMMARY:Club Feedback Forum
DESCRIPTION:The end of the semester is approaching\, and I hope you are content with what your club was able to accomplish in this virtual world.  We faced many challenges with recruitment\, promoting and having events\, and just keeping our Bergen community engaged in general.  The Office of Student Life has faced these challenges right along with you\, and I am impressed with the determination and flexibility all of you have displayed these past few months.  Being virtual in this capacity has been a new experience for us\, and we would love some feedback from all of you. What worked\, what didn’t and what can be shared with others.
URL:https://bergen.edu/event/club-feedback-forum/
LOCATION:Virtual Campus
CATEGORIES:Virtual Life
ATTACH;FMTTYPE=image/png:https://bergen.edu/wp-content/uploads/Student-Life.png
ORGANIZER;CN="Student Life":MAILTO:studentlife@bergen.edu
END:VEVENT
BEGIN:VEVENT
DTSTART;TZID=America/New_York:20201215T140000
DTEND;TZID=America/New_York:20201215T150000
DTSTAMP:20260424T031324
CREATED:20201021T141128Z
LAST-MODIFIED:20201213T152115Z
UID:17280-1608040800-1608044400@bergen.edu
SUMMARY:Virtual Admissions Information Sessions
DESCRIPTION:Bergen’s Office of Admissions is offering virtual admissions information sessions. Register at https://bergen.radiusbycampusmgmt.com/ssc/eform/N7878Lx80N6G0x6702d8k71.ssc
URL:https://bergen.edu/event/virtual-admissions-information-sessions-2/
LOCATION:Virtual Campus
CATEGORIES:Virtual Life
END:VEVENT
BEGIN:VEVENT
DTSTART;TZID=America/New_York:20201216T110000
DTEND;TZID=America/New_York:20201216T130000
DTSTAMP:20260424T031324
CREATED:20201202T144119Z
LAST-MODIFIED:20201202T144119Z
UID:17517-1608116400-1608123600@bergen.edu
SUMMARY:Financial Aid Information Session
DESCRIPTION:https://bergen.webex.com/meet/FLC
URL:https://bergen.edu/event/financial-aid-information-session-3/
END:VEVENT
BEGIN:VEVENT
DTSTART;TZID=America/New_York:20201216T133000
DTEND;TZID=America/New_York:20201216T143000
DTSTAMP:20260424T031324
CREATED:20200908T142414Z
LAST-MODIFIED:20201213T152123Z
UID:16845-1608125400-1608129000@bergen.edu
SUMMARY:Health Professions Virtual Q&A
DESCRIPTION:During each session\, Lauren Fowler will discuss entrance requirements and admission process for Bergen’s renowned HP programs. Visit here to join: https://bergen.webex.com/meet/lfowler \nAlso\, visit here for a video on the process: https://youtu.be/kCcAI_lq61E
URL:https://bergen.edu/event/health-professions-virtual-qa/
END:VEVENT
BEGIN:VEVENT
DTSTART;TZID=America/New_York:20201217T140000
DTEND;TZID=America/New_York:20201217T150000
DTSTAMP:20260424T031324
CREATED:20201021T141031Z
LAST-MODIFIED:20201213T152131Z
UID:17279-1608213600-1608217200@bergen.edu
SUMMARY:Virtual Admissions Information Sessions
DESCRIPTION:Bergen’s Office of Admissions is offering virtual admissions information sessions. Register at https://bergen.radiusbycampusmgmt.com/ssc/eform/N7878Lx80N6G0x6702d8k71.ssc
URL:https://bergen.edu/event/virtual-admissions-information-sessions/
LOCATION:Virtual Campus
CATEGORIES:Virtual Life
END:VEVENT
BEGIN:VEVENT
DTSTART;TZID=America/New_York:20201217T160000
DTEND;TZID=America/New_York:20201217T170000
DTSTAMP:20260424T031324
CREATED:20200909T142431Z
LAST-MODIFIED:20201213T152138Z
UID:16859-1608220800-1608224400@bergen.edu
SUMMARY:Child Care Access Means Parents in School
DESCRIPTION:Join the Child Development Center’s Child Care Access Means Parents in School (CCAMPIS) program for a virtual open house for student-parents. This informal gathering is to network with other student-parents and to connect with parenting and career resources. RSVP with CCAMPIS Coordinator Lark Lo-Sontag at LLo@bergen.edu. Sponsored by Child Care Access Means Parents in School. This programming has been provided through funding from Grant #P335A190359 from the U.S. Department of Education. \nhttps://bergen.webex.com/bergen/j.php?MTID=mce92844c1fe6c47f840e95f305b5ffb4 \nMeeting number: 172 056 1650 \nPassword: f3qYUWsAm36 \nor \n+1-415-655-0003 \nAccess code: 172 056 1650
URL:https://bergen.edu/event/child-care-access-means-parents-in-school/
END:VEVENT
BEGIN:VEVENT
DTSTART;TZID=America/New_York:20201218T183000
DTEND;TZID=America/New_York:20201218T200000
DTSTAMP:20260424T031324
CREATED:20201215T193200Z
LAST-MODIFIED:20201218T145420Z
UID:17623-1608316200-1608321600@bergen.edu
SUMMARY:Virtual Benefit Concert
DESCRIPTION:Join us for a Virtual Benefit Concert offered through Theatres Together: Performing for a Purpose by Investors Bank this Friday\, December 18th at 6:30pm-8:00pm. Representing the Ciccone Theatre at Bergen Community College\, Divinity Montijo\, former Bergen Community College student\, will sing and perform “A Million Dreams” from the movie “The Greatest Showman.” Daniel Lipata\, a former Bergen student\, will accompany Montijo on guitar. Yong Kwon\, a former Bergen student\, videotaped their performance. In addition to an initial $1\,000 donation\, for every patron that supports the Anna Maria Ciccone Theatre by simply watching the event\, Investors Bank will donate $5 to support the arts at Bergen Community College. For more information\, visit the press release. To participate\, register on the registration link to receive the Zoom links.
URL:https://bergen.edu/event/virtual-benefit-concert/
LOCATION:Virtual Campus
CATEGORIES:Virtual Life
ATTACH;FMTTYPE=image/jpeg:https://bergen.edu/wp-content/uploads/Theatres-Together-Investors-Bank.jpg
END:VEVENT
BEGIN:VEVENT
DTSTART;VALUE=DATE:20201221
DTEND;VALUE=DATE:20201222
DTSTAMP:20260424T031324
CREATED:20200605T190738Z
LAST-MODIFIED:20200605T191135Z
UID:15789-1608508800-1608595199@bergen.edu
SUMMARY:Fall 1\, 2\, Flex 2 Classes End
DESCRIPTION:
URL:https://bergen.edu/event/fall-1-2-flex-2-classes-end/
CATEGORIES:Academic Calendar
END:VEVENT
BEGIN:VEVENT
DTSTART;TZID=America/New_York:20201221T190000
DTEND;TZID=America/New_York:20201221T200000
DTSTAMP:20260424T031324
CREATED:20210107T170153Z
LAST-MODIFIED:20210107T170153Z
UID:17598-1608577200-1608580800@bergen.edu
SUMMARY:Bergen BPM: Home for the Holidays
DESCRIPTION:Join the Bergen Music club for a virtual holiday sing along! Close the semester by spreading some holiday cheer!
URL:https://bergen.edu/event/bergen-bpm-home-for-the-holidays/
LOCATION:Virtual Campus
CATEGORIES:Virtual Life
ATTACH;FMTTYPE=image/jpeg:https://bergen.edu/wp-content/uploads/HomefortheHolidays-Calendar1220.jpg
ORGANIZER;CN="Student Life":MAILTO:studentlife@bergen.edu
END:VEVENT
BEGIN:VEVENT
DTSTART;VALUE=DATE:20201222
DTEND;VALUE=DATE:20201223
DTSTAMP:20260424T031324
CREATED:20200605T190804Z
LAST-MODIFIED:20200605T190804Z
UID:15790-1608595200-1608681599@bergen.edu
SUMMARY:Make up
DESCRIPTION:
URL:https://bergen.edu/event/make-up/
CATEGORIES:Academic Calendar
END:VEVENT
BEGIN:VEVENT
DTSTART;TZID=America/New_York:20201222T140000
DTEND;TZID=America/New_York:20201222T150000
DTSTAMP:20260424T031324
CREATED:20201213T152302Z
LAST-MODIFIED:20201213T152302Z
UID:17616-1608645600-1608649200@bergen.edu
SUMMARY:Virtual Metropolitan Museum Tour
DESCRIPTION:Art lovers and beginners are welcome.  This will be a wonderful introduction to the Met collection without having to leave your home! Explore the Art of Painting with a live Met Museum expert tour guide via Microsoft Teams.  There will be a Q&A at the end. You must RSVP by emailing Barbara Abolafia at babolafia@bergen.edu to receive the event link. Spots are limited. \nBrought to you by The Turning Point and Pathway Scholars Programs and courtesy of Suez Water NJ.
URL:https://bergen.edu/event/virtual-metropolitan-museum-tour/
END:VEVENT
BEGIN:VEVENT
DTSTART;VALUE=DATE:20201223
DTEND;VALUE=DATE:20201224
DTSTAMP:20260424T031324
CREATED:20200605T190814Z
LAST-MODIFIED:20200605T190814Z
UID:15792-1608681600-1608767999@bergen.edu
SUMMARY:Make up
DESCRIPTION:
URL:https://bergen.edu/event/make-up-2/
CATEGORIES:Academic Calendar
END:VEVENT
BEGIN:VEVENT
DTSTART;VALUE=DATE:20201225
DTEND;VALUE=DATE:20210102
DTSTAMP:20260424T031324
CREATED:20200605T190919Z
LAST-MODIFIED:20200605T190919Z
UID:15793-1608854400-1609545599@bergen.edu
SUMMARY:College Closed - Holiday
DESCRIPTION:
URL:https://bergen.edu/event/college-closed-holiday/
CATEGORIES:Academic Calendar
END:VEVENT
BEGIN:VEVENT
DTSTART;VALUE=DATE:20201228
DTEND;VALUE=DATE:20201229
DTSTAMP:20260424T031324
CREATED:20200605T190951Z
LAST-MODIFIED:20201211T190342Z
UID:15794-1609113600-1609199999@bergen.edu
SUMMARY:Winter Term Begins
DESCRIPTION:
URL:https://bergen.edu/event/winter-term-begins/
CATEGORIES:Academic Calendar
END:VEVENT
BEGIN:VEVENT
DTSTART;TZID=America/New_York:20210114T190000
DTEND;TZID=America/New_York:20210114T200000
DTSTAMP:20260424T031325
CREATED:20210107T170520Z
LAST-MODIFIED:20210330T144025Z
UID:17700-1610650800-1610654400@bergen.edu
SUMMARY:From Here to Equality: A Virtual Discussion
DESCRIPTION:Bergenfield Public Library\, Englewood Public Library\, Fort Lee Public Library\, Hackensack’s Johnson Public Library\, and Teaneck Public Library have partnered to host authors and scholars A. Kirsten Mullen and William Darity\, Jr. for a virtual discussion of their book From Here to Equality: Reparations for Black Americans in the Twenty-First Century on Thursday\, January 14 at 7:00pm. \nFrom Here to Equality examines the economic divide between black and white Americans and makes a comprehensive case for how a reparations program for U.S. descendants of slavery could close that gap. Mullen and Darity assert that today’s black-white wealth gap originated with the unfulfilled promise of 40 acres in 1865\, and that the payment of this debt in the 21st century is feasible—and at least 155 years overdue.
URL:https://bergen.edu/event/from-here-to-equality-a-virtual-discussion/
LOCATION:Virtual Campus
CATEGORIES:Heritage Month
ATTACH;FMTTYPE=image/jpeg:https://bergen.edu/wp-content/uploads/History-header.jpg
ORGANIZER;CN="Virtual Life":MAILTO:virtuallife@bergen.edu
END:VEVENT
BEGIN:VEVENT
DTSTART;VALUE=DATE:20210115
DTEND;VALUE=DATE:20210116
DTSTAMP:20260424T031325
CREATED:20200605T191008Z
LAST-MODIFIED:20200605T191008Z
UID:15795-1610668800-1610755199@bergen.edu
SUMMARY:Winter Term Ends
DESCRIPTION:
URL:https://bergen.edu/event/winter-term-ends/
CATEGORIES:Academic Calendar
END:VEVENT
BEGIN:VEVENT
DTSTART;VALUE=DATE:20210118
DTEND;VALUE=DATE:20210119
DTSTAMP:20260424T031325
CREATED:20200605T191045Z
LAST-MODIFIED:20200605T191045Z
UID:15797-1610928000-1611014399@bergen.edu
SUMMARY:MLK Day - College Closed
DESCRIPTION:
URL:https://bergen.edu/event/mlk-day-college-closed/
CATEGORIES:Academic Calendar
END:VEVENT
BEGIN:VEVENT
DTSTART;VALUE=DATE:20210119
DTEND;VALUE=DATE:20210120
DTSTAMP:20260424T031325
CREATED:20200605T191117Z
LAST-MODIFIED:20200605T191117Z
UID:15798-1611014400-1611100799@bergen.edu
SUMMARY:Spring 1 & Flex 1 Classes Begin
DESCRIPTION:
URL:https://bergen.edu/event/spring-1-flex-1-classes-begin/
CATEGORIES:Academic Calendar
END:VEVENT
BEGIN:VEVENT
DTSTART;TZID=America/New_York:20210119T100000
DTEND;TZID=America/New_York:20210119T160000
DTSTAMP:20260424T031325
CREATED:20210114T210829Z
LAST-MODIFIED:20210114T210829Z
UID:17762-1611050400-1611072000@bergen.edu
SUMMARY:The Office of Student Life "Live Info Desk"
DESCRIPTION:The Office of Student Life and Conduct and student leaders will be hosting an all day-long session for returning and new students. We will be here to help direct students in the right direction and answer any questions new students have about Bergen Community College. For more information\, email us at Studentlife@bergen.edu.
URL:https://bergen.edu/event/the-office-of-student-life-live-info-desk/
LOCATION:Virtual Campus
CATEGORIES:Virtual Life
ATTACH;FMTTYPE=image/png:https://bergen.edu/wp-content/uploads/Student-Life.png
ORGANIZER;CN="Student Life":MAILTO:studentlife@bergen.edu
END:VEVENT
BEGIN:VEVENT
DTSTART;TZID=America/New_York:20210121T123000
DTEND;TZID=America/New_York:20210121T133000
DTSTAMP:20260424T031325
CREATED:20210114T210917Z
LAST-MODIFIED:20210114T210917Z
UID:17766-1611232200-1611235800@bergen.edu
SUMMARY:Student Life Info Session
DESCRIPTION:Join the entire Student Life & Conduct staff for a live Q & A session about student organizations\, student conduct\, records requests\, and more. Our office is all about keeping students engaged in this new virtual environment and we want you to tell us how we can help – stop in and say hello!
URL:https://bergen.edu/event/student-life-info-session/
LOCATION:Virtual Campus
CATEGORIES:Virtual Life
ATTACH;FMTTYPE=image/png:https://bergen.edu/wp-content/uploads/Student-Life.png
ORGANIZER;CN="Student Life":MAILTO:studentlife@bergen.edu
END:VEVENT
BEGIN:VEVENT
DTSTART;TZID=America/New_York:20210121T130000
DTEND;TZID=America/New_York:20210121T140000
DTSTAMP:20260424T031325
CREATED:20210119T162629Z
LAST-MODIFIED:20210119T162629Z
UID:17799-1611234000-1611237600@bergen.edu
SUMMARY:Virtual Hiring Event offered through the Division of Continuing Education
DESCRIPTION:You’re invited to the Division of Continuing Education’s Virtual Hiring Event on January 21st at 1:00-2:00pm! Join us and network with CareOne recruiters. You may also qualify for financial assistance and/or an apprenticeship with CareOne. Register to get started at: https://bit.ly/2KZAEUJ
URL:https://bergen.edu/event/virtual-hiring-event-offered-through-the-division-of-continuing-education/
LOCATION:Virtual Campus
CATEGORIES:Virtual Life
END:VEVENT
BEGIN:VEVENT
DTSTART;TZID=America/New_York:20210125T130000
DTEND;TZID=America/New_York:20210125T140000
DTSTAMP:20260424T031325
CREATED:20210114T211021Z
LAST-MODIFIED:20210114T211021Z
UID:17767-1611579600-1611583200@bergen.edu
SUMMARY:SAB Study Buddies w/ Tutoring Center
DESCRIPTION:Learning virtually can be challenging. One of the aspects of college that our students have missed the most is being able to collaborate with a classmate about the materials they are learning. Meet with other students and members of the Tutoring Center to learn about the resources Bergen Community College has to offer.
URL:https://bergen.edu/event/sab-study-buddies-w-tutoring-center/
LOCATION:Virtual Campus
CATEGORIES:Virtual Life
ATTACH;FMTTYPE=image/jpeg:https://bergen.edu/wp-content/uploads/Tutoring.jpg
ORGANIZER;CN="Virtual Life":MAILTO:virtuallife@bergen.edu
END:VEVENT
BEGIN:VEVENT
DTSTART;TZID=America/New_York:20210126T120000
DTEND;TZID=America/New_York:20210126T133000
DTSTAMP:20260424T031325
CREATED:20210112T201232Z
LAST-MODIFIED:20210115T194100Z
UID:17733-1611662400-1611667800@bergen.edu
SUMMARY:International Holocaust Remembrance Day Virtual Event with Holocaust Survivor Erwin Forley
DESCRIPTION:In commemoration of International Holocaust Remembrance Day\, join us for a virtual event via Zoom with Holocaust survivor\, Erwin Forley\, on Tuesday\, January 26th at 12:00pm-1:30pm. Register your attendance at the Museum of Jewish Heritage or at the Center for Peace\, Justice\, & Reconciliation at Bergen Community College.\n\n\n\n \n\n\nErwin Forley (né Feuerstein) was born on December 6th\, 1927\, in Košice\, Czechoslovakia. After being sent into the Munkacs Ghetto\, Erwin and his family were deported to Auschwitz\, where his grandmother and 12-year-old younger brother were murdered in the gas chamber upon arrival. Erwin endured forced labor and starvation until his liberation by the Russian troops. He\, his mother\, and his sister immigrated to the United States in 1946.\n\n\n \n\n\nThis event is sponsored by the Center for Peace\, Justice\, & Reconciliation at Bergen Community College and the Museum of Jewish Heritage. For more information\, visit mjhnyc.org/ or bergen.edu/pjr. Email bmargolies@bergen.edu with any questions.
URL:https://bergen.edu/event/international-holocaust-remembrance-day-virtual-event-with-holocaust-survivor-erwin-forley/
LOCATION:Virtual Campus
CATEGORIES:Virtual Life
ATTACH;FMTTYPE=image/jpeg:https://bergen.edu/wp-content/uploads/cpjr-forley0121-acadcal-1.jpg
END:VEVENT
BEGIN:VEVENT
DTSTART;TZID=America/New_York:20210126T123000
DTEND;TZID=America/New_York:20210126T133000
DTSTAMP:20260424T031325
CREATED:20210114T211118Z
LAST-MODIFIED:20210114T211129Z
UID:17768-1611664200-1611667800@bergen.edu
SUMMARY:Virtual Club Recruitment Hour
DESCRIPTION:The Office of Student Life will be hosting a two recruiting hours this week. This will give each club the opportunity to share their interests with potential members while being available for questions from interested students. We will be highlighting different clubs each week to give all clubs the opportunity to recruit.
URL:https://bergen.edu/event/virtual-club-recruitment-hour-6/
LOCATION:Virtual Campus
CATEGORIES:Virtual Life
ATTACH;FMTTYPE=image/jpeg:https://bergen.edu/wp-content/uploads/VL-banner-website.jpg
ORGANIZER;CN="Student Life":MAILTO:studentlife@bergen.edu
END:VEVENT
BEGIN:VEVENT
DTSTART;TZID=America/New_York:20210127T130000
DTEND;TZID=America/New_York:20210127T133000
DTSTAMP:20260424T031325
CREATED:20210124T192734Z
LAST-MODIFIED:20210124T192734Z
UID:17835-1611752400-1611754200@bergen.edu
SUMMARY:Student Government Association - Public Portion
DESCRIPTION:If you’re interested in making a difference at Bergen and participating in the shared governance of the college\, then SGA might be right for you! Click HERE to join the open public portion of the SGA weekly meeting beginning at 1:00 PM.
URL:https://bergen.edu/event/student-government-association-public-portion/
END:VEVENT
BEGIN:VEVENT
DTSTART;TZID=America/New_York:20210128T140000
DTEND;TZID=America/New_York:20210128T150000
DTSTAMP:20260424T031325
CREATED:20210114T211209Z
LAST-MODIFIED:20210122T153712Z
UID:17769-1611842400-1611846000@bergen.edu
SUMMARY:Virtual Club Recruitment Hour
DESCRIPTION:The Office of Student Life will be hosting two recruiting hours this week. This will give each club the opportunity to share their interests with potential members while being available for questions from interested students. We will be highlighting different clubs each week to give all clubs the opportunity to recruit.
URL:https://bergen.edu/event/virtual-club-recruitment-hour-7/
LOCATION:Virtual Campus
CATEGORIES:Virtual Life
ATTACH;FMTTYPE=image/png:https://bergen.edu/wp-content/uploads/Student-Life.png
ORGANIZER;CN="Student Life":MAILTO:studentlife@bergen.edu
END:VEVENT
END:VCALENDAR