BEGIN:VCALENDAR
VERSION:2.0
PRODID:-//Bergen Community College - ECPv6.15.15//NONSGML v1.0//EN
CALSCALE:GREGORIAN
METHOD:PUBLISH
X-ORIGINAL-URL:https://bergen.edu
X-WR-CALDESC:Events for Bergen Community College
REFRESH-INTERVAL;VALUE=DURATION:PT1H
X-Robots-Tag:noindex
X-PUBLISHED-TTL:PT1H
BEGIN:VTIMEZONE
TZID:America/New_York
BEGIN:DAYLIGHT
TZOFFSETFROM:-0500
TZOFFSETTO:-0400
TZNAME:EDT
DTSTART:20210314T070000
END:DAYLIGHT
BEGIN:STANDARD
TZOFFSETFROM:-0400
TZOFFSETTO:-0500
TZNAME:EST
DTSTART:20211107T060000
END:STANDARD
BEGIN:DAYLIGHT
TZOFFSETFROM:-0500
TZOFFSETTO:-0400
TZNAME:EDT
DTSTART:20220313T070000
END:DAYLIGHT
BEGIN:STANDARD
TZOFFSETFROM:-0400
TZOFFSETTO:-0500
TZNAME:EST
DTSTART:20221106T060000
END:STANDARD
BEGIN:DAYLIGHT
TZOFFSETFROM:-0500
TZOFFSETTO:-0400
TZNAME:EDT
DTSTART:20230312T070000
END:DAYLIGHT
BEGIN:STANDARD
TZOFFSETFROM:-0400
TZOFFSETTO:-0500
TZNAME:EST
DTSTART:20231105T060000
END:STANDARD
BEGIN:DAYLIGHT
TZOFFSETFROM:-0500
TZOFFSETTO:-0400
TZNAME:EDT
DTSTART:20240310T070000
END:DAYLIGHT
BEGIN:STANDARD
TZOFFSETFROM:-0400
TZOFFSETTO:-0500
TZNAME:EST
DTSTART:20241103T060000
END:STANDARD
END:VTIMEZONE
BEGIN:VEVENT
DTSTART;TZID=America/New_York:20221213T170000
DTEND;TZID=America/New_York:20221213T190000
DTSTAMP:20260419T080713
CREATED:20221213T210025Z
LAST-MODIFIED:20221213T210025Z
UID:23921-1670950800-1670958000@bergen.edu
SUMMARY:Women’s Basketball AWAY at CC of Morris
DESCRIPTION:
URL:https://bergen.edu/event/womens-basketball-away-at-cc-of-morris/
CATEGORIES:Athletics
ATTACH;FMTTYPE=image/jpeg:https://bergen.edu/wp-content/uploads/Athletics-basketball.jpg
END:VEVENT
BEGIN:VEVENT
DTSTART;TZID=America/New_York:20221215T130000
DTEND;TZID=America/New_York:20221215T140000
DTSTAMP:20260419T080713
CREATED:20221212T142432Z
LAST-MODIFIED:20221212T142432Z
UID:23854-1671109200-1671112800@bergen.edu
SUMMARY:MAT-040 (Algebra for Liberal Arts) Final Exam Review Session
DESCRIPTION:The Tutoring Center\, in conjunction with Professor Yashiro\, has arranged in-person Final Exam Review Sessions intended for students currently enrolled in Algebra for Liberal Arts (MAT-040) who would like to review topics from this course in preparation for the final exam. \nThe sessions will be conducted by Professor Yashiro during the following days and times: \n\n  Monday\, 12/13  3pm – 4pm  Room L-107 (located in the Tutoring Center L-125)\n  Thursday\, 12/15  1pm-2pm  Room L-107 (located in the Tutoring Center L-125)
URL:https://bergen.edu/event/mat-040-algebra-for-liberal-arts-final-exam-review-session-2/
LOCATION:Pitkin Educational Center
CATEGORIES:Tutoring
ORGANIZER;CN="Tutoring Center":MAILTO:tutoring@bergen.edu
END:VEVENT
BEGIN:VEVENT
DTSTART;TZID=America/New_York:20221215T150000
DTEND;TZID=America/New_York:20221215T160000
DTSTAMP:20260419T080713
CREATED:20221129T191955Z
LAST-MODIFIED:20221129T191955Z
UID:23789-1671116400-1671120000@bergen.edu
SUMMARY:Paramus Campus Tour
DESCRIPTION:Join us for a student led tour of our main campus in Paramus. Tours last approximately 1 hour and you can check in at the Information Desk at the Pitkin Education Center. \nREGISTER HERE
URL:https://bergen.edu/event/paramus-campus-tour-47/
LOCATION:Pitkin Educational Center
CATEGORIES:Admissions,Info Session
ORGANIZER;CN="Admissions Department":MAILTO:admissions@bergen.edu
END:VEVENT
BEGIN:VEVENT
DTSTART;TZID=America/New_York:20221215T160000
DTEND;TZID=America/New_York:20221215T170000
DTSTAMP:20260419T080713
CREATED:20221129T165009Z
LAST-MODIFIED:20221201T145123Z
UID:23781-1671120000-1671123600@bergen.edu
SUMMARY:Intermediate Algebra (MAT-160) Final Exam Review Session
DESCRIPTION:The Tutoring Center\, in conjunction with Professor Saminejad and Dr. Mouser\, has arranged Final Exam Review Sessions intended for students currently enrolled in Intermediate Algebra (MAT-160) who would like to review topics from this course in preparation for the final exam. \nThe session will be conducted by Dr. Mouser during the following day and time: \n\n  Thursday\, 12/15  4pm – 5pm (in-person only)\n\nRoom L-107 is located in the Tutoring Center (L-125).
URL:https://bergen.edu/event/intermediate-algebra-mat-160-final-exam-review-session-2/
LOCATION:Pitkin Educational Center
CATEGORIES:Tutoring
END:VEVENT
BEGIN:VEVENT
DTSTART;TZID=America/New_York:20221215T170000
DTEND;TZID=America/New_York:20221215T190000
DTSTAMP:20260419T080713
CREATED:20221109T184929Z
LAST-MODIFIED:20221109T185253Z
UID:23653-1671123600-1671130800@bergen.edu
SUMMARY:Women's Basketball (away) at *Sussex Co. CC
DESCRIPTION:
URL:https://bergen.edu/event/womens-basketball-away-at-sussex-co-cc/
LOCATION:Gymnasium
CATEGORIES:Athletics
ATTACH;FMTTYPE=image/jpeg:https://bergen.edu/wp-content/uploads/Athletics-basketball.jpg
END:VEVENT
BEGIN:VEVENT
DTSTART;TZID=America/New_York:20221215T190000
DTEND;TZID=America/New_York:20221215T210000
DTSTAMP:20260419T080713
CREATED:20221212T142526Z
LAST-MODIFIED:20221212T142533Z
UID:23873-1671130800-1671138000@bergen.edu
SUMMARY:Men's Basketball AWAY at Sussex Co. CC
DESCRIPTION:
URL:https://bergen.edu/event/mens-basketball-away-at-sussex-co-cc/
CATEGORIES:Athletics
ATTACH;FMTTYPE=image/jpeg:https://bergen.edu/wp-content/uploads/Athletics-basketball.jpg
END:VEVENT
BEGIN:VEVENT
DTSTART;TZID=America/New_York:20221216T130000
DTEND;TZID=America/New_York:20221216T140000
DTSTAMP:20260419T080713
CREATED:20221130T203024Z
LAST-MODIFIED:20221201T145122Z
UID:23811-1671195600-1671199200@bergen.edu
SUMMARY:CHM-140 Final Exam Review Session
DESCRIPTION:The Tutoring Center\, in collaboration with Prof. Acken\, has coordinated a CHM-140 final exam review for the following date: \nFriday 12/16\, 1pm – 2pm – Online \nNo registration necessary! Visit https://bergen.edu/tutoring/math-science-walk-in-center/ for the Webex link/QR code.
URL:https://bergen.edu/event/chm-140-final-exam-review-session/
LOCATION:Virtual Campus
CATEGORIES:Tutoring
END:VEVENT
BEGIN:VEVENT
DTSTART;TZID=America/New_York:20221217T140000
DTEND;TZID=America/New_York:20221217T160000
DTSTAMP:20260419T080713
CREATED:20221212T142508Z
LAST-MODIFIED:20221213T210205Z
UID:23874-1671285600-1671292800@bergen.edu
SUMMARY:Men's Basketball Home vs Atlantic Cape CC
DESCRIPTION:
URL:https://bergen.edu/event/mens-basketball-away-at-atlantic-cape-cc/
LOCATION:Gymnasium
CATEGORIES:Athletics
ATTACH;FMTTYPE=image/jpeg:https://bergen.edu/wp-content/uploads/Athletics-basketball.jpg
END:VEVENT
BEGIN:VEVENT
DTSTART;TZID=America/New_York:20221220T150000
DTEND;TZID=America/New_York:20221220T160000
DTSTAMP:20260419T080713
CREATED:20221129T193150Z
LAST-MODIFIED:20221129T193150Z
UID:23790-1671548400-1671552000@bergen.edu
SUMMARY:Paramus Campus Tour
DESCRIPTION:Join us for a student led tour of our main campus in Paramus. Tours last approximately 1 hour and you can check in at the Information Desk at the Pitkin Education Center. \nREGISTER HERE
URL:https://bergen.edu/event/paramus-campus-tour-48/
LOCATION:Pitkin Educational Center
CATEGORIES:Admissions,Info Session
ORGANIZER;CN="Admissions Department":MAILTO:admissions@bergen.edu
END:VEVENT
BEGIN:VEVENT
DTSTART;VALUE=DATE:20221221
DTEND;VALUE=DATE:20221222
DTSTAMP:20260419T080713
CREATED:20220314T193356Z
LAST-MODIFIED:20220314T193356Z
UID:21761-1671580800-1671667199@bergen.edu
SUMMARY:Fall 1 & Flex 2 ends
DESCRIPTION:
URL:https://bergen.edu/event/fall-1-flex-2-ends/
CATEGORIES:Academic Calendar
END:VEVENT
BEGIN:VEVENT
DTSTART;VALUE=DATE:20221223
DTEND;VALUE=DATE:20221224
DTSTAMP:20260419T080713
CREATED:20220314T193702Z
LAST-MODIFIED:20221003T141136Z
UID:21762-1671753600-1671839999@bergen.edu
SUMMARY:Holiday Observed- College Closed
DESCRIPTION:
URL:https://bergen.edu/event/holiday-observed/
CATEGORIES:Academic Calendar
END:VEVENT
BEGIN:VEVENT
DTSTART;VALUE=DATE:20221225
DTEND;VALUE=DATE:20230102
DTSTAMP:20260419T080713
CREATED:20220314T193717Z
LAST-MODIFIED:20220921T161813Z
UID:21763-1671926400-1672617599@bergen.edu
SUMMARY:College Closed
DESCRIPTION:
URL:https://bergen.edu/event/college-closed-4/
CATEGORIES:Academic Calendar
END:VEVENT
BEGIN:VEVENT
DTSTART;VALUE=DATE:20221227
DTEND;VALUE=DATE:20221228
DTSTAMP:20260419T080713
CREATED:20220314T193745Z
LAST-MODIFIED:20220314T193745Z
UID:21764-1672099200-1672185599@bergen.edu
SUMMARY:Winter online classes begin
DESCRIPTION:
URL:https://bergen.edu/event/winter-online-classes-begin/
CATEGORIES:Academic Calendar
END:VEVENT
BEGIN:VEVENT
DTSTART;VALUE=DATE:20230102
DTEND;VALUE=DATE:20230103
DTSTAMP:20260419T080713
CREATED:20220921T191709Z
LAST-MODIFIED:20220921T191709Z
UID:23189-1672617600-1672703999@bergen.edu
SUMMARY:Jan 2 Holiday Observed - College Closed
DESCRIPTION:
URL:https://bergen.edu/event/jan-2-holiday-observed-college-closed/
CATEGORIES:Academic Calendar
END:VEVENT
BEGIN:VEVENT
DTSTART;TZID=America/New_York:20230103T100000
DTEND;TZID=America/New_York:20230103T160000
DTSTAMP:20260419T080713
CREATED:20221222T173353Z
LAST-MODIFIED:20221222T173353Z
UID:23971-1672740000-1672761600@bergen.edu
SUMMARY:Accuplacer\, Challenge Exam\, and Incomplete Tutoring Available
DESCRIPTION:Tutors are available to assist with: \nAccuplacer Exam Preparation (Reading/Writing and Arithmetic/Quantitative Reasoning) \nChallenge Exam Preparation \nIncomplete (N) Coursework for the Fall 2022 semester \nStop by the Tutoring Center/Writing Center in L-125 for more information or contact: \ntutoring@bergen.edu \n201-447-7489 \nTutors will be available Monday – Thursday from 10am to 4pm.
URL:https://bergen.edu/event/accuplacer-challenge-exam-and-incomplete-tutoring-available/
LOCATION:Pitkin Educational Center
CATEGORIES:Tutoring
ORGANIZER;CN="Tutoring Center":MAILTO:tutoring@bergen.edu
END:VEVENT
BEGIN:VEVENT
DTSTART;TZID=America/New_York:20230104T100000
DTEND;TZID=America/New_York:20230104T160000
DTSTAMP:20260419T080713
CREATED:20221222T173408Z
LAST-MODIFIED:20221222T173408Z
UID:23972-1672826400-1672848000@bergen.edu
SUMMARY:Tutoring Available
DESCRIPTION:Tutors are available to assist with: \nAccuplacer Exam Preparation (Reading/Writing and Arithmetic/Quantitative Reasoning) \nChallenge Exam Preparation \nIncomplete (N) Coursework for the Fall 2022 semester \nStop by the Tutoring Center/Writing Center in L-125 for more information or contact: \ntutoring@bergen.edu \n201-447-7489 \nTutors will be available Monday – Thursday from 10am to 4pm.
URL:https://bergen.edu/event/tutoring-available/
LOCATION:Pitkin Educational Center
CATEGORIES:Tutoring
ORGANIZER;CN="Tutoring Center":MAILTO:tutoring@bergen.edu
END:VEVENT
BEGIN:VEVENT
DTSTART;TZID=America/New_York:20230104T120000
DTEND;TZID=America/New_York:20230104T130000
DTSTAMP:20260419T080713
CREATED:20221212T214413Z
LAST-MODIFIED:20230103T130647Z
UID:23915-1672833600-1672837200@bergen.edu
SUMMARY:Virtual Information Session - Center for Online Learning
DESCRIPTION:Attend the virtual information session to learn everything you need to know about our new Center for Online Learning. Meet with faculty and our admissions staff regarding our programs and admissions process. \nRegister Here: https://bergen.radiusbycampusmgmt.com/ssc/eform/EN7S8FI6703Ex6700sN73F.ssc \nRegistrants will be sent a link to attend the live session.
URL:https://bergen.edu/event/virtual-information-session-center-for-online-learning/
LOCATION:Virtual Campus
CATEGORIES:Admissions,Center for Online Learning,Info Session,Virtual Life
ORGANIZER;CN="Admissions Department":MAILTO:admissions@bergen.edu
END:VEVENT
BEGIN:VEVENT
DTSTART;TZID=America/New_York:20230104T180000
DTEND;TZID=America/New_York:20230104T190000
DTSTAMP:20260419T080713
CREATED:20221212T214452Z
LAST-MODIFIED:20230103T163956Z
UID:23916-1672855200-1672858800@bergen.edu
SUMMARY:Virtual Information Session - Center for Online Learning
DESCRIPTION:Attend the virtual information session to learn everything you need to know about our new Center for Online Learning. Meet with faculty and our admissions staff regarding our programs and admissions process. \nRegister Here: https://bergen.radiusbycampusmgmt.com/ssc/eform/EN7S8FI6703Ex6700sN73F.ssc \nRegistrants will be sent a link to attend the live session.
URL:https://bergen.edu/event/virtual-information-session-center-for-online-learning-2/
LOCATION:Virtual Campus
CATEGORIES:Admissions,Center for Online Learning,Info Session,Virtual Life
ORGANIZER;CN="Admissions Department":MAILTO:admissions@bergen.edu
END:VEVENT
BEGIN:VEVENT
DTSTART;TZID=America/New_York:20230105T100000
DTEND;TZID=America/New_York:20230105T160000
DTSTAMP:20260419T080713
CREATED:20221222T173421Z
LAST-MODIFIED:20221222T173421Z
UID:23973-1672912800-1672934400@bergen.edu
SUMMARY:Tutoring Available
DESCRIPTION:Tutors are available to assist with: \nAccuplacer Exam Preparation (Reading/Writing and Arithmetic/Quantitative Reasoning) \nChallenge Exam Preparation \nIncomplete (N) Coursework for the Fall 2022 semester \nStop by the Tutoring Center/Writing Center in L-125 for more information or contact: \ntutoring@bergen.edu \n201-447-7489 \nTutors will be available Monday – Thursday from 10am to 4pm.
URL:https://bergen.edu/event/tutoring-available-2/
LOCATION:Pitkin Educational Center
CATEGORIES:Tutoring
ORGANIZER;CN="Tutoring Center":MAILTO:tutoring@bergen.edu
END:VEVENT
BEGIN:VEVENT
DTSTART;TZID=America/New_York:20230105T150000
DTEND;TZID=America/New_York:20230105T160000
DTSTAMP:20260419T080713
CREATED:20221216T204831Z
LAST-MODIFIED:20221216T204831Z
UID:23944-1672930800-1672934400@bergen.edu
SUMMARY:Paramus Campus Tour
DESCRIPTION:Join us for a student led tour of our main campus in Paramus. Tours last approximately 1 hour and you can check in at the Information Desk at the Pitkin Education Center. \nREGISTER HERE
URL:https://bergen.edu/event/paramus-campus-tour-51/
LOCATION:Pitkin Educational Center
CATEGORIES:Admissions,Info Session
ORGANIZER;CN="Admissions Department":MAILTO:admissions@bergen.edu
END:VEVENT
BEGIN:VEVENT
DTSTART;TZID=America/New_York:20230106T180000
DTEND;TZID=America/New_York:20230106T200000
DTSTAMP:20260419T080713
CREATED:20221109T185340Z
LAST-MODIFIED:20221109T185340Z
UID:23655-1673028000-1673035200@bergen.edu
SUMMARY:Women's Basketball (away) at *RCSJ-Gloucester Co
DESCRIPTION:
URL:https://bergen.edu/event/womens-basketball-away-at-rcsj-gloucester-co/
CATEGORIES:Athletics
ATTACH;FMTTYPE=image/jpeg:https://bergen.edu/wp-content/uploads/Athletics-basketball.jpg
END:VEVENT
BEGIN:VEVENT
DTSTART;TZID=America/New_York:20230106T200000
DTEND;TZID=America/New_York:20230106T220000
DTSTAMP:20260419T080713
CREATED:20221212T142613Z
LAST-MODIFIED:20221212T142800Z
UID:23875-1673035200-1673042400@bergen.edu
SUMMARY:Men's Basketball AWAY at RCSJ-Gloucester  Co.
DESCRIPTION:
URL:https://bergen.edu/event/mens-basketball-away-at-rcsj-gloucester-co/
CATEGORIES:Athletics
ATTACH;FMTTYPE=image/jpeg:https://bergen.edu/wp-content/uploads/Athletics-basketball.jpg
END:VEVENT
BEGIN:VEVENT
DTSTART;TZID=America/New_York:20230109T100000
DTEND;TZID=America/New_York:20230109T160000
DTSTAMP:20260419T080713
CREATED:20221222T173450Z
LAST-MODIFIED:20221222T173450Z
UID:23974-1673258400-1673280000@bergen.edu
SUMMARY:Tutoring Available
DESCRIPTION:Tutors are available to assist with: \nAccuplacer Exam Preparation (Reading/Writing and Arithmetic/Quantitative Reasoning) \nChallenge Exam Preparation \nIncomplete (N) Coursework for the Fall 2022 semester \nStop by the Tutoring Center/Writing Center in L-125 for more information or contact: \ntutoring@bergen.edu \n201-447-7489 \nTutors will be available Monday – Thursday from 10am to 4pm.
URL:https://bergen.edu/event/tutoring-available-3/
LOCATION:Pitkin Educational Center
CATEGORIES:Tutoring
ORGANIZER;CN="Tutoring Center":MAILTO:tutoring@bergen.edu
END:VEVENT
BEGIN:VEVENT
DTSTART;TZID=America/New_York:20230110T100000
DTEND;TZID=America/New_York:20230110T160000
DTSTAMP:20260419T080713
CREATED:20221222T173504Z
LAST-MODIFIED:20221222T173504Z
UID:23975-1673344800-1673366400@bergen.edu
SUMMARY:Tutoring Available
DESCRIPTION:Tutors are available to assist with: \nAccuplacer Exam Preparation (Reading/Writing and Arithmetic/Quantitative Reasoning) \nChallenge Exam Preparation \nIncomplete (N) Coursework for the Fall 2022 semester \nStop by the Tutoring Center/Writing Center in L-125 for more information or contact: \ntutoring@bergen.edu \n201-447-7489 \nTutors will be available Monday – Thursday from 10am to 4pm.
URL:https://bergen.edu/event/tutoring-available-4/
LOCATION:Pitkin Educational Center
CATEGORIES:Tutoring
ORGANIZER;CN="Tutoring Center":MAILTO:tutoring@bergen.edu
END:VEVENT
BEGIN:VEVENT
DTSTART;TZID=America/New_York:20230110T170000
DTEND;TZID=America/New_York:20230110T190000
DTSTAMP:20260419T080713
CREATED:20221213T210042Z
LAST-MODIFIED:20221213T210042Z
UID:23922-1673370000-1673377200@bergen.edu
SUMMARY:Women’s Basketball AWAY at Kingsborough CC
DESCRIPTION:
URL:https://bergen.edu/event/womens-basketball-away-at-kingsborough-cc/
CATEGORIES:Athletics
ATTACH;FMTTYPE=image/jpeg:https://bergen.edu/wp-content/uploads/Athletics-basketball.jpg
END:VEVENT
BEGIN:VEVENT
DTSTART;TZID=America/New_York:20230110T190000
DTEND;TZID=America/New_York:20230110T210000
DTSTAMP:20260419T080713
CREATED:20221212T144111Z
LAST-MODIFIED:20221212T144111Z
UID:23913-1673377200-1673384400@bergen.edu
SUMMARY:Men's Basketball AWAY at Kingsborough CC
DESCRIPTION:
URL:https://bergen.edu/event/mens-basketball-away-at-kingsborough-cc/
CATEGORIES:Athletics
ATTACH;FMTTYPE=image/jpeg:https://bergen.edu/wp-content/uploads/Athletics-basketball.jpg
END:VEVENT
BEGIN:VEVENT
DTSTART;VALUE=DATE:20230111
DTEND;VALUE=DATE:20230112
DTSTAMP:20260419T080713
CREATED:20220921T191729Z
LAST-MODIFIED:20220921T191729Z
UID:23190-1673395200-1673481599@bergen.edu
SUMMARY:Winter Session - Ends
DESCRIPTION:
URL:https://bergen.edu/event/winter-session-ends-2/
CATEGORIES:Academic Calendar
END:VEVENT
BEGIN:VEVENT
DTSTART;TZID=America/New_York:20230111T100000
DTEND;TZID=America/New_York:20230111T160000
DTSTAMP:20260419T080713
CREATED:20221222T173519Z
LAST-MODIFIED:20221222T173520Z
UID:23976-1673431200-1673452800@bergen.edu
SUMMARY:Tutoring Available
DESCRIPTION:Tutors are available to assist with: \nAccuplacer Exam Preparation (Reading/Writing and Arithmetic/Quantitative Reasoning) \nChallenge Exam Preparation \nIncomplete (N) Coursework for the Fall 2022 semester \nStop by the Tutoring Center/Writing Center in L-125 for more information or contact: \ntutoring@bergen.edu \n201-447-7489 \nTutors will be available Monday – Thursday from 10am to 4pm.
URL:https://bergen.edu/event/tutoring-available-5/
LOCATION:Pitkin Educational Center
CATEGORIES:Tutoring
ORGANIZER;CN="Tutoring Center":MAILTO:tutoring@bergen.edu
END:VEVENT
BEGIN:VEVENT
DTSTART;TZID=America/New_York:20230112T100000
DTEND;TZID=America/New_York:20230112T160000
DTSTAMP:20260419T080713
CREATED:20221222T173536Z
LAST-MODIFIED:20221222T173536Z
UID:23977-1673517600-1673539200@bergen.edu
SUMMARY:Tutoring Available
DESCRIPTION:Tutors are available to assist with: \nAccuplacer Exam Preparation (Reading/Writing and Arithmetic/Quantitative Reasoning) \nChallenge Exam Preparation \nIncomplete (N) Coursework for the Fall 2022 semester \nStop by the Tutoring Center/Writing Center in L-125 for more information or contact: \ntutoring@bergen.edu \n201-447-7489 \nTutors will be available Monday – Thursday from 10am to 4pm.
URL:https://bergen.edu/event/tutoring-available-6/
LOCATION:Pitkin Educational Center
CATEGORIES:Tutoring
ORGANIZER;CN="Tutoring Center":MAILTO:tutoring@bergen.edu
END:VEVENT
BEGIN:VEVENT
DTSTART;TZID=America/New_York:20230112T150000
DTEND;TZID=America/New_York:20230112T160000
DTSTAMP:20260419T080713
CREATED:20221216T204849Z
LAST-MODIFIED:20221216T204849Z
UID:23945-1673535600-1673539200@bergen.edu
SUMMARY:Paramus Campus Tour
DESCRIPTION:Join us for a student led tour of our main campus in Paramus. Tours last approximately 1 hour and you can check in at the Information Desk at the Pitkin Education Center. \nREGISTER HERE
URL:https://bergen.edu/event/paramus-campus-tour-52/
LOCATION:Pitkin Educational Center
CATEGORIES:Admissions,Info Session
ORGANIZER;CN="Admissions Department":MAILTO:admissions@bergen.edu
END:VEVENT
END:VCALENDAR