BEGIN:VCALENDAR
VERSION:2.0
PRODID:-//Bergen Community College - ECPv6.15.15//NONSGML v1.0//EN
CALSCALE:GREGORIAN
METHOD:PUBLISH
X-WR-CALNAME:Bergen Community College
X-ORIGINAL-URL:https://bergen.edu
X-WR-CALDESC:Events for Bergen Community College
REFRESH-INTERVAL;VALUE=DURATION:PT1H
X-Robots-Tag:noindex
X-PUBLISHED-TTL:PT1H
BEGIN:VTIMEZONE
TZID:America/New_York
BEGIN:DAYLIGHT
TZOFFSETFROM:-0500
TZOFFSETTO:-0400
TZNAME:EDT
DTSTART:20240310T070000
END:DAYLIGHT
BEGIN:STANDARD
TZOFFSETFROM:-0400
TZOFFSETTO:-0500
TZNAME:EST
DTSTART:20241103T060000
END:STANDARD
BEGIN:DAYLIGHT
TZOFFSETFROM:-0500
TZOFFSETTO:-0400
TZNAME:EDT
DTSTART:20250309T070000
END:DAYLIGHT
BEGIN:STANDARD
TZOFFSETFROM:-0400
TZOFFSETTO:-0500
TZNAME:EST
DTSTART:20251102T060000
END:STANDARD
BEGIN:DAYLIGHT
TZOFFSETFROM:-0500
TZOFFSETTO:-0400
TZNAME:EDT
DTSTART:20260308T070000
END:DAYLIGHT
BEGIN:STANDARD
TZOFFSETFROM:-0400
TZOFFSETTO:-0500
TZNAME:EST
DTSTART:20261101T060000
END:STANDARD
END:VTIMEZONE
BEGIN:VEVENT
DTSTART;TZID=America/New_York:20250401T120000
DTEND;TZID=America/New_York:20250401T140000
DTSTAMP:20260423T002853
CREATED:20250310T151855Z
LAST-MODIFIED:20250310T151855Z
UID:73041-1743508800-1743516000@bergen.edu
SUMMARY:Sexual Assault Awareness Month Kick Off
DESCRIPTION:Assistant Vice President of Student Affairs Jennifer Diaz\, Assistant Prosecutor Kristen DeMarco\, Melanie Kopp of Women’s Rights Information Center\, and Office of Student Conduct’s Jenny Gamez will speak to the history and importance of SAAM.  \nResource tables will be available in the student center.
URL:https://bergen.edu/event/sexual-assault-awareness-month-kick-off/
LOCATION:Pitkin Educational Center
CATEGORIES:Heritage Month,Home
ATTACH;FMTTYPE=image/png:https://bergen.edu/wp-content/uploads/SAAM-MonitorWS.png
END:VEVENT
BEGIN:VEVENT
DTSTART;TZID=America/New_York:20250401T160000
DTEND;TZID=America/New_York:20250401T183000
DTSTAMP:20260423T002853
CREATED:20250206T170832Z
LAST-MODIFIED:20250206T170832Z
UID:68178-1743523200-1743532200@bergen.edu
SUMMARY:HESI/TEAS Exam Prep Study Group
DESCRIPTION:The Cerullo Learning Assistance Center is hosting study groups for students planning to take the HESI or TEAS exams. No pre-registration required to attend. \nThe study group will address specific areas of exam preparation including reading comprehension\, biology\, chemistry\, and mathematics. Academic coaching techniques for academic success will also be discussed\, including test-taking strategies\, study skills\, and time management. \nThe sessions will be conducted during the following days and times\, effective February 4 through April 4: \n\nTuesdays\, 4:00 – 6:30 p.m. (in-person): Room L-106 (inside room L-125).\nFridays\, 12:00 – 2:00 p.m. (online): WebEx (Use this link to attend).\n\nQuestions? Contact the Cerullo Learning Assistance Center by emailing tutoring@bergen.edu\, or calling 201-447-7489.
URL:https://bergen.edu/event/hesi-teas-exam-prep-study-group-20/
LOCATION:Pitkin Educational Center
CATEGORIES:Home,Tutoring
ATTACH;FMTTYPE=image/jpeg:https://bergen.edu/wp-content/uploads/GenEvent-tutoring-1224.jpg
ORGANIZER;CN="Tutoring Center":MAILTO:tutoring@bergen.edu
END:VEVENT
BEGIN:VEVENT
DTSTART;TZID=America/New_York:20250402T113000
DTEND;TZID=America/New_York:20250402T143000
DTSTAMP:20260423T002853
CREATED:20250401T151723Z
LAST-MODIFIED:20250401T151740Z
UID:74070-1743593400-1743604200@bergen.edu
SUMMARY:Start by Believing Day
DESCRIPTION:“Start By Believing Day” on Wednesday\, April 2 aligns with Sexual Assault Awareness Month and serves as an opportunity for the Bergen community to unite and take a stand against sexual violence. Here is the day’s schedule:\n\n\n11:30 a.m. to 12:30 p.m. – This interactive workshop will foster open\, honest conversations about sexual and gender-based violence. The workshop is sponsored by Global Girls Worldwide Women.\n12:30 to 1:30 p.m. – Amoy Virgi\, a leading advocate in the fight against sexual violence\, will discuss the realities faced by survivors.\n1:30 to 2:30 p.m.  – Attend a workshop hosted by Men Of Change Amplified that will focus on the vital role that men play in ending gender-based violence.\n\nThe events will take place in HP-124.
URL:https://bergen.edu/event/start-by-believing-day/
LOCATION:Health Professions Building
CATEGORIES:Heritage Month,Home
ATTACH;FMTTYPE=image/png:https://bergen.edu/wp-content/uploads/SAAM-MonitorWS.png
END:VEVENT
BEGIN:VEVENT
DTSTART;TZID=America/New_York:20250402T140000
DTEND;TZID=America/New_York:20250402T140000
DTSTAMP:20260423T002853
CREATED:20250311T121922Z
LAST-MODIFIED:20250311T121922Z
UID:73093-1743602400-1743602400@bergen.edu
SUMMARY:Rutgers Business School-Newark Information Session
DESCRIPTION:Are you thinking about furthering your education after Bergen? Participate in a virtual information session to learn about academic programs offered by the Rutgers Business School of Newark. \nJoin here.
URL:https://bergen.edu/event/rutgers-business-school-newark-information-session/
LOCATION:Virtual Campus
CATEGORIES:Home,Info Session,Virtual Life
ATTACH;FMTTYPE=image/jpeg:https://bergen.edu/wp-content/uploads/GenEvent-admissions-1224.jpg
END:VEVENT
BEGIN:VEVENT
DTSTART;TZID=America/New_York:20250402T150000
DTEND;TZID=America/New_York:20250402T150000
DTSTAMP:20260423T002853
CREATED:20250226T134204Z
LAST-MODIFIED:20250312T190614Z
UID:72107-1743606000-1743606000@bergen.edu
SUMMARY:Poverty In Our Communities Summit
DESCRIPTION:Attend the Poverty in Our Communities Summit to hear Princeton University sociologist and Pulitzer Prize-winning author of “Evicted” (2016)\, Dr. Matthew Desmond. In his latest acclaimed work\,  “Poverty\, By America” (2023)\, Professor Desmond poses the simple question “why is there so much poverty in America?” and leads audiences through a compelling\, multifaceted argument for ending poverty. As a poverty abolitionist\, Desmond calls on everyone to become “poverty abolitionists” – a call audiences hope to answer through exploring the issues underlying poverty in America\, and especially in our community. \nListen to critical conversations and ask questions to Desmond on April 2 at 3:00 p.m. in the Moses Family Meeting and Training Center (TEC-128).  \nReserve your seat here.
URL:https://bergen.edu/event/poverty-in-our-communities-summit/
LOCATION:Technology Education Center
CATEGORIES:Home
ATTACH;FMTTYPE=image/jpeg:https://bergen.edu/wp-content/uploads/Untitled-design-1.jpg
END:VEVENT
BEGIN:VEVENT
DTSTART;TZID=America/New_York:20250403T140000
DTEND;TZID=America/New_York:20250403T150000
DTSTAMP:20260423T002853
CREATED:20250401T150339Z
LAST-MODIFIED:20250401T150421Z
UID:74068-1743688800-1743692400@bergen.edu
SUMMARY:Pre-Calculus (MAT-180) Workshop: Trigonometry
DESCRIPTION:The Cerullo Learning Assistance Center is partnering with Professor Saminejad and Dr. Mouser to host a Pre-Calculus (MAT-180) workshop. The hyflex workshop is for students who want to reinforce their knowledge on Trigonometry. \nThe workshop will be conducted on Thursday\, April 3 from 2:00 to 3:00 p.m. Students can attend in-person (L-125)\, or virtually via Webex.
URL:https://bergen.edu/event/precalculus-mat-180-workshop-trigonometry/
LOCATION:Pitkin Educational Center
CATEGORIES:Home,Tutoring
ATTACH;FMTTYPE=image/jpeg:https://bergen.edu/wp-content/uploads/GenEvent-tutoring-1224.jpg
ORGANIZER;CN="Tutoring Center":MAILTO:tutoring@bergen.edu
END:VEVENT
BEGIN:VEVENT
DTSTART;TZID=America/New_York:20250403T150000
DTEND;TZID=America/New_York:20250403T160000
DTSTAMP:20260423T002853
CREATED:20250313T123239Z
LAST-MODIFIED:20250313T123239Z
UID:73169-1743692400-1743696000@bergen.edu
SUMMARY:The Quilt Project Workshop
DESCRIPTION:The Asian Heritage Committee is holding weekly workshops for students\, faculty\, and staff to contribute to the Quilt Project. The event will take place in C-325.
URL:https://bergen.edu/event/the-quilt-project-workshop-7/
LOCATION:Pitkin Educational Center
CATEGORIES:Heritage Month,Home
ATTACH;FMTTYPE=image/png:https://bergen.edu/wp-content/uploads/AHM-Monitor-Graphic-WS.png
ORGANIZER;CN="Office of Multicultural Services and Activities":MAILTO:multiculturalservices@bergen.edu
END:VEVENT
BEGIN:VEVENT
DTSTART;TZID=America/New_York:20250403T150000
DTEND;TZID=America/New_York:20250403T180000
DTSTAMP:20260423T002853
CREATED:20250224T144343Z
LAST-MODIFIED:20250224T144343Z
UID:72003-1743692400-1743703200@bergen.edu
SUMMARY:Bergen Community College Spring 2025 Open House
DESCRIPTION:Discover your path to success and join us at our Spring Open House on Thursday\, April 3 from 3:00 to 6:00 p.m. Explore our diverse program offerings\, meet faculty and staff\, tour campus\, and learn about financial aid and tuition-free college opportunities. \nDon’t miss out! RSVP now at openhouse.bergen.edu.
URL:https://bergen.edu/event/bergen-community-college-spring-2025-open-house/
LOCATION:Pitkin Educational Center
CATEGORIES:Admissions,Home,Info Session
ATTACH;FMTTYPE=image/jpeg:https://bergen.edu/wp-content/uploads/Adm-SprOpenHouse-CalendarImage-1000x563-0225.jpg
END:VEVENT
BEGIN:VEVENT
DTSTART;TZID=America/New_York:20250403T160000
DTEND;TZID=America/New_York:20250403T180000
DTSTAMP:20260423T002853
CREATED:20250221T184435Z
LAST-MODIFIED:20250221T195351Z
UID:71790-1743696000-1743703200@bergen.edu
SUMMARY:Accuplacer Study Group
DESCRIPTION:Join the Cerullo Learning Assistance Center for an Accuplacer Study Group\, available both online and in-person. The sessions are intended for students preparing for the Mathematics component of the Accuplacer exam. The sessions will be conducted during the following days and times from February 22 through May 7: \n\nSaturdays\, 12:00 – 2:00 p.m. (online) – Join at this link.\nThursdays\, 4:00 – 6:00 p.m.  (in-person) – Tutoring Center\, Room L-125 (Study Group Room L-106).\n\nHave any questions? Contact the Cerullo Learning Assistance Center by emailing tutoring@bergen.edu\, or calling 201-447-7489.
URL:https://bergen.edu/event/accuplacer-study-group-36/
LOCATION:Pitkin Educational Center
CATEGORIES:Home,Tutoring
ATTACH;FMTTYPE=image/jpeg:https://bergen.edu/wp-content/uploads/GenEvent-tutoring-1224.jpg
ORGANIZER;CN="Tutoring Center":MAILTO:tutoring@bergen.edu
END:VEVENT
BEGIN:VEVENT
DTSTART;TZID=America/New_York:20250403T190000
DTEND;TZID=America/New_York:20250403T200000
DTSTAMP:20260423T002853
CREATED:20250311T124247Z
LAST-MODIFIED:20250313T123330Z
UID:73095-1743706800-1743710400@bergen.edu
SUMMARY:"Songs of Love from Hawai‘i" Film Screening
DESCRIPTION:A captivating 62-minute musical drama that unveils the untold stories of sacrifice\, love\, and the unbreakable bonds of the first Korean immigrants in Hawaii. Before the film\, BCC Harmonies will deliver a special performance. A Q&A session with the film director will follow. \nThe screening will take place in A-104 at 7:00 p.m. on April 3.
URL:https://bergen.edu/event/songs-of-love-from-hawaii-film-screening/
LOCATION:Pitkin Educational Center
CATEGORIES:Heritage Month,Home
ATTACH;FMTTYPE=image/png:https://bergen.edu/wp-content/uploads/AHM-Monitor-Graphic-WS.png
ORGANIZER;CN="Office of Multicultural Services and Activities":MAILTO:multiculturalservices@bergen.edu
END:VEVENT
BEGIN:VEVENT
DTSTART;TZID=America/New_York:20250403T193000
DTEND;TZID=America/New_York:20250403T193000
DTSTAMP:20260423T002853
CREATED:20250228T170631Z
LAST-MODIFIED:20250228T170631Z
UID:72352-1743708600-1743708600@bergen.edu
SUMMARY:Nora: A Doll's House
DESCRIPTION:Bergenstages and the Bergen Institute for the Creative Arts are proud to announce the production of “Nora: A Doll’s House.” Follow the protagonist Nora as she strives for perfection across three decades as her past comes back to disrupt everything. Travelling through the women’s suffrage movement to the modern day\, the audience will look at women’s roles and question how far society has come in 100 years. \nProductions start on March 28. Purchase tickets at tickets.bergen.edu.
URL:https://bergen.edu/event/nora-a-dolls-house-4/
LOCATION:Ciccone Theatre
CATEGORIES:Home,Student Productions,Theatres at Bergen
ATTACH;FMTTYPE=image/png:https://bergen.edu/wp-content/uploads/Nora-ADollsHouse-MonitorWS.png
ORGANIZER;CN="Theatres at Bergen":MAILTO:cicconetheatre@bergen.edu
END:VEVENT
BEGIN:VEVENT
DTSTART;TZID=America/New_York:20250403T200000
DTEND;TZID=America/New_York:20250403T220000
DTSTAMP:20260423T002853
CREATED:20250402T145111Z
LAST-MODIFIED:20250402T145111Z
UID:74101-1743710400-1743717600@bergen.edu
SUMMARY:Spring 2025 Public Viewing Nights
DESCRIPTION:Got an interest in astronomy? Stop by the Spring 2025 Public Viewing Nights at the Emil Buehler Trust Observatory. \nSee different stars and systems every Thursday right here at Bergen! \nView the Winter Public Viewing Nights schedule here.
URL:https://bergen.edu/event/spring-2025-public-viewing-nights-2/
LOCATION:Technology Education Center
CATEGORIES:Home
ATTACH;FMTTYPE=image/jpeg:https://bergen.edu/wp-content/uploads/Public-Viewing-Nights-Social-Winter2025-1.jpg
END:VEVENT
BEGIN:VEVENT
DTSTART;TZID=America/New_York:20250404T120000
DTEND;TZID=America/New_York:20250404T140000
DTSTAMP:20260423T002853
CREATED:20250206T170949Z
LAST-MODIFIED:20250206T170949Z
UID:68179-1743768000-1743775200@bergen.edu
SUMMARY:HESI/TEAS Exam Prep Study Group
DESCRIPTION:The Cerullo Learning Assistance Center is hosting study groups for students planning to take the HESI or TEAS exams. No pre-registration required to attend. \nThe study group will address specific areas of exam preparation including reading comprehension\, biology\, chemistry\, and mathematics. Academic coaching techniques for academic success will also be discussed\, including test-taking strategies\, study skills\, and time management. \nThe sessions will be conducted during the following days and times\, effective February 4 through April 4: \n\nTuesdays\, 4:00 – 6:30 p.m. (in-person): Room L-106 (inside room L-125).\nFridays\, 12:00 – 2:00 p.m. (online): WebEx (Use this link to attend).\n\nQuestions? Contact the Cerullo Learning Assistance Center by emailing tutoring@bergen.edu\, or calling 201-447-7489.
URL:https://bergen.edu/event/hesi-teas-exam-prep-study-group-21/
LOCATION:Virtual Campus
CATEGORIES:Home,Tutoring
ATTACH;FMTTYPE=image/jpeg:https://bergen.edu/wp-content/uploads/GenEvent-tutoring-1224.jpg
ORGANIZER;CN="Tutoring Center":MAILTO:tutoring@bergen.edu
END:VEVENT
BEGIN:VEVENT
DTSTART;TZID=America/New_York:20250404T193000
DTEND;TZID=America/New_York:20250404T193000
DTSTAMP:20260423T002853
CREATED:20250228T170651Z
LAST-MODIFIED:20250228T170651Z
UID:72353-1743795000-1743795000@bergen.edu
SUMMARY:Nora: A Doll's House
DESCRIPTION:Bergenstages and the Bergen Institute for the Creative Arts are proud to announce the production of “Nora: A Doll’s House.” Follow the protagonist Nora as she strives for perfection across three decades as her past comes back to disrupt everything. Travelling through the women’s suffrage movement to the modern day\, the audience will look at women’s roles and question how far society has come in 100 years. \nProductions start on March 28. Purchase tickets at tickets.bergen.edu.
URL:https://bergen.edu/event/nora-a-dolls-house-5/
LOCATION:Ciccone Theatre
CATEGORIES:Home,Student Productions,Theatres at Bergen
ATTACH;FMTTYPE=image/png:https://bergen.edu/wp-content/uploads/Nora-ADollsHouse-MonitorWS.png
ORGANIZER;CN="Theatres at Bergen":MAILTO:cicconetheatre@bergen.edu
END:VEVENT
BEGIN:VEVENT
DTSTART;TZID=America/New_York:20250405T120000
DTEND;TZID=America/New_York:20250405T140000
DTSTAMP:20260423T002853
CREATED:20250221T184508Z
LAST-MODIFIED:20250221T195417Z
UID:71791-1743854400-1743861600@bergen.edu
SUMMARY:Accuplacer Study Group
DESCRIPTION:Join the Cerullo Learning Assistance Center for an Accuplacer Study Group\, available both online and in-person. The sessions are intended for students preparing for the Mathematics component of the Accuplacer exam. The sessions will be conducted during the following days and times from February 22 through May 7: \n\nSaturdays\, 12:00 – 2:00 p.m. (online) – Join at this link.\nThursdays\, 4:00 – 6:00 p.m.  (in-person) – Tutoring Center\, Room L-125 (Study Group Room L-106).\n\nHave any questions? Contact the Cerullo Learning Assistance Center by emailing tutoring@bergen.edu\, or calling 201-447-7489.
URL:https://bergen.edu/event/accuplacer-study-group-37/
LOCATION:Virtual Campus
CATEGORIES:Home,Tutoring,Virtual Life
ATTACH;FMTTYPE=image/jpeg:https://bergen.edu/wp-content/uploads/GenEvent-tutoring-1224.jpg
ORGANIZER;CN="Tutoring Center":MAILTO:tutoring@bergen.edu
END:VEVENT
BEGIN:VEVENT
DTSTART;TZID=America/New_York:20250405T140000
DTEND;TZID=America/New_York:20250405T140000
DTSTAMP:20260423T002853
CREATED:20250228T170729Z
LAST-MODIFIED:20250228T170729Z
UID:72355-1743861600-1743861600@bergen.edu
SUMMARY:Nora: A Doll's House
DESCRIPTION:Bergenstages and the Bergen Institute for the Creative Arts are proud to announce the production of “Nora: A Doll’s House.” Follow the protagonist Nora as she strives for perfection across three decades as her past comes back to disrupt everything. Travelling through the women’s suffrage movement to the modern day\, the audience will look at women’s roles and question how far society has come in 100 years. \nProductions start on March 28. Purchase tickets at tickets.bergen.edu.
URL:https://bergen.edu/event/nora-a-dolls-house-7/
LOCATION:Ciccone Theatre
CATEGORIES:Home,Student Productions,Theatres at Bergen
ATTACH;FMTTYPE=image/png:https://bergen.edu/wp-content/uploads/Nora-ADollsHouse-MonitorWS.png
ORGANIZER;CN="Theatres at Bergen":MAILTO:cicconetheatre@bergen.edu
END:VEVENT
BEGIN:VEVENT
DTSTART;TZID=America/New_York:20250405T193000
DTEND;TZID=America/New_York:20250405T193000
DTSTAMP:20260423T002853
CREATED:20250228T170713Z
LAST-MODIFIED:20250228T170713Z
UID:72354-1743881400-1743881400@bergen.edu
SUMMARY:Nora: A Doll's House
DESCRIPTION:Bergenstages and the Bergen Institute for the Creative Arts are proud to announce the production of “Nora: A Doll’s House.” Follow the protagonist Nora as she strives for perfection across three decades as her past comes back to disrupt everything. Travelling through the women’s suffrage movement to the modern day\, the audience will look at women’s roles and question how far society has come in 100 years. \nProductions start on March 28. Purchase tickets at tickets.bergen.edu.
URL:https://bergen.edu/event/nora-a-dolls-house-6/
LOCATION:Ciccone Theatre
CATEGORIES:Home,Student Productions,Theatres at Bergen
ATTACH;FMTTYPE=image/png:https://bergen.edu/wp-content/uploads/Nora-ADollsHouse-MonitorWS.png
ORGANIZER;CN="Theatres at Bergen":MAILTO:cicconetheatre@bergen.edu
END:VEVENT
BEGIN:VEVENT
DTSTART;TZID=America/New_York:20250407T110000
DTEND;TZID=America/New_York:20250407T150000
DTSTAMP:20260423T002853
CREATED:20250403T181437Z
LAST-MODIFIED:20250403T181437Z
UID:74170-1744023600-1744038000@bergen.edu
SUMMARY:NMPD Stem Cell Donor Registration
DESCRIPTION:The National Marrow Donor Program (NMDP) is collaborating with Bergen’s Student Nursing Association to raise awareness about blood cancers and disorders that require stem cell therapy as treatment. Volunteers will educate attendees about the NMDP’s work and help people sign up for the Donor Registry\, which matches potential donors to patients in need.
URL:https://bergen.edu/event/nmpd-stem-cell-donor-registration/
LOCATION:Pitkin Educational Center
CATEGORIES:Home
ATTACH;FMTTYPE=image/jpeg:https://bergen.edu/wp-content/uploads/HealthProf-CommHealthWk-TVmonwide-0425.jpg
ORGANIZER;CN="Health Professions Department":MAILTO:hpadmissions@bergen.edu
END:VEVENT
BEGIN:VEVENT
DTSTART;TZID=America/New_York:20250407T140000
DTEND;TZID=America/New_York:20250407T160000
DTSTAMP:20260423T002853
CREATED:20250403T182327Z
LAST-MODIFIED:20250403T182327Z
UID:74176-1744034400-1744041600@bergen.edu
SUMMARY:Free Blood Pressure Screenings
DESCRIPTION:Volunteers will offer free blood pressure checks to attendees and teach the public about cardiovascular health.
URL:https://bergen.edu/event/free-blood-pressure-screenings/
LOCATION:Pitkin Educational Center
CATEGORIES:Home
ATTACH;FMTTYPE=image/jpeg:https://bergen.edu/wp-content/uploads/HealthProf-CommHealthWk-TVmonwide-0425.jpg
ORGANIZER;CN="Health Professions Department":MAILTO:hpadmissions@bergen.edu
END:VEVENT
BEGIN:VEVENT
DTSTART;TZID=America/New_York:20250408T103000
DTEND;TZID=America/New_York:20250408T130000
DTSTAMP:20260423T002853
CREATED:20250403T182121Z
LAST-MODIFIED:20250403T182121Z
UID:74174-1744108200-1744117200@bergen.edu
SUMMARY:Celebrate Total Health Events
DESCRIPTION:Celebrate Community Health through health awareness activities and information in the Student Center.
URL:https://bergen.edu/event/celebrate-total-health-events-4/
LOCATION:Pitkin Educational Center
CATEGORIES:Home
ATTACH;FMTTYPE=image/jpeg:https://bergen.edu/wp-content/uploads/HealthProf-CommHealthWk-TVmonwide-0425.jpg
ORGANIZER;CN="Health Professions Department":MAILTO:hpadmissions@bergen.edu
END:VEVENT
BEGIN:VEVENT
DTSTART;TZID=America/New_York:20250408T110000
DTEND;TZID=America/New_York:20250408T130000
DTSTAMP:20260423T002853
CREATED:20250310T152049Z
LAST-MODIFIED:20250310T152049Z
UID:73044-1744110000-1744117200@bergen.edu
SUMMARY:Resource Tabling Event
DESCRIPTION:Visit with County partners from HealingSPACE\, Alternatives to Domestic Violence\, Bergen Pride\, and the Personal Counseling Department for resources and complimentary giveaways.
URL:https://bergen.edu/event/resource-tabling-event/
LOCATION:Pitkin Educational Center
CATEGORIES:Heritage Month,Home
ATTACH;FMTTYPE=image/png:https://bergen.edu/wp-content/uploads/SAAM-MonitorWS.png
END:VEVENT
BEGIN:VEVENT
DTSTART;TZID=America/New_York:20250408T121500
DTEND;TZID=America/New_York:20250408T131500
DTSTAMP:20260423T002853
CREATED:20250313T123615Z
LAST-MODIFIED:20250313T123615Z
UID:73170-1744114500-1744118100@bergen.edu
SUMMARY:Redefining Asian American
DESCRIPTION:“Model Majority\,” an Asian American comedy team based in NYC\, will perform at the College.
URL:https://bergen.edu/event/redefining-asian-american/
LOCATION:Ciccone Theatre
CATEGORIES:Heritage Month,Home
ATTACH;FMTTYPE=image/png:https://bergen.edu/wp-content/uploads/AHM-Monitor-Graphic-WS.png
ORGANIZER;CN="Office of Multicultural Services and Activities":MAILTO:multiculturalservices@bergen.edu
END:VEVENT
BEGIN:VEVENT
DTSTART;TZID=America/New_York:20250408T133000
DTEND;TZID=America/New_York:20250408T143000
DTSTAMP:20260423T002853
CREATED:20250313T123920Z
LAST-MODIFIED:20250313T123920Z
UID:73171-1744119000-1744122600@bergen.edu
SUMMARY:Asian Heritage Committee Awards Luncheon
DESCRIPTION:Luncheon by invitation only. At the awards luncheon\, the Keynote event performers\, winners of the AHC’s Labyrinth submissions\, and participants of the Quilt Project will be recognized and celebrated. \nThe luncheon will take place in C-211. For more information\, email Julia Lee at jlee-hong@bergen.edu or Mi Ahn at mahn@bergen.edu.
URL:https://bergen.edu/event/asian-heritage-committee-awards-luncheon/
LOCATION:Pitkin Educational Center
CATEGORIES:Heritage Month,Home
ATTACH;FMTTYPE=image/png:https://bergen.edu/wp-content/uploads/AHM-Monitor-Graphic-WS.png
ORGANIZER;CN="Office of Multicultural Services and Activities":MAILTO:multiculturalservices@bergen.edu
END:VEVENT
BEGIN:VEVENT
DTSTART;TZID=America/New_York:20250409T103000
DTEND;TZID=America/New_York:20250409T130000
DTSTAMP:20260423T002853
CREATED:20250403T182652Z
LAST-MODIFIED:20250403T182653Z
UID:74177-1744194600-1744203600@bergen.edu
SUMMARY:Celebrate Total Health Events & Bystander CPR Table
DESCRIPTION:In collaboration with Dennis Kruk\, volunteers will instruct the general public how to perform hands-only and bystander CPR by demonstrating on mannequins and giving feedback to those who wish to practice. 
URL:https://bergen.edu/event/celebrate-total-health-events-bystander-cpr-table/
LOCATION:Pitkin Educational Center
CATEGORIES:Home
ATTACH;FMTTYPE=image/jpeg:https://bergen.edu/wp-content/uploads/HealthProf-CommHealthWk-TVmonwide-0425.jpg
ORGANIZER;CN="Health Professions Department":MAILTO:hpadmissions@bergen.edu
END:VEVENT
BEGIN:VEVENT
DTSTART;TZID=America/New_York:20250409T123000
DTEND;TZID=America/New_York:20250409T133000
DTSTAMP:20260423T002853
CREATED:20250219T180414Z
LAST-MODIFIED:20250219T180415Z
UID:71547-1744201800-1744205400@bergen.edu
SUMMARY:SGA Elections Open Forum
DESCRIPTION:Bergen’s Student Government Association (SGA) is hosting 2025-2026 executive board elections\, so make your voice heard!  \nMeet the candidates at an open forum to get to know them and discuss important issues and topics. The forum will take place on April 9 from 12:30 – 1:30 p.m. in room S-132.  \nVoting opens on April 14 at 9:00 a.m.\, and ballots must be submitted by April 18 at 5:00 p.m. Ballots will be sent to all students via Bergen email. Should you have any trouble accessing ballots\, contact jgamez@bergen.edu .
URL:https://bergen.edu/event/sga-elections-open-forum/
LOCATION:Pitkin Educational Center
CATEGORIES:Home
ATTACH;FMTTYPE=image/jpeg:https://bergen.edu/wp-content/uploads/GenEvent-studentlife-0125.jpg
ORGANIZER;CN="Student Life":MAILTO:studentlife@bergen.edu
END:VEVENT
BEGIN:VEVENT
DTSTART;TZID=America/New_York:20250409T123000
DTEND;TZID=America/New_York:20250409T133000
DTSTAMP:20260423T002853
CREATED:20250305T161052Z
LAST-MODIFIED:20250305T161052Z
UID:72780-1744201800-1744205400@bergen.edu
SUMMARY:Managing Social Anxiety
DESCRIPTION:The workshop will address the descriptions\, signs\, and management methods of anxiety disorders\, including social anxiety. Learn how anxiety develops and can be managed through Cognitive Behavioral Therapy\, among other methods. \nRegister for the presentation here. The event will take place in S-138. \nThe “Managing Social Anxiety” workshop will be presented by CarePlus New Jersey in partnership with the NJ Office of the Secretary of Higher Education.
URL:https://bergen.edu/event/managing-social-anxiety/
LOCATION:Pitkin Educational Center
CATEGORIES:Home
ATTACH;FMTTYPE=image/jpeg:https://bergen.edu/wp-content/uploads/GenEvent-studentlife-0125.jpg
END:VEVENT
BEGIN:VEVENT
DTSTART;TZID=America/New_York:20250410T090000
DTEND;TZID=America/New_York:20250410T140000
DTSTAMP:20260423T002853
CREATED:20250307T131746Z
LAST-MODIFIED:20250312T190507Z
UID:72924-1744275600-1744293600@bergen.edu
SUMMARY:They Have a Name: Safe Spaces for Dialogue on Human Trafficking Prevention and Solutions Summit
DESCRIPTION:Attend a safe forum open to students\, faculty\, and staff to contribute thoughts\, perspective\, and solutions on how to end human trafficking. Participate in real conversations and a larger data driven body of research.  \nGuest speakers from the Bergen County Prosecutor’s Office and HealingSPACE will be present. Breakfast and a light lunch will be provided. \nThe forum will take place on April 10 from 9:00 a.m. to 2:00 p.m. in the Moses Family Meeting and Training Center (TEC-128). Register here.
URL:https://bergen.edu/event/they-have-a-name-safe-spaces-for-dialogue-on-human-trafficking-prevention-and-solutions-summit/
LOCATION:Technology Education Center
CATEGORIES:Home
ATTACH;FMTTYPE=image/png:https://bergen.edu/wp-content/uploads/HumanTraffickingSaveSpaceMONITORWSGraphic.png
END:VEVENT
BEGIN:VEVENT
DTSTART;TZID=America/New_York:20250410T100000
DTEND;TZID=America/New_York:20250410T130000
DTSTAMP:20260423T002853
CREATED:20250403T182841Z
LAST-MODIFIED:20250403T182841Z
UID:74178-1744279200-1744290000@bergen.edu
SUMMARY:Health Week Blood Drive
DESCRIPTION:The Student Government Association\, Student Nursing Association\, and Vitalant will host a blood drive. Volunteers will be responsible for assisting donors during the sign up and intake process.
URL:https://bergen.edu/event/health-week-blood-drive/
LOCATION:Pitkin Educational Center
CATEGORIES:Home
ATTACH;FMTTYPE=image/jpeg:https://bergen.edu/wp-content/uploads/HealthProf-CommHealthWk-TVmonwide-0425.jpg
ORGANIZER;CN="Health Professions Department":MAILTO:hpadmissions@bergen.edu
END:VEVENT
BEGIN:VEVENT
DTSTART;TZID=America/New_York:20250410T103000
DTEND;TZID=America/New_York:20250410T130000
DTSTAMP:20260423T002853
CREATED:20250403T182203Z
LAST-MODIFIED:20250403T182203Z
UID:74175-1744281000-1744290000@bergen.edu
SUMMARY:Celebrate Total Health Events
DESCRIPTION:Celebrate Community Health through health awareness activities and information in the Student Center.
URL:https://bergen.edu/event/celebrate-total-health-events-5/
LOCATION:Pitkin Educational Center
CATEGORIES:Home
ATTACH;FMTTYPE=image/jpeg:https://bergen.edu/wp-content/uploads/HealthProf-CommHealthWk-TVmonwide-0425.jpg
ORGANIZER;CN="Health Professions Department":MAILTO:hpadmissions@bergen.edu
END:VEVENT
BEGIN:VEVENT
DTSTART;TZID=America/New_York:20250410T120000
DTEND;TZID=America/New_York:20250410T130000
DTSTAMP:20260423T002853
CREATED:20250408T124127Z
LAST-MODIFIED:20250408T124128Z
UID:74663-1744286400-1744290000@bergen.edu
SUMMARY:Bergen Bistro Lunch
DESCRIPTION:Plan to dine at Bergen Bistro? If so\, please complete the Bergen Bistro Reservation Form.
URL:https://bergen.edu/event/bergen-bistro-lunch-33/
LOCATION:Bergen Bistro
CATEGORIES:Bergen Bistro
ATTACH;FMTTYPE=image/gif:https://bergen.edu/wp-content/uploads/HRM-205-Bergen-Bistro-Menu-April-10-2025.gif
END:VEVENT
END:VCALENDAR