BEGIN:VCALENDAR
VERSION:2.0
PRODID:-//Bergen Community College - ECPv6.15.15//NONSGML v1.0//EN
CALSCALE:GREGORIAN
METHOD:PUBLISH
X-WR-CALNAME:Bergen Community College
X-ORIGINAL-URL:https://bergen.edu
X-WR-CALDESC:Events for Bergen Community College
REFRESH-INTERVAL;VALUE=DURATION:PT1H
X-Robots-Tag:noindex
X-PUBLISHED-TTL:PT1H
BEGIN:VTIMEZONE
TZID:America/New_York
BEGIN:DAYLIGHT
TZOFFSETFROM:-0500
TZOFFSETTO:-0400
TZNAME:EDT
DTSTART:20210314T070000
END:DAYLIGHT
BEGIN:STANDARD
TZOFFSETFROM:-0400
TZOFFSETTO:-0500
TZNAME:EST
DTSTART:20211107T060000
END:STANDARD
BEGIN:DAYLIGHT
TZOFFSETFROM:-0500
TZOFFSETTO:-0400
TZNAME:EDT
DTSTART:20220313T070000
END:DAYLIGHT
BEGIN:STANDARD
TZOFFSETFROM:-0400
TZOFFSETTO:-0500
TZNAME:EST
DTSTART:20221106T060000
END:STANDARD
BEGIN:DAYLIGHT
TZOFFSETFROM:-0500
TZOFFSETTO:-0400
TZNAME:EDT
DTSTART:20230312T070000
END:DAYLIGHT
BEGIN:STANDARD
TZOFFSETFROM:-0400
TZOFFSETTO:-0500
TZNAME:EST
DTSTART:20231105T060000
END:STANDARD
END:VTIMEZONE
BEGIN:VEVENT
DTSTART;TZID=America/New_York:20220609T160000
DTEND;TZID=America/New_York:20220609T190000
DTSTAMP:20260421T170044
CREATED:20220509T154906Z
LAST-MODIFIED:20220509T154941Z
UID:22266-1654790400-1654801200@bergen.edu
SUMMARY:Bergen Community College Adjunct Job Fair
DESCRIPTION:Become part of Bergen Community College’s Adjunct Faculty Team!\nJoin us for an Adjunct Job Fair\n\nDate:\nThursday\, June 9th from 4 -7 p.m. \nLocation\nBergen Community College\nTechnology Building\n400 Paramus Road\,\nParamus\, NJ 07650 \nBergen Community College Adjunct Faculty Requirements: \n\nA master’s degree in the discipline is required.\n\nAdditional Requirements: \n\nTeaching skills preferred\nWilling to attend Professional Development\nFlexible Scheduling\nHR mandatory training\n\nRSVP by June 6th with your name and contact information by emailing Adjunctoffice@bergen.edu\nFor questions contact Dr. Deborah Manning\, Dean of Adjunct Administration dmanning@bergen.edu \nOpenings in: Paramus | Meadowlands | Hackensack\nModalities: Online and In-Person \n\n\nSTEM\nMathematics\nComputer\nScience\nDrafting\nManufacturing\nInformation\nTechnology\nGaming\nBiology\nHorticulture\nPhysics\nChemistry\n\n\nHEALTH PROFESSIONS\nHealth Science\nRadiology\nMedical Office\nAssistant\nRespiratory Care\nDiagnostic Medical\nSonography\nSurgical Technician\nVeterinary\nTechnician\nRadiation Therapy\nParamedic Science\nNursing\nDental Hygiene\nWellness & Exercise Science\n\n\nBUSINESS\, ARTS & SOCIAL SCIENCES\nBusiness\nHotel/Restaurant\nSociology\nPsychology\nEconomics\nPolitical\nScience\nCriminal\nJustice\nLegal Studies\n\n\nHUMANITIES\nCommunication\nPhilosophy\nReligion\nHistory\nGeography\nWorld Languages\nEnglish\nStudent Success\nArt\nMusic\nTheater
URL:https://bergen.edu/event/adjunct-job-fair/
LOCATION:Technology Education Center
END:VEVENT
BEGIN:VEVENT
DTSTART;TZID=America/New_York:20220609T170000
DTEND;TZID=America/New_York:20220609T180000
DTSTAMP:20260421T170044
CREATED:20220518T143323Z
LAST-MODIFIED:20220518T143444Z
UID:22325-1654794000-1654797600@bergen.edu
SUMMARY:Virtual Admissions Information Session
DESCRIPTION:Attend this virtual admissions information session to learn everything you need to know about the admissions process. Meet with an Admissions Counselor for a presentation and to have your questions answered. \nRSVP HERE
URL:https://bergen.edu/event/virtual-admissions-information-session-3/
LOCATION:Virtual Campus
CATEGORIES:Admissions,Info Session,Virtual Life
ORGANIZER;CN="Admissions Department":MAILTO:admissions@bergen.edu
END:VEVENT
BEGIN:VEVENT
DTSTART;TZID=America/New_York:20220616T150000
DTEND;TZID=America/New_York:20220616T160000
DTSTAMP:20260421T170044
CREATED:20220615T134813Z
LAST-MODIFIED:20220615T134813Z
UID:22484-1655391600-1655395200@bergen.edu
SUMMARY:Paramus Campus Tour
DESCRIPTION:Join us for a student led campus tour of the Paramus campus.  Tours are approximately 1 hour and will leave from the Information Desk in the Pitkin Education Center. \nOur address: 400 Paramus Road\, Paramus\, NJ 07652 \nRSVP HERE \n 
URL:https://bergen.edu/event/paramus-campus-tour/
LOCATION:Pitkin Educational Center
CATEGORIES:Admissions
ORGANIZER;CN="Admissions Department":MAILTO:admissions@bergen.edu
END:VEVENT
BEGIN:VEVENT
DTSTART;TZID=America/New_York:20220621T150000
DTEND;TZID=America/New_York:20220621T160000
DTSTAMP:20260421T170044
CREATED:20220615T134831Z
LAST-MODIFIED:20220615T134831Z
UID:22486-1655823600-1655827200@bergen.edu
SUMMARY:Paramus Campus Tour
DESCRIPTION:Join us for a student led campus tour of our main campus in Paramus.   Tours last approximately 1 hour and you can check in at the Information Desk at the Pitkin Education Center. \nAddress: 400 Paramus Road\, Paramus\, NJ 07652 \nRSVP HERE
URL:https://bergen.edu/event/paramus-campus-tour-2/
LOCATION:Pitkin Educational Center
CATEGORIES:Admissions
ORGANIZER;CN="Admissions Department":MAILTO:admissions@bergen.edu
END:VEVENT
BEGIN:VEVENT
DTSTART;TZID=America/New_York:20220621T170000
DTEND;TZID=America/New_York:20220621T183000
DTSTAMP:20260421T170044
CREATED:20220518T143406Z
LAST-MODIFIED:20220518T143406Z
UID:22331-1655830800-1655836200@bergen.edu
SUMMARY:On Campus Admissions Information Session
DESCRIPTION:Attend this on campus Admissions information session to learn everything you need to know about the general admissions process. Meet with an Admissions Counselor for a presentation\, campus tour\, and have your questions answered. \nRSVP HERE
URL:https://bergen.edu/event/on-campus-admissions-information-session-2/
LOCATION:Pitkin Educational Center
CATEGORIES:Admissions,Info Session
ORGANIZER;CN="Admissions Department":MAILTO:admissions@bergen.edu
END:VEVENT
BEGIN:VEVENT
DTSTART;TZID=America/New_York:20220623T080000
DTEND;TZID=America/New_York:20220623T170000
DTSTAMP:20260421T170044
CREATED:20220216T164825Z
LAST-MODIFIED:20220216T171054Z
UID:21469-1655971200-1656003600@bergen.edu
SUMMARY:Summer 1 Ends
DESCRIPTION:
URL:https://bergen.edu/event/summer-1-ends-2/
CATEGORIES:Academic Calendar
END:VEVENT
BEGIN:VEVENT
DTSTART;TZID=America/New_York:20220623T150000
DTEND;TZID=America/New_York:20220623T160000
DTSTAMP:20260421T170044
CREATED:20220615T135124Z
LAST-MODIFIED:20220615T135124Z
UID:22487-1655996400-1656000000@bergen.edu
SUMMARY:Paramus Campus Tour
DESCRIPTION:Join us for a student led campus tour of our main campus in Paramus.   Tours last approximately 1 hour and you can check in at the Information Desk at the Pitkin Education Center. \nAddress: 400 Paramus Road\, Paramus\, NJ 07652 \nRSVP HERE
URL:https://bergen.edu/event/paramus-campus-tour-3/
LOCATION:Pitkin Educational Center
CATEGORIES:Admissions
ORGANIZER;CN="Admissions Department":MAILTO:admissions@bergen.edu
END:VEVENT
BEGIN:VEVENT
DTSTART;VALUE=DATE:20220627
DTEND;VALUE=DATE:20220628
DTSTAMP:20260421T170044
CREATED:20220216T171108Z
LAST-MODIFIED:20220216T171108Z
UID:21470-1656288000-1656374399@bergen.edu
SUMMARY:Summer 2 begins
DESCRIPTION:
URL:https://bergen.edu/event/summer-2-begins-3/
CATEGORIES:Academic Calendar
END:VEVENT
BEGIN:VEVENT
DTSTART;TZID=America/New_York:20220628T150000
DTEND;TZID=America/New_York:20220628T160000
DTSTAMP:20260421T170044
CREATED:20220615T135152Z
LAST-MODIFIED:20220615T135152Z
UID:22489-1656428400-1656432000@bergen.edu
SUMMARY:Paramus Campus Tour
DESCRIPTION:Join us for a student led campus tour of our main campus in Paramus. Tours last approximately 1 hour and you can check in at the Information Desk at the Pitkin Education Center. \nAddress: 400 Paramus Road\, Paramus\, NJ 07652 \nRSVP HERE
URL:https://bergen.edu/event/paramus-campus-tour-4/
LOCATION:Pitkin Educational Center
CATEGORIES:Admissions
ORGANIZER;CN="Admissions Department":MAILTO:admissions@bergen.edu
END:VEVENT
BEGIN:VEVENT
DTSTART;TZID=America/New_York:20220630T150000
DTEND;TZID=America/New_York:20220630T160000
DTSTAMP:20260421T170044
CREATED:20220615T135249Z
LAST-MODIFIED:20220615T135403Z
UID:22490-1656601200-1656604800@bergen.edu
SUMMARY:Paramus Campus Tour
DESCRIPTION:Join us for a student led campus tour of our main campus in Paramus. Tours last approximately 1 hour and you can check in at the Information Desk at the Pitkin Education Center. \nAddress: 400 Paramus Road\, Paramus\, NJ 07652 \nRSVP HERE
URL:https://bergen.edu/event/paramus-campus-tour-5/
LOCATION:Pitkin Educational Center
CATEGORIES:Admissions
ORGANIZER;CN="Admissions Department":MAILTO:admissions@bergen.edu
END:VEVENT
END:VCALENDAR