BEGIN:VCALENDAR
VERSION:2.0
PRODID:-//Bergen Community College - ECPv6.15.15//NONSGML v1.0//EN
CALSCALE:GREGORIAN
METHOD:PUBLISH
X-ORIGINAL-URL:https://bergen.edu
X-WR-CALDESC:Events for Bergen Community College
REFRESH-INTERVAL;VALUE=DURATION:PT1H
X-Robots-Tag:noindex
X-PUBLISHED-TTL:PT1H
BEGIN:VTIMEZONE
TZID:America/New_York
BEGIN:DAYLIGHT
TZOFFSETFROM:-0500
TZOFFSETTO:-0400
TZNAME:EDT
DTSTART:20210314T070000
END:DAYLIGHT
BEGIN:STANDARD
TZOFFSETFROM:-0400
TZOFFSETTO:-0500
TZNAME:EST
DTSTART:20211107T060000
END:STANDARD
BEGIN:DAYLIGHT
TZOFFSETFROM:-0500
TZOFFSETTO:-0400
TZNAME:EDT
DTSTART:20220313T070000
END:DAYLIGHT
BEGIN:STANDARD
TZOFFSETFROM:-0400
TZOFFSETTO:-0500
TZNAME:EST
DTSTART:20221106T060000
END:STANDARD
BEGIN:DAYLIGHT
TZOFFSETFROM:-0500
TZOFFSETTO:-0400
TZNAME:EDT
DTSTART:20230312T070000
END:DAYLIGHT
BEGIN:STANDARD
TZOFFSETFROM:-0400
TZOFFSETTO:-0500
TZNAME:EST
DTSTART:20231105T060000
END:STANDARD
END:VTIMEZONE
BEGIN:VEVENT
DTSTART;TZID=America/New_York:20220704T080000
DTEND;TZID=America/New_York:20220704T170000
DTSTAMP:20260423T200957
CREATED:20220216T171135Z
LAST-MODIFIED:20220216T171135Z
UID:21471-1656921600-1656954000@bergen.edu
SUMMARY:Holiday (Observed)- College Closed
DESCRIPTION:
URL:https://bergen.edu/event/holiday-observed-college-closed-2/
CATEGORIES:Academic Calendar
END:VEVENT
BEGIN:VEVENT
DTSTART;TZID=America/New_York:20220705T150000
DTEND;TZID=America/New_York:20220705T160000
DTSTAMP:20260423T200957
CREATED:20220630T171214Z
LAST-MODIFIED:20220630T171214Z
UID:22570-1657033200-1657036800@bergen.edu
SUMMARY:Paramus Campus Tour
DESCRIPTION:Join us for a student led campus tour of our main campus in Paramus. Tours last approximately 1 hour and you can check in at the Information Desk at the Pitkin Education Center. \nRSVP HERE
URL:https://bergen.edu/event/paramus-campus-tour-6/
LOCATION:Pitkin Educational Center
CATEGORIES:Admissions
ORGANIZER;CN="Admissions Department":MAILTO:admissions@bergen.edu
END:VEVENT
BEGIN:VEVENT
DTSTART;TZID=America/New_York:20220707T150000
DTEND;TZID=America/New_York:20220707T160000
DTSTAMP:20260423T200957
CREATED:20220630T171232Z
LAST-MODIFIED:20220630T171232Z
UID:22575-1657206000-1657209600@bergen.edu
SUMMARY:Paramus Campus Tour
DESCRIPTION:Join us for a student led campus tour of our main campus in Paramus. Tours last approximately 1 hour and you can check in at the Information Desk at the Pitkin Education Center. \nRSVP HERE
URL:https://bergen.edu/event/paramus-campus-tour-7/
LOCATION:Pitkin Educational Center
CATEGORIES:Admissions
ORGANIZER;CN="Admissions Department":MAILTO:admissions@bergen.edu
END:VEVENT
BEGIN:VEVENT
DTSTART;TZID=America/New_York:20220712T150000
DTEND;TZID=America/New_York:20220712T160000
DTSTAMP:20260423T200957
CREATED:20220630T171251Z
LAST-MODIFIED:20220630T171251Z
UID:22576-1657638000-1657641600@bergen.edu
SUMMARY:Paramus Campus Tour
DESCRIPTION:Join us for a student led campus tour of our main campus in Paramus. Tours last approximately 1 hour and you can check in at the Information Desk at the Pitkin Education Center. \nRSVP HERE
URL:https://bergen.edu/event/paramus-campus-tour-8/
LOCATION:Pitkin Educational Center
CATEGORIES:Admissions
ORGANIZER;CN="Admissions Department":MAILTO:admissions@bergen.edu
END:VEVENT
BEGIN:VEVENT
DTSTART;TZID=America/New_York:20220713T170000
DTEND;TZID=America/New_York:20220713T183000
DTSTAMP:20260423T200957
CREATED:20220622T151338Z
LAST-MODIFIED:20220622T151338Z
UID:22541-1657731600-1657737000@bergen.edu
SUMMARY:On Campus Information Session
DESCRIPTION:Attend this on campus Admissions information session to learn everything you need to know about the general admissions process. Meet with an Admissions Counselor for a presentation\, campus tour\, and have your questions answered. \nRSVP HERE
URL:https://bergen.edu/event/on-campus-information-session/
LOCATION:Pitkin Educational Center
CATEGORIES:Admissions,Info Session
ORGANIZER;CN="Admissions Department":MAILTO:admissions@bergen.edu
END:VEVENT
BEGIN:VEVENT
DTSTART;TZID=America/New_York:20220714T150000
DTEND;TZID=America/New_York:20220714T160000
DTSTAMP:20260423T200957
CREATED:20220630T171359Z
LAST-MODIFIED:20220630T171359Z
UID:22577-1657810800-1657814400@bergen.edu
SUMMARY:Paramus Campus Tour
DESCRIPTION:Join us for a student led campus tour of our main campus in Paramus. Tours last approximately 1 hour and you can check in at the Information Desk at the Pitkin Education Center. \nRSVP HERE
URL:https://bergen.edu/event/paramus-campus-tour-9/
LOCATION:Pitkin Educational Center
CATEGORIES:Admissions
ORGANIZER;CN="Admissions Department":MAILTO:admissions@bergen.edu
END:VEVENT
BEGIN:VEVENT
DTSTART;TZID=America/New_York:20220719T150000
DTEND;TZID=America/New_York:20220719T160000
DTSTAMP:20260423T200957
CREATED:20220711T152905Z
LAST-MODIFIED:20220711T152905Z
UID:22588-1658242800-1658246400@bergen.edu
SUMMARY:Paramus Campus Tour
DESCRIPTION:Join us for a student led campus tour of our main campus in Paramus. Tours last approximately 1 hour and you can check in at the Information Desk at the Pitkin Education Center. \nRSVP HERE
URL:https://bergen.edu/event/paramus-campus-tour-10/
LOCATION:Pitkin Educational Center
CATEGORIES:Admissions
ORGANIZER;CN="Admissions Department":MAILTO:admissions@bergen.edu
END:VEVENT
BEGIN:VEVENT
DTSTART;TZID=America/New_York:20220719T170000
DTEND;TZID=America/New_York:20220719T180000
DTSTAMP:20260423T200957
CREATED:20220622T151402Z
LAST-MODIFIED:20220622T151527Z
UID:22542-1658250000-1658253600@bergen.edu
SUMMARY:Virtual Information Session
DESCRIPTION:Attend this virtual admissions information session to learn everything you need to know about the admissions process. Meet with an Admissions Counselor for a presentation and to have your questions answered. \nRSVP HERE
URL:https://bergen.edu/event/virtual-information-session/
LOCATION:Virtual Campus
CATEGORIES:Admissions,Info Session,Virtual Life
ORGANIZER;CN="Admissions Department":MAILTO:admissions@bergen.edu
END:VEVENT
BEGIN:VEVENT
DTSTART;TZID=America/New_York:20220721T150000
DTEND;TZID=America/New_York:20220721T160000
DTSTAMP:20260423T200957
CREATED:20220711T153215Z
LAST-MODIFIED:20220711T153215Z
UID:22589-1658415600-1658419200@bergen.edu
SUMMARY:Paramus Campus Tour
DESCRIPTION:Join us for a student led campus tour of our main campus in Paramus. Tours last approximately 1 hour and you can check in at the Information Desk at the Pitkin Education Center. \nRSVSP HERE
URL:https://bergen.edu/event/paramus-campus-tour-11/
LOCATION:Pitkin Educational Center
CATEGORIES:Admissions
ORGANIZER;CN="Admissions Department":MAILTO:admissions@bergen.edu
END:VEVENT
BEGIN:VEVENT
DTSTART;TZID=America/New_York:20220726T150000
DTEND;TZID=America/New_York:20220726T160000
DTSTAMP:20260423T200957
CREATED:20220711T153229Z
LAST-MODIFIED:20220711T153229Z
UID:22590-1658847600-1658851200@bergen.edu
SUMMARY:Paramus Campus Tour
DESCRIPTION:Join us for a student led campus tour of our main campus in Paramus. Tours last approximately 1 hour and you can check in at the Information Desk at the Pitkin Education Center. \nRSVP HERE
URL:https://bergen.edu/event/paramus-campus-tour-12/
LOCATION:Pitkin Educational Center
CATEGORIES:Admissions
ORGANIZER;CN="Admissions Department":MAILTO:admissions@bergen.edu
END:VEVENT
BEGIN:VEVENT
DTSTART;TZID=America/New_York:20220728T150000
DTEND;TZID=America/New_York:20220728T160000
DTSTAMP:20260423T200957
CREATED:20220711T153243Z
LAST-MODIFIED:20220711T153243Z
UID:22591-1659020400-1659024000@bergen.edu
SUMMARY:Paramus Campus Tour
DESCRIPTION:Join us for a student led campus tour of our main campus in Paramus. Tours last approximately 1 hour and you can check in at the Information Desk at the Pitkin Education Center. \nRSVP HERE
URL:https://bergen.edu/event/paramus-campus-tour-13/
LOCATION:Pitkin Educational Center
CATEGORIES:Admissions
ORGANIZER;CN="Admissions Department":MAILTO:admissions@bergen.edu
END:VEVENT
END:VCALENDAR