BEGIN:VCALENDAR
VERSION:2.0
PRODID:-//Bergen Community College - ECPv6.15.15//NONSGML v1.0//EN
CALSCALE:GREGORIAN
METHOD:PUBLISH
X-ORIGINAL-URL:https://bergen.edu
X-WR-CALDESC:Events for Bergen Community College
REFRESH-INTERVAL;VALUE=DURATION:PT1H
X-Robots-Tag:noindex
X-PUBLISHED-TTL:PT1H
BEGIN:VTIMEZONE
TZID:America/New_York
BEGIN:DAYLIGHT
TZOFFSETFROM:-0500
TZOFFSETTO:-0400
TZNAME:EDT
DTSTART:20220313T070000
END:DAYLIGHT
BEGIN:STANDARD
TZOFFSETFROM:-0400
TZOFFSETTO:-0500
TZNAME:EST
DTSTART:20221106T060000
END:STANDARD
BEGIN:DAYLIGHT
TZOFFSETFROM:-0500
TZOFFSETTO:-0400
TZNAME:EDT
DTSTART:20230312T070000
END:DAYLIGHT
BEGIN:STANDARD
TZOFFSETFROM:-0400
TZOFFSETTO:-0500
TZNAME:EST
DTSTART:20231105T060000
END:STANDARD
BEGIN:DAYLIGHT
TZOFFSETFROM:-0500
TZOFFSETTO:-0400
TZNAME:EDT
DTSTART:20240310T070000
END:DAYLIGHT
BEGIN:STANDARD
TZOFFSETFROM:-0400
TZOFFSETTO:-0500
TZNAME:EST
DTSTART:20241103T060000
END:STANDARD
END:VTIMEZONE
BEGIN:VEVENT
DTSTART;TZID=America/New_York:20230801T160000
DTEND;TZID=America/New_York:20230801T180000
DTSTAMP:20260420T093503
CREATED:20230522T155619Z
LAST-MODIFIED:20230522T155703Z
UID:25638-1690905600-1690912800@bergen.edu
SUMMARY:Accuplacer Study Group (L125)
DESCRIPTION:Need help brushing up on arithmetic\, algebra\, or quantitative reasoning before taking the placement exam? Come to the Tutoring Center’s Accuplacer Study Group! \nArithmetic Sessions \nTuesdays & Thursdays 4:00-5:00 pm in L-125 (Tutoring Center\, Study Group Room L-106) \nAlgebra & Quantitative Reasoning Sessions \nTuesdays and Thursdays 5:00-6:00 pm in L-125 (Tutoring Center\, Study Group Room L-106)
URL:https://bergen.edu/event/accuplacer-study-group-l125-21/
LOCATION:Pitkin Educational Center
CATEGORIES:Tutoring
ORGANIZER;CN="Tutoring Center":MAILTO:tutoring@bergen.edu
END:VEVENT
BEGIN:VEVENT
DTSTART;TZID=America/New_York:20230803T110000
DTEND;TZID=America/New_York:20230803T123000
DTSTAMP:20260420T093503
CREATED:20230706T132534Z
LAST-MODIFIED:20230706T132534Z
UID:26155-1691060400-1691065800@bergen.edu
SUMMARY:Campus Tour & Information Session
DESCRIPTION:Join us for a student-led campus tour followed by an Admissions Information Session. Tours and information sessions will last approximately 1.5 hours. Please check in at the Information Desk in the Pitkin Education Center. \nREGISTER HERE
URL:https://bergen.edu/event/campus-tour-information-session-11/
LOCATION:Pitkin Educational Center
CATEGORIES:Admissions,Info Session
ORGANIZER;CN="Admissions Department":MAILTO:admissions@bergen.edu
END:VEVENT
BEGIN:VEVENT
DTSTART;TZID=America/New_York:20230803T160000
DTEND;TZID=America/New_York:20230803T173000
DTSTAMP:20260420T093503
CREATED:20230706T181629Z
LAST-MODIFIED:20230706T181629Z
UID:26175-1691078400-1691083800@bergen.edu
SUMMARY:NJ STARS Summer Orientation Workshop S-117
DESCRIPTION:At NJ STARS Summer Orientation Workshops\, students will log into a computer and access their student portals.  The NJ STARS Representative will review everything to ensure that all steps are complete so they can sign their NJ STARS Application/Contract to be certified as NJ STARS students.  Guests are welcome.
URL:https://bergen.edu/event/nj-stars-summer-orientation-workshop-s-117-3/
LOCATION:Pitkin Educational Center
END:VEVENT
BEGIN:VEVENT
DTSTART;TZID=America/New_York:20230803T160000
DTEND;TZID=America/New_York:20230803T180000
DTSTAMP:20260420T093503
CREATED:20230522T155735Z
LAST-MODIFIED:20230522T155735Z
UID:25639-1691078400-1691085600@bergen.edu
SUMMARY:Accuplacer Study Group (L125)
DESCRIPTION:Need help brushing up on arithmetic\, algebra\, or quantitative reasoning before taking the placement exam? Come to the Tutoring Center’s Accuplacer Study Group! \nArithmetic Sessions \nTuesdays & Thursdays 4:00-5:00 pm in L-125 (Tutoring Center\, Study Group Room L-106) \nAlgebra & Quantitative Reasoning Sessions \nTuesdays and Thursdays 5:00-6:00 pm in L-125 (Tutoring Center\, Study Group Room L-106)
URL:https://bergen.edu/event/accuplacer-study-group-l125-22/
LOCATION:Pitkin Educational Center
CATEGORIES:Tutoring
ORGANIZER;CN="Tutoring Center":MAILTO:tutoring@bergen.edu
END:VEVENT
BEGIN:VEVENT
DTSTART;VALUE=DATE:20230807
DTEND;VALUE=DATE:20230808
DTSTAMP:20260420T093503
CREATED:20220921T172847Z
LAST-MODIFIED:20220921T194255Z
UID:23156-1691366400-1691452799@bergen.edu
SUMMARY:Summer U- Ends
DESCRIPTION:
URL:https://bergen.edu/event/summer-u-ends/
CATEGORIES:Academic Calendar
END:VEVENT
BEGIN:VEVENT
DTSTART;TZID=America/New_York:20230808T150000
DTEND;TZID=America/New_York:20230808T163000
DTSTAMP:20260420T093503
CREATED:20230731T202648Z
LAST-MODIFIED:20230731T202648Z
UID:26350-1691506800-1691512200@bergen.edu
SUMMARY:Campus Tour & Information Session
DESCRIPTION:Join us for a student-led campus tour followed by an Admissions Information Session. Tours and information sessions will last approximately 1.5 hours. Please check in at the Information Desk in the Pitkin Education Center. \nREGISTER HERE
URL:https://bergen.edu/event/campus-tour-information-session-12/
LOCATION:Pitkin Educational Center
CATEGORIES:Admissions,Info Session
ORGANIZER;CN="Admissions Department":MAILTO:admissions@bergen.edu
END:VEVENT
BEGIN:VEVENT
DTSTART;TZID=America/New_York:20230808T160000
DTEND;TZID=America/New_York:20230808T180000
DTSTAMP:20260420T093503
CREATED:20230522T155810Z
LAST-MODIFIED:20230522T155810Z
UID:25640-1691510400-1691517600@bergen.edu
SUMMARY:Accuplacer Study Group (L125)
DESCRIPTION:Need help brushing up on arithmetic\, algebra\, or quantitative reasoning before taking the placement exam? Come to the Tutoring Center’s Accuplacer Study Group! \nArithmetic Sessions \nTuesdays & Thursdays 4:00-5:00 pm in L-125 (Tutoring Center\, Study Group Room L-106) \nAlgebra & Quantitative Reasoning Sessions \nTuesdays and Thursdays 5:00-6:00 pm in L-125 (Tutoring Center\, Study Group Room L-106)
URL:https://bergen.edu/event/accuplacer-study-group-l125-23/
LOCATION:Pitkin Educational Center
CATEGORIES:Tutoring
ORGANIZER;CN="Tutoring Center":MAILTO:tutoring@bergen.edu
END:VEVENT
BEGIN:VEVENT
DTSTART;VALUE=DATE:20230809
DTEND;VALUE=DATE:20230810
DTSTAMP:20260420T093503
CREATED:20220921T172924Z
LAST-MODIFIED:20220921T194330Z
UID:23157-1691539200-1691625599@bergen.edu
SUMMARY:Summer 2- Ends
DESCRIPTION:
URL:https://bergen.edu/event/summer-2-ends/
CATEGORIES:Academic Calendar
END:VEVENT
BEGIN:VEVENT
DTSTART;VALUE=DATE:20230810
DTEND;VALUE=DATE:20230811
DTSTAMP:20260420T093503
CREATED:20220921T172942Z
LAST-MODIFIED:20220921T172942Z
UID:23158-1691625600-1691711999@bergen.edu
SUMMARY:Summer 3 -Begins
DESCRIPTION:
URL:https://bergen.edu/event/summer-3-begins-4/
CATEGORIES:Academic Calendar
END:VEVENT
BEGIN:VEVENT
DTSTART;TZID=America/New_York:20230815T140000
DTEND;TZID=America/New_York:20230815T153000
DTSTAMP:20260420T093503
CREATED:20230706T193834Z
LAST-MODIFIED:20230706T193834Z
UID:26176-1692108000-1692113400@bergen.edu
SUMMARY:NJ STARS Summer Orientation Workshop S-117
DESCRIPTION:At NJ STARS Summer Orientation Workshops\, students will log into a computer and access their student portals.  The NJ STARS Representative will review everything to ensure that all steps are complete so they can sign their NJ STARS Application/Contract to be certified as NJ STARS students.  Guests are welcome.
URL:https://bergen.edu/event/nj-stars-summer-orientation-workshop-s-117-5/
LOCATION:Pitkin Educational Center
END:VEVENT
BEGIN:VEVENT
DTSTART;TZID=America/New_York:20230815T150000
DTEND;TZID=America/New_York:20230815T163000
DTSTAMP:20260420T093503
CREATED:20230731T202951Z
LAST-MODIFIED:20230731T202951Z
UID:26351-1692111600-1692117000@bergen.edu
SUMMARY:Campus Tour & Information Session
DESCRIPTION:Join us for a student-led campus tour followed by an Admissions Information Session. Tours and information sessions will last approximately 1.5 hours. Please check in at the Information Desk in the Pitkin Education Center. \nREGISTER HERE
URL:https://bergen.edu/event/campus-tour-information-session-13/
LOCATION:Pitkin Educational Center
CATEGORIES:Admissions,Info Session
ORGANIZER;CN="Admissions Department":MAILTO:admissions@bergen.edu
END:VEVENT
BEGIN:VEVENT
DTSTART;TZID=America/New_York:20230823T140000
DTEND;TZID=America/New_York:20230823T160000
DTSTAMP:20260420T093503
CREATED:20230713T135618Z
LAST-MODIFIED:20230713T174100Z
UID:26191-1692799200-1692806400@bergen.edu
SUMMARY:Health Profession Information Session
DESCRIPTION:Meet members of the Health Professions faculty and admissions representatives who are ready to answer your questions and provide important program information for all students interested in Health Professions careers. \nEvents begin promptly and include a general overview presentation\, followed by specific program breakout sessions. Participants should plan to arrive early. \nREGISTER HERE
URL:https://bergen.edu/event/health-profession-information-session-2/
LOCATION:Health Professions Building
CATEGORIES:Admissions,Health Professions Admissions,Info Session
ORGANIZER;CN="Health Professions Department":MAILTO:hpadmissions@bergen.edu
END:VEVENT
BEGIN:VEVENT
DTSTART;TZID=America/New_York:20230824T150000
DTEND;TZID=America/New_York:20230824T163000
DTSTAMP:20260420T093503
CREATED:20230731T203008Z
LAST-MODIFIED:20230731T203008Z
UID:26352-1692889200-1692894600@bergen.edu
SUMMARY:Campus Tour & Information Session
DESCRIPTION:Join us for a student-led campus tour followed by an Admissions Information Session. Tours and information sessions will last approximately 1.5 hours. Please check in at the Information Desk in the Pitkin Education Center. \nREGISTER HERE
URL:https://bergen.edu/event/campus-tour-information-session-14/
LOCATION:Pitkin Educational Center
CATEGORIES:Admissions,Info Session
ORGANIZER;CN="Admissions Department":MAILTO:admissions@bergen.edu
END:VEVENT
BEGIN:VEVENT
DTSTART;VALUE=DATE:20230828
DTEND;VALUE=DATE:20230829
DTSTAMP:20260420T093503
CREATED:20220921T172348Z
LAST-MODIFIED:20220921T172348Z
UID:23159-1693180800-1693267199@bergen.edu
SUMMARY:Summer 3- Ends
DESCRIPTION:
URL:https://bergen.edu/event/summer-3-ends-4/
CATEGORIES:Academic Calendar
END:VEVENT
BEGIN:VEVENT
DTSTART;TZID=America/New_York:20230829T150000
DTEND;TZID=America/New_York:20230829T163000
DTSTAMP:20260420T093503
CREATED:20230801T142359Z
LAST-MODIFIED:20230801T142359Z
UID:26360-1693321200-1693326600@bergen.edu
SUMMARY:Campus Tour & Info Session - *Offered Fully in Spanish*
DESCRIPTION:Join us for a student-led campus tour followed by an Admissions Information Session. Tours and information sessions will last approximately 1.5 hours. Please check in at the Information Desk in the Pitkin Education Center. \nREGISTER HERE
URL:https://bergen.edu/event/campus-tour-info-session-offered-fully-in-spanish/
LOCATION:Pitkin Educational Center
CATEGORIES:Admissions,Info Session
ORGANIZER;CN="Admissions Department":MAILTO:admissions@bergen.edu
END:VEVENT
BEGIN:VEVENT
DTSTART;TZID=America/New_York:20230830T150000
DTEND;TZID=America/New_York:20230830T163000
DTSTAMP:20260420T093503
CREATED:20230706T181758Z
LAST-MODIFIED:20230706T181758Z
UID:26177-1693407600-1693413000@bergen.edu
SUMMARY:NJ STARS Summer Orientation Workshop S-117
DESCRIPTION:At NJ STARS Summer Orientation Workshops\, students will log into a computer and access their student portals.  The NJ STARS Representative will review everything to ensure that all steps are complete so they can sign their NJ STARS Application/Contract to be certified as NJ STARS students.  Guests are welcome.
URL:https://bergen.edu/event/nj-stars-summer-orientation-workshop-s-117-4/
LOCATION:Pitkin Educational Center
END:VEVENT
END:VCALENDAR