BEGIN:VCALENDAR
VERSION:2.0
PRODID:-//Bergen Community College - ECPv6.15.15//NONSGML v1.0//EN
CALSCALE:GREGORIAN
METHOD:PUBLISH
X-ORIGINAL-URL:https://bergen.edu
X-WR-CALDESC:Events for Bergen Community College
REFRESH-INTERVAL;VALUE=DURATION:PT1H
X-Robots-Tag:noindex
X-PUBLISHED-TTL:PT1H
BEGIN:VTIMEZONE
TZID:America/New_York
BEGIN:DAYLIGHT
TZOFFSETFROM:-0500
TZOFFSETTO:-0400
TZNAME:EDT
DTSTART:20230312T070000
END:DAYLIGHT
BEGIN:STANDARD
TZOFFSETFROM:-0400
TZOFFSETTO:-0500
TZNAME:EST
DTSTART:20231105T060000
END:STANDARD
BEGIN:DAYLIGHT
TZOFFSETFROM:-0500
TZOFFSETTO:-0400
TZNAME:EDT
DTSTART:20240310T070000
END:DAYLIGHT
BEGIN:STANDARD
TZOFFSETFROM:-0400
TZOFFSETTO:-0500
TZNAME:EST
DTSTART:20241103T060000
END:STANDARD
BEGIN:DAYLIGHT
TZOFFSETFROM:-0500
TZOFFSETTO:-0400
TZNAME:EDT
DTSTART:20250309T070000
END:DAYLIGHT
BEGIN:STANDARD
TZOFFSETFROM:-0400
TZOFFSETTO:-0500
TZNAME:EST
DTSTART:20251102T060000
END:STANDARD
END:VTIMEZONE
BEGIN:VEVENT
DTSTART;TZID=America/New_York:20241102T140000
DTEND;TZID=America/New_York:20241102T140000
DTSTAMP:20260419T142026
CREATED:20241014T134445Z
LAST-MODIFIED:20241014T134445Z
UID:39141-1730556000-1730556000@bergen.edu
SUMMARY:BICA and Bergenstages present “Harvey”
DESCRIPTION:The Bergen Institute for the Creative Arts presents the Bergenstages production of “Harvey.” The story follows a young woman named Veta whose brother sees an imaginary rabbit named Harvey. The situation causes Veta trouble when she tries to commit her brother to save her family any embarrassment. \nFollow Veta’s intense journey by purchasing tickets at tickets.bergen.edu. For more information\, call the box office at 201-447-7428.
URL:https://bergen.edu/event/bica-and-bergenstages-present-harvey-7/
LOCATION:Ender Hall
ATTACH;FMTTYPE=image/jpeg:https://bergen.edu/wp-content/uploads/bergenstages-harvey-cicconetickets.jpg
END:VEVENT
BEGIN:VEVENT
DTSTART;TZID=America/New_York:20241102T193000
DTEND;TZID=America/New_York:20241102T193000
DTSTAMP:20260419T142026
CREATED:20241014T134302Z
LAST-MODIFIED:20241014T134302Z
UID:39139-1730575800-1730575800@bergen.edu
SUMMARY:BICA and Bergenstages present “Harvey”
DESCRIPTION:The Bergen Institute for the Creative Arts presents the Bergenstages production of “Harvey.” The story follows a young woman named Veta whose brother sees an imaginary rabbit named Harvey. The situation causes Veta trouble when she tries to commit her brother to save her family any embarrassment. \nFollow Veta’s intense journey by purchasing tickets at tickets.bergen.edu. For more information\, call the box office at 201-447-7428.
URL:https://bergen.edu/event/bica-and-bergenstages-present-harvey-5/
LOCATION:Ender Hall
ATTACH;FMTTYPE=image/jpeg:https://bergen.edu/wp-content/uploads/bergenstages-harvey-cicconetickets.jpg
END:VEVENT
END:VCALENDAR